BEGIN:VCALENDAR
VERSION:2.0
PRODID:-//jEvents 2.0 for Joomla//EN
CALSCALE:GREGORIAN
METHOD:PUBLISH
BEGIN:VTIMEZONE
TZID:Atlantic/Canary
BEGIN:STANDARD
DTSTART:20191212T200000
RDATE:20200329T020000
TZOFFSETFROM:+0100
TZOFFSETTO:+0000
TZNAME:Atlantic/Canary WET
END:STANDARD
BEGIN:STANDARD
DTSTART:20201025T010000
RDATE:20210328T020000
TZOFFSETFROM:+0100
TZOFFSETTO:+0000
TZNAME:Atlantic/Canary WET
END:STANDARD
BEGIN:STANDARD
DTSTART:20211031T010000
RDATE:20220327T020000
TZOFFSETFROM:+0100
TZOFFSETTO:+0000
TZNAME:Atlantic/Canary WET
END:STANDARD
BEGIN:STANDARD
DTSTART:20221030T010000
RDATE:20230326T020000
TZOFFSETFROM:+0100
TZOFFSETTO:+0000
TZNAME:Atlantic/Canary WET
END:STANDARD
BEGIN:STANDARD
DTSTART:20231029T010000
RDATE:20240331T020000
TZOFFSETFROM:+0100
TZOFFSETTO:+0000
TZNAME:Atlantic/Canary WET
END:STANDARD
BEGIN:DAYLIGHT
DTSTART:20200329T020000
RDATE:20201025T010000
TZOFFSETFROM:+0000
TZOFFSETTO:+0100
TZNAME:Atlantic/Canary WEST
END:DAYLIGHT
BEGIN:DAYLIGHT
DTSTART:20210328T020000
RDATE:20211031T010000
TZOFFSETFROM:+0000
TZOFFSETTO:+0100
TZNAME:Atlantic/Canary WEST
END:DAYLIGHT
BEGIN:DAYLIGHT
DTSTART:20220327T020000
RDATE:20221030T010000
TZOFFSETFROM:+0000
TZOFFSETTO:+0100
TZNAME:Atlantic/Canary WEST
END:DAYLIGHT
BEGIN:DAYLIGHT
DTSTART:20230326T020000
RDATE:20231029T010000
TZOFFSETFROM:+0000
TZOFFSETTO:+0100
TZNAME:Atlantic/Canary WEST
END:DAYLIGHT
END:VTIMEZONE
BEGIN:VEVENT
UID:9e45314605fbbb3d4b7ba72651e40683
CATEGORIES:Music, Holidays / Celebrations
CREATED:20201207T112541
SUMMARY:Concert by ‘La Local Jazz Band’ | Christmas Songs
LOCATION:Edificio Miller
DESCRIPTION;ENCODING=QUOTED-PRINTABLE:<p>The&nbsp;<strong>Local Jazz Band</strong>&nbsp;will present &ldquo;Jazz 
 Songs&rdquo;, a concert featuring some of the most emblematic pieces of jaz
 z for a very special evening out. The septet formation will allow them to r
 eview the sounds &amp; voices of different phases in its history.&nbsp;&nbs
 p;</p><p><strong>+ Info:&nbsp;</strong><a href="http://lpacultura.com/es/no
 ticias-fiestas/1425-jaime-urrutia-se-suma-a-la-programacion-navidena-en-la-
 sala-miller?fbclid=IwAR0a5rgbXZxMbOWoqX3KuIuqKlI9yPH555-LxbE6-RvOVxgQxs9-ho
 NMJFk"><strong>LPA Cultura</strong></a></p>
DTSTAMP:20260420T225254Z
DTSTART;TZID=Atlantic/Canary:20201212T200000
SEQUENCE:0
TRANSP:OPAQUE
END:VEVENT
END:VCALENDAR