BEGIN:VCALENDAR
VERSION:2.0
PRODID:-//jEvents 2.0 for Joomla//EN
CALSCALE:GREGORIAN
METHOD:PUBLISH
BEGIN:VTIMEZONE
TZID:Atlantic/Canary
BEGIN:STANDARD
DTSTART:20210321T190000
RDATE:20210328T020000
TZOFFSETFROM:+0100
TZOFFSETTO:+0000
TZNAME:Atlantic/Canary WET
END:STANDARD
BEGIN:STANDARD
DTSTART:20211031T010000
RDATE:20220327T020000
TZOFFSETFROM:+0100
TZOFFSETTO:+0000
TZNAME:Atlantic/Canary WET
END:STANDARD
BEGIN:STANDARD
DTSTART:20221030T010000
RDATE:20230326T020000
TZOFFSETFROM:+0100
TZOFFSETTO:+0000
TZNAME:Atlantic/Canary WET
END:STANDARD
BEGIN:STANDARD
DTSTART:20231029T010000
RDATE:20240331T020000
TZOFFSETFROM:+0100
TZOFFSETTO:+0000
TZNAME:Atlantic/Canary WET
END:STANDARD
BEGIN:DAYLIGHT
DTSTART:20210328T020000
RDATE:20211031T010000
TZOFFSETFROM:+0000
TZOFFSETTO:+0100
TZNAME:Atlantic/Canary WEST
END:DAYLIGHT
BEGIN:DAYLIGHT
DTSTART:20220327T020000
RDATE:20221030T010000
TZOFFSETFROM:+0000
TZOFFSETTO:+0100
TZNAME:Atlantic/Canary WEST
END:DAYLIGHT
BEGIN:DAYLIGHT
DTSTART:20230326T020000
RDATE:20231029T010000
TZOFFSETFROM:+0000
TZOFFSETTO:+0100
TZNAME:Atlantic/Canary WEST
END:DAYLIGHT
END:VTIMEZONE
BEGIN:VEVENT
UID:664cd01866aae765930c9b2fb92438f3
CATEGORIES:Audiovisual / Cinema
CREATED:20220303T140842
SUMMARY:Documentary of the month: “CURVY CREW” | ‘Filmoteca Canaria’
LOCATION:Teatro Guiniguada
DESCRIPTION;ENCODING=QUOTED-PRINTABLE:<p>The first time Christa climbed Kilimanjaro was the hardest thing she had
  ever done: it didn&rsquo;t sit right, she felt too slow, too fat. She wasn
 &rsquo;t able to reach the summit then. Years after she decided to finish w
 hat she had started; this time, with a group of 20 plus-sized women determi
 ned to conquer the African summit.&nbsp;&nbsp;</p><p>This is a documentary 
 that breaks from the stereotypes and puts social pressure in front of the m
 irror and the challenge of the self-acceptance suffered by people with a no
 n-normative body, by means of some intimate interviews.</p><p><strong>Limit
 ed attendance capacity</strong></p><p><strong>+ Info:&nbsp;</strong><a href
 ="h&lt;a href=">https://www3.gobiernodecanarias.org/cultura/ocio/teatroguin
 iguada/eventos/filmoteca-canaria-en-el-umbral/</a>"&gt;<strong>Teatro Guini
 guada</strong></p>
DTSTAMP:20260424T123713Z
DTSTART;TZID=Atlantic/Canary:20220322T190000
SEQUENCE:0
TRANSP:OPAQUE
END:VEVENT
END:VCALENDAR