BEGIN:VCALENDAR
VERSION:2.0
PRODID:-//jEvents 2.0 for Joomla//EN
CALSCALE:GREGORIAN
METHOD:PUBLISH
BEGIN:VTIMEZONE
TZID:Atlantic/Canary
BEGIN:STANDARD
DTSTART:20211031T010000
RDATE:20220327T020000
TZOFFSETFROM:+0100
TZOFFSETTO:+0000
TZNAME:Atlantic/Canary WET
END:STANDARD
BEGIN:STANDARD
DTSTART:20221030T010000
RDATE:20230326T020000
TZOFFSETFROM:+0100
TZOFFSETTO:+0000
TZNAME:Atlantic/Canary WET
END:STANDARD
BEGIN:STANDARD
DTSTART:20231029T010000
RDATE:20240331T020000
TZOFFSETFROM:+0100
TZOFFSETTO:+0000
TZNAME:Atlantic/Canary WET
END:STANDARD
BEGIN:DAYLIGHT
DTSTART:20211008T200000
RDATE:20211031T010000
TZOFFSETFROM:+0000
TZOFFSETTO:+0100
TZNAME:Atlantic/Canary WEST
END:DAYLIGHT
BEGIN:DAYLIGHT
DTSTART:20220327T020000
RDATE:20221030T010000
TZOFFSETFROM:+0000
TZOFFSETTO:+0100
TZNAME:Atlantic/Canary WEST
END:DAYLIGHT
BEGIN:DAYLIGHT
DTSTART:20230326T020000
RDATE:20231029T010000
TZOFFSETFROM:+0000
TZOFFSETTO:+0100
TZNAME:Atlantic/Canary WEST
END:DAYLIGHT
END:VTIMEZONE
BEGIN:VEVENT
UID:245c3d81b137b4ccfa23b1a178e56413
CATEGORIES:Music
CREATED:20220926T094628
SUMMARY:‘Fábrica Fest Plus’ | Jazz Among Friends - Sandra Ortega & Jurandir Santana “ALL AROUND THE WORLD”
LOCATION:Fábrica La Isleta
DESCRIPTION;ENCODING=QUOTED-PRINTABLE:<p><strong>&ldquo;All around the world&rdquo;</strong>&nbsp;has been the su
 m of the influences that have marked the musical career paths of these two 
 artists, producing as a result a fresh and cheerful stage production.</p><p
 ><strong>+ Info:</strong><a href="https://www.fabricaisleta.com/"><strong>&
 nbsp;F&aacute;brica La Isleta</strong></a></p>
DTSTAMP:20260419T193730Z
DTSTART;TZID=Atlantic/Canary:20221009T200000
SEQUENCE:0
TRANSP:OPAQUE
END:VEVENT
END:VCALENDAR