BEGIN:VCALENDAR
VERSION:2.0
PRODID:-//jEvents 2.0 for Joomla//EN
CALSCALE:GREGORIAN
METHOD:PUBLISH
BEGIN:VTIMEZONE
TZID:Atlantic/Canary
BEGIN:STANDARD
DTSTART:20211031T010000
RDATE:20220327T020000
TZOFFSETFROM:+0100
TZOFFSETTO:+0000
TZNAME:Atlantic/Canary WET
END:STANDARD
BEGIN:STANDARD
DTSTART:20221030T010000
RDATE:20230326T020000
TZOFFSETFROM:+0100
TZOFFSETTO:+0000
TZNAME:Atlantic/Canary WET
END:STANDARD
BEGIN:STANDARD
DTSTART:20231029T010000
RDATE:20240331T020000
TZOFFSETFROM:+0100
TZOFFSETTO:+0000
TZNAME:Atlantic/Canary WET
END:STANDARD
BEGIN:DAYLIGHT
DTSTART:20211027T210000
RDATE:20211031T010000
TZOFFSETFROM:+0000
TZOFFSETTO:+0100
TZNAME:Atlantic/Canary WEST
END:DAYLIGHT
BEGIN:DAYLIGHT
DTSTART:20220327T020000
RDATE:20221030T010000
TZOFFSETFROM:+0000
TZOFFSETTO:+0100
TZNAME:Atlantic/Canary WEST
END:DAYLIGHT
BEGIN:DAYLIGHT
DTSTART:20230326T020000
RDATE:20231029T010000
TZOFFSETFROM:+0000
TZOFFSETTO:+0100
TZNAME:Atlantic/Canary WEST
END:DAYLIGHT
END:VTIMEZONE
BEGIN:VEVENT
UID:6a280ca3ac453a8543f4f623c59c6698
CATEGORIES:Music
CREATED:20221005T103858
SUMMARY:‘Melendi’ – “Likes y cicatrices”
LOCATION:Gran Canaria Arena
DESCRIPTION;ENCODING=QUOTED-PRINTABLE:\n\n&lsquo;Melendi&rsquo; announce his tour of live concerts &ldquo;Likes y
  Cicatrices&rdquo;. This new concert tour will start in March in Mexico and
  arrive in Spain in May, the 7 May in Murcia to be precise, travelling all 
 over the country with more dates to be added soon.\n\n\n+ Info:&nbsp;Tomati
 cket\n
DTSTAMP:20260419T193604Z
DTSTART;TZID=Atlantic/Canary:20221028T210000
SEQUENCE:0
TRANSP:OPAQUE
END:VEVENT
END:VCALENDAR