BEGIN:VCALENDAR
VERSION:2.0
PRODID:-//jEvents 2.0 for Joomla//EN
CALSCALE:GREGORIAN
METHOD:PUBLISH
BEGIN:VTIMEZONE
TZID:Atlantic/Canary
BEGIN:STANDARD
DTSTART:20220216T211500
RDATE:20220327T020000
TZOFFSETFROM:+0100
TZOFFSETTO:+0000
TZNAME:Atlantic/Canary WET
END:STANDARD
BEGIN:STANDARD
DTSTART:20221030T010000
RDATE:20230326T020000
TZOFFSETFROM:+0100
TZOFFSETTO:+0000
TZNAME:Atlantic/Canary WET
END:STANDARD
BEGIN:STANDARD
DTSTART:20231029T010000
RDATE:20240331T020000
TZOFFSETFROM:+0100
TZOFFSETTO:+0000
TZNAME:Atlantic/Canary WET
END:STANDARD
BEGIN:DAYLIGHT
DTSTART:20220327T020000
RDATE:20221030T010000
TZOFFSETFROM:+0000
TZOFFSETTO:+0100
TZNAME:Atlantic/Canary WEST
END:DAYLIGHT
BEGIN:DAYLIGHT
DTSTART:20230326T020000
RDATE:20231029T010000
TZOFFSETFROM:+0000
TZOFFSETTO:+0100
TZNAME:Atlantic/Canary WEST
END:DAYLIGHT
END:VTIMEZONE
BEGIN:VEVENT
UID:33e134ca0d02b32e29cb4d87dbbc4c30
CATEGORIES:Music, Holidays / Celebrations
CREATED:20230123T100423
SUMMARY:Adult Dancing Troupes Contest | Las Palmas de Gran Canaria Carnival 2023
LOCATION:Parque de Santa Catalina
DESCRIPTION;ENCODING=QUOTED-PRINTABLE:<p>The &lsquo;Adult Dancing Troupes Contest&rsquo; is a Carnival icon. With
  their colourful costumes and to the dancing rhythm of &lsquo;batacudas&rsq
 uo; &amp; Latin music, the revelling troupes of dancers light up &amp; enli
 ven the streets as well as the settings of the festivities. The event start
 s at <strong>21:15 hours</strong>.</p><p>At the end of the contest the nigh
 t&rsquo;s entertainment will continue with a <strong>concert</strong> stage
 d at the same venue from <strong>23:55 hours </strong>onwards.</p><p><stron
 g>+ Info:&nbsp;</strong><a href="https://lpacarnaval.com/images/programa/pr
 ograma23.pdf"><strong>Carnaval Las Palmas de Gran Canaria</strong></a></p>
DTSTAMP:20260421T114018Z
DTSTART;TZID=Atlantic/Canary:20230217T211500
SEQUENCE:0
TRANSP:OPAQUE
END:VEVENT
END:VCALENDAR