BEGIN:VCALENDAR
VERSION:2.0
PRODID:-//jEvents 2.0 for Joomla//EN
CALSCALE:GREGORIAN
METHOD:PUBLISH
BEGIN:VTIMEZONE
TZID:Atlantic/Canary
BEGIN:STANDARD
DTSTART:20181028T010000
RDATE:20190331T020000
TZOFFSETFROM:+0100
TZOFFSETTO:+0000
TZNAME:Atlantic/Canary WET
END:STANDARD
BEGIN:STANDARD
DTSTART:20191027T010000
RDATE:20200329T020000
TZOFFSETFROM:+0100
TZOFFSETTO:+0000
TZNAME:Atlantic/Canary WET
END:STANDARD
BEGIN:STANDARD
DTSTART:20201025T010000
RDATE:20210328T020000
TZOFFSETFROM:+0100
TZOFFSETTO:+0000
TZNAME:Atlantic/Canary WET
END:STANDARD
BEGIN:STANDARD
DTSTART:20211031T010000
RDATE:20220327T020000
TZOFFSETFROM:+0100
TZOFFSETTO:+0000
TZNAME:Atlantic/Canary WET
END:STANDARD
BEGIN:STANDARD
DTSTART:20221030T010000
RDATE:20230326T020000
TZOFFSETFROM:+0100
TZOFFSETTO:+0000
TZNAME:Atlantic/Canary WET
END:STANDARD
BEGIN:STANDARD
DTSTART:20231029T010000
RDATE:20240331T020000
TZOFFSETFROM:+0100
TZOFFSETTO:+0000
TZNAME:Atlantic/Canary WET
END:STANDARD
BEGIN:DAYLIGHT
DTSTART:20180619T190000
RDATE:20181028T010000
TZOFFSETFROM:+0000
TZOFFSETTO:+0100
TZNAME:Atlantic/Canary WEST
END:DAYLIGHT
BEGIN:DAYLIGHT
DTSTART:20190331T020000
RDATE:20191027T010000
TZOFFSETFROM:+0000
TZOFFSETTO:+0100
TZNAME:Atlantic/Canary WEST
END:DAYLIGHT
BEGIN:DAYLIGHT
DTSTART:20200329T020000
RDATE:20201025T010000
TZOFFSETFROM:+0000
TZOFFSETTO:+0100
TZNAME:Atlantic/Canary WEST
END:DAYLIGHT
BEGIN:DAYLIGHT
DTSTART:20210328T020000
RDATE:20211031T010000
TZOFFSETFROM:+0000
TZOFFSETTO:+0100
TZNAME:Atlantic/Canary WEST
END:DAYLIGHT
BEGIN:DAYLIGHT
DTSTART:20220327T020000
RDATE:20221030T010000
TZOFFSETFROM:+0000
TZOFFSETTO:+0100
TZNAME:Atlantic/Canary WEST
END:DAYLIGHT
BEGIN:DAYLIGHT
DTSTART:20230326T020000
RDATE:20231029T010000
TZOFFSETFROM:+0000
TZOFFSETTO:+0100
TZNAME:Atlantic/Canary WEST
END:DAYLIGHT
END:VTIMEZONE
BEGIN:VEVENT
UID:7a52c61987b0bd24a8945d2c9c9dbd8c
CATEGORIES:Audiovisual / Cinema
CREATED:20190615T150002
SUMMARY:Una mirada a la animación polaca |  Una retrospectiva
LOCATION:Teatro Guiniguada
DESCRIPTION;ENCODING=QUOTED-PRINTABLE:<p>Polonia vive un periodo de luna de miel con el cine de animaci&oacute;n 
 desde casi los inicios del cine, y Filmoteca Canaria, con la colaboraci&oac
 ute;n especial de Animayo (Festival Internacional de Cine de Animaci&oacute
 ;n) y el Instituto Polaco de Cultura de Madrid, quiere ser reflejo de esa v
 ibrante realidad en su programaci&oacute;n de junio y julio dedicando un ci
 clo f&iacute;lmico a esta manifestaci&oacute;n art&iacute;stica.</p><p><str
 ong>Una mirada a la animaci&oacute;n polaca : Una retrospectiva</strong></p
 ><p>CZERWONE I CZARNE (1963) Pa&iacute;s: Polonia Direcci&oacute;n: Witold 
 Giersz. 1963. Sinopsis: Llena de suspense, humor y giros inesperados, esta 
 es una historia sobre el conflicto entre dos colores, el rojo, simbolizado 
 por un torero y el negro, al que da vida un toro bravo.</p><p>SŁODKIE RYTMY
  (1965) Pa&iacute;s: Polonia Direcci&oacute;n: Kazimierz Urbański Sinopsis:
  Cortometraje abstracto que muestra la producci&oacute;n de la miel. Una co
 mbinaci&oacute;n de varias t&eacute;cnicas de animaci&oacute;n, incluidas a
 lgunas que no conllevan el uso de c&aacute;maras. Los fotogramas obtenidos 
 de esta manera interaccionan con fotograf&iacute;as realistas para crear un
  baile de formas abstracto.</p><p>SYN (1970) Pa&iacute;s: Polonia Direcci&o
 acute;n: Ryszard Czekala Sinopsis: Un hijo, cuya educaci&oacute;n conllev&o
 acute; much&iacute;simos sacrificios, se olvida de sus padres, campesinos q
 ue trabajan duramente en sus tierras. Cuando vuelve de visita, sus padres n
 o consiguen comunicarse con &eacute;l.</p><p>SOLO NA UGORZE (1981) .Pa&iacu
 te;s: Polonia Direcci&oacute;n: Jerzy Kalina Sinopsis: Un hombre se acicala
  y viste para salir a trabajar. Le pone a su caballo el arado y comienza a 
 labrar la tierra. El arduo y mon&oacute;tono trabajo se une a la canci&oacu
 te;n patri&oacute;tica &ldquo;Ukochany kraj, umilowany kraj&rdquo;.</p><p>T
 AJEMNICA G&Oacute;RY MALAKKA (2012) Pa&iacute;s: Polonia Direcci&oacute;n: 
 Jakub Wroński Sinopsis: Junior es un ni&ntilde;o de seis a&ntilde;os excepc
 ionalmente maduro. Hace comentarios existenciales originales, m&aacute;s bi
 en esc&eacute;pticos. Tiene una voz noble, masculina y le encanta fumar. Cu
 bierto de humo de cigarrillo, contempla a su familia y sus complejidades ps
 icol&oacute;gicas.</p><p>ZIEGENORT (2013) Pa&iacute;s: Polonia Direcci&oacu
 te;n: Tomasz Popakul Sinopsis: En un peque&ntilde;o pueblo costero, un padr
 e ocupado trata de entrenar a su hijo adolescente para el trabajo de un pes
 cador. El ni&ntilde;o-pez introvertido tendr&aacute; que enfrentarse a la p
 rimera competencia seria. El mundo descubierto por el ni&ntilde;o est&aacut
 e; lleno de signos alarmantes y observaciones fascinantes que a menudo lo a
 terrorizan.</p><p>DOKUMENT (2015) Pa&iacute;s: Polonia Direcci&oacute;n: Ma
 rcin Podolec Sinopsis: Retrato de un padre, cuyos hijos viven sus propias v
 idas lejos de &eacute;l.</p><p>SZTUKA SPADANIA (2004) Pa&iacute;s: Polonia 
 Direcci&oacute;n: Tomasz Baginski Sinopsis: Un relato animado sobre exc&eac
 ute;ntricos oficiales retirados que, lejos de la civilizaci&oacute;n, se de
 dican a entretenerse a hacer formas extra&ntilde;as y misteriosas.</p><p>En
 trada libre hasta completar aforo.</p><p><strong>+ Info: <a href="http://ww
 w.gobiernodecanarias.org/opencms8/export/sites/cultura/filmotecacanaria/.co
 ntent/galeria/portada/masinfo/ciclopolonia.pdf" target="_blank" rel="noopen
 er noreferrer">Filmoteca Canaria</a></strong></p><p>&nbsp;</p>
DTSTAMP:20260423T224630Z
DTSTART;TZID=Atlantic/Canary:20190620T190000
SEQUENCE:0
TRANSP:OPAQUE
END:VEVENT
END:VCALENDAR