BEGIN:VCALENDAR
VERSION:2.0
PRODID:-//jEvents 2.0 for Joomla//EN
CALSCALE:GREGORIAN
METHOD:PUBLISH
BEGIN:VTIMEZONE
TZID:Atlantic/Canary
BEGIN:STANDARD
DTSTART:20181028T010000
RDATE:20190331T020000
TZOFFSETFROM:+0100
TZOFFSETTO:+0000
TZNAME:Atlantic/Canary WET
END:STANDARD
BEGIN:STANDARD
DTSTART:20191027T010000
RDATE:20200329T020000
TZOFFSETFROM:+0100
TZOFFSETTO:+0000
TZNAME:Atlantic/Canary WET
END:STANDARD
BEGIN:STANDARD
DTSTART:20201025T010000
RDATE:20210328T020000
TZOFFSETFROM:+0100
TZOFFSETTO:+0000
TZNAME:Atlantic/Canary WET
END:STANDARD
BEGIN:STANDARD
DTSTART:20211031T010000
RDATE:20220327T020000
TZOFFSETFROM:+0100
TZOFFSETTO:+0000
TZNAME:Atlantic/Canary WET
END:STANDARD
BEGIN:STANDARD
DTSTART:20221030T010000
RDATE:20230326T020000
TZOFFSETFROM:+0100
TZOFFSETTO:+0000
TZNAME:Atlantic/Canary WET
END:STANDARD
BEGIN:STANDARD
DTSTART:20231029T010000
RDATE:20240331T020000
TZOFFSETFROM:+0100
TZOFFSETTO:+0000
TZNAME:Atlantic/Canary WET
END:STANDARD
BEGIN:DAYLIGHT
DTSTART:20181010T000000
RDATE:20181028T010000
TZOFFSETFROM:+0000
TZOFFSETTO:+0100
TZNAME:Atlantic/Canary WEST
END:DAYLIGHT
BEGIN:DAYLIGHT
DTSTART:20190331T020000
RDATE:20191027T010000
TZOFFSETFROM:+0000
TZOFFSETTO:+0100
TZNAME:Atlantic/Canary WEST
END:DAYLIGHT
BEGIN:DAYLIGHT
DTSTART:20200329T020000
RDATE:20201025T010000
TZOFFSETFROM:+0000
TZOFFSETTO:+0100
TZNAME:Atlantic/Canary WEST
END:DAYLIGHT
BEGIN:DAYLIGHT
DTSTART:20210328T020000
RDATE:20211031T010000
TZOFFSETFROM:+0000
TZOFFSETTO:+0100
TZNAME:Atlantic/Canary WEST
END:DAYLIGHT
BEGIN:DAYLIGHT
DTSTART:20220327T020000
RDATE:20221030T010000
TZOFFSETFROM:+0000
TZOFFSETTO:+0100
TZNAME:Atlantic/Canary WEST
END:DAYLIGHT
BEGIN:DAYLIGHT
DTSTART:20230326T020000
RDATE:20231029T010000
TZOFFSETFROM:+0000
TZOFFSETTO:+0100
TZNAME:Atlantic/Canary WEST
END:DAYLIGHT
END:VTIMEZONE
BEGIN:VEVENT
UID:0e757ca16a3ff58c147cbd9d9cee7a9b
CATEGORIES:Music
CREATED:20190805T115653
SUMMARY:Festival Cero
LOCATION:Plaza de la Música
DESCRIPTION;ENCODING=QUOTED-PRINTABLE:\n\nLas Palmas de Gran Canaria will host three days of live music featuring
  well known groups and solo artists of pop, rock, and Indie music in Spain.
 \n\n\nThe billing for this 2019 edition is made up of&nbsp;La M.O.D.A.,&nbs
 p;Siniestro Total,&nbsp;Morgan,&nbsp;Carolina Durante,&nbsp;Mourn,&nbsp;Ant
  Cosmos,&nbsp;The Taxman&nbsp;and&nbsp;Ch&acirc;teau Rouge, on Friday 11 &a
 mp; Saturday 12 October; and on Sunday 13 October, the concerts will featur
 e the group from Asturia&nbsp;PETIT POP&nbsp;and two from the Canaries,&nbs
 p;LOS LITTLE&nbsp;and&nbsp;KIDS ROCK HISTORY.\n\n\n+ Info:&nbsp;Festival Ce
 ro\n
DTSTAMP:20260424T045231Z
DTSTART;TZID=Atlantic/Canary;VALUE=DATE:20191011
DTEND;TZID=Atlantic/Canary;VALUE=DATE:20191014
SEQUENCE:0
TRANSP:OPAQUE
END:VEVENT
END:VCALENDAR