BEGIN:VCALENDAR
VERSION:2.0
PRODID:-//jEvents 2.0 for Joomla//EN
CALSCALE:GREGORIAN
METHOD:PUBLISH
BEGIN:VTIMEZONE
TZID:Atlantic/Canary
BEGIN:STANDARD
DTSTART:20181028T010000
RDATE:20190331T020000
TZOFFSETFROM:+0100
TZOFFSETTO:+0000
TZNAME:Atlantic/Canary WET
END:STANDARD
BEGIN:STANDARD
DTSTART:20191027T010000
RDATE:20200329T020000
TZOFFSETFROM:+0100
TZOFFSETTO:+0000
TZNAME:Atlantic/Canary WET
END:STANDARD
BEGIN:STANDARD
DTSTART:20201025T010000
RDATE:20210328T020000
TZOFFSETFROM:+0100
TZOFFSETTO:+0000
TZNAME:Atlantic/Canary WET
END:STANDARD
BEGIN:STANDARD
DTSTART:20211031T010000
RDATE:20220327T020000
TZOFFSETFROM:+0100
TZOFFSETTO:+0000
TZNAME:Atlantic/Canary WET
END:STANDARD
BEGIN:STANDARD
DTSTART:20221030T010000
RDATE:20230326T020000
TZOFFSETFROM:+0100
TZOFFSETTO:+0000
TZNAME:Atlantic/Canary WET
END:STANDARD
BEGIN:STANDARD
DTSTART:20231029T010000
RDATE:20240331T020000
TZOFFSETFROM:+0100
TZOFFSETTO:+0000
TZNAME:Atlantic/Canary WET
END:STANDARD
BEGIN:DAYLIGHT
DTSTART:20180815T210000
RDATE:20181028T010000
TZOFFSETFROM:+0000
TZOFFSETTO:+0100
TZNAME:Atlantic/Canary WEST
END:DAYLIGHT
BEGIN:DAYLIGHT
DTSTART:20190331T020000
RDATE:20191027T010000
TZOFFSETFROM:+0000
TZOFFSETTO:+0100
TZNAME:Atlantic/Canary WEST
END:DAYLIGHT
BEGIN:DAYLIGHT
DTSTART:20200329T020000
RDATE:20201025T010000
TZOFFSETFROM:+0000
TZOFFSETTO:+0100
TZNAME:Atlantic/Canary WEST
END:DAYLIGHT
BEGIN:DAYLIGHT
DTSTART:20210328T020000
RDATE:20211031T010000
TZOFFSETFROM:+0000
TZOFFSETTO:+0100
TZNAME:Atlantic/Canary WEST
END:DAYLIGHT
BEGIN:DAYLIGHT
DTSTART:20220327T020000
RDATE:20221030T010000
TZOFFSETFROM:+0000
TZOFFSETTO:+0100
TZNAME:Atlantic/Canary WEST
END:DAYLIGHT
BEGIN:DAYLIGHT
DTSTART:20230326T020000
RDATE:20231029T010000
TZOFFSETFROM:+0000
TZOFFSETTO:+0100
TZNAME:Atlantic/Canary WEST
END:DAYLIGHT
END:VTIMEZONE
BEGIN:VEVENT
UID:8270848b571a3555f9ea8f6b47d77b4f
CATEGORIES:Music
CREATED:20190809T150118
SUMMARY:Melendi en concierto
LOCATION:Gran Canaria Arena
DESCRIPTION;ENCODING=QUOTED-PRINTABLE:<p>Tras agotar la pr&aacute;ctica totalidad de sus conciertos en los &uacut
 e;ltimos a&ntilde;os, Melendi ha incluido Canarias en su nueva gira, con la
  que recorrer&aacute; las principales ciudades de Espa&ntilde;a. Bajo el t&
 iacute;tulo de MI CUBO DE RUBIK -&aacute;lbum que ver&aacute; la luz este m
 ismo a&ntilde;o y del que ya se ha adelantado la impactante "Besos a la Lon
 a"-, el cantautor ofrecer&aacute; en directo sus nuevas canciones sin olvid
 ar sus innumerables hits, coreados por miles de personas en sus siempre mul
 titudinarios conciertos.&nbsp;</p><p>Habitual a&ntilde;o tras a&ntilde;o en
  los primeros puestos de todas las listas y recientemente proclamado como e
 l artista espa&ntilde;ol m&aacute;s escuchado en la historia de Spotify en 
 nuestro pa&iacute;s, Melendi acumula miles de millones de reproducciones en
  plataformas as&iacute; como discos de oro y platino en multitud de pa&iacu
 te;ses, siendo una de las figuras m&aacute;s destacadas de la m&uacute;sica
  en espa&ntilde;ol tanto dentro como fuera de nuestras fronteras.</p><p><st
 rong>+ Info: <a href="https://www.facebook.com/FestivalMarAbierto/" target=
 "_blank" rel="noopener noreferrer">Festival Mar Abierto</a></strong></p>
DTSTAMP:20260424T015844Z
DTSTART;TZID=Atlantic/Canary:20190816T210000
SEQUENCE:0
TRANSP:OPAQUE
END:VEVENT
END:VCALENDAR