BEGIN:VCALENDAR
VERSION:2.0
PRODID:-//jEvents 2.0 for Joomla//EN
CALSCALE:GREGORIAN
METHOD:PUBLISH
BEGIN:VTIMEZONE
TZID:Atlantic/Canary
BEGIN:STANDARD
DTSTART:20181028T010000
RDATE:20190331T020000
TZOFFSETFROM:+0100
TZOFFSETTO:+0000
TZNAME:Atlantic/Canary WET
END:STANDARD
BEGIN:STANDARD
DTSTART:20191027T010000
RDATE:20200329T020000
TZOFFSETFROM:+0100
TZOFFSETTO:+0000
TZNAME:Atlantic/Canary WET
END:STANDARD
BEGIN:STANDARD
DTSTART:20201025T010000
RDATE:20210328T020000
TZOFFSETFROM:+0100
TZOFFSETTO:+0000
TZNAME:Atlantic/Canary WET
END:STANDARD
BEGIN:STANDARD
DTSTART:20211031T010000
RDATE:20220327T020000
TZOFFSETFROM:+0100
TZOFFSETTO:+0000
TZNAME:Atlantic/Canary WET
END:STANDARD
BEGIN:STANDARD
DTSTART:20221030T010000
RDATE:20230326T020000
TZOFFSETFROM:+0100
TZOFFSETTO:+0000
TZNAME:Atlantic/Canary WET
END:STANDARD
BEGIN:STANDARD
DTSTART:20231029T010000
RDATE:20240331T020000
TZOFFSETFROM:+0100
TZOFFSETTO:+0000
TZNAME:Atlantic/Canary WET
END:STANDARD
BEGIN:DAYLIGHT
DTSTART:20180919T173000
RDATE:20181028T010000
TZOFFSETFROM:+0000
TZOFFSETTO:+0100
TZNAME:Atlantic/Canary WEST
END:DAYLIGHT
BEGIN:DAYLIGHT
DTSTART:20190331T020000
RDATE:20191027T010000
TZOFFSETFROM:+0000
TZOFFSETTO:+0100
TZNAME:Atlantic/Canary WEST
END:DAYLIGHT
BEGIN:DAYLIGHT
DTSTART:20200329T020000
RDATE:20201025T010000
TZOFFSETFROM:+0000
TZOFFSETTO:+0100
TZNAME:Atlantic/Canary WEST
END:DAYLIGHT
BEGIN:DAYLIGHT
DTSTART:20210328T020000
RDATE:20211031T010000
TZOFFSETFROM:+0000
TZOFFSETTO:+0100
TZNAME:Atlantic/Canary WEST
END:DAYLIGHT
BEGIN:DAYLIGHT
DTSTART:20220327T020000
RDATE:20221030T010000
TZOFFSETFROM:+0000
TZOFFSETTO:+0100
TZNAME:Atlantic/Canary WEST
END:DAYLIGHT
BEGIN:DAYLIGHT
DTSTART:20230326T020000
RDATE:20231029T010000
TZOFFSETFROM:+0000
TZOFFSETTO:+0100
TZNAME:Atlantic/Canary WEST
END:DAYLIGHT
END:VTIMEZONE
BEGIN:VEVENT
UID:9074b664c98ecf0660026181d3389eae
CATEGORIES:Meetings / Conferences
CREATED:20190903T145049
SUMMARY:DIGITAL GENERATION. Taller ‘Activismo en redes’.
LOCATION:CCA Gran Canaria. Centro de cultura audiovisual
DESCRIPTION;ENCODING=QUOTED-PRINTABLE:\n\nTaller &lsquo;Activismo en redes&rsquo;.\n&lsquo;Herramientas Psico-Aud
 iovisuales para el activismo en redes&rsquo;\n\n\nImpartido por&nbsp; Psico
  Woman.&nbsp;\n\n\nA trav&eacute;s del taller se pretende propiciar herrami
 entas tecnol&oacute;gicas, f&aacute;ciles, concretas y actuales para crear 
 contenido audiovisual a la par que crear un espacio donde trabajar los mied
 os y las dudas a la hora de exponerse al mundo audiovisual actual.\n\n\nEl 
 taller lo facilitar&aacute;n una experta en v&iacute;deo y edici&oacute;n e
 specializada en entorno youtube-instagram y una psic&oacute;loga y youtuber
  especializada en acompa&ntilde;ar a grupos a crear contenido digital con m
 irada feminista.\n\n\nPlazas limitadas. Inscripciones gratuitas a partir de
 l 2 de septiembre de 2019:&nbsp;https://digitalgenerationg.wixsite.com/insc
 ripcion\n\n\n+ Info: Gran Canaria Espacio Digital\n
DTSTAMP:20260424T031946Z
DTSTART;TZID=Atlantic/Canary:20190920T173000
DTEND;TZID=Atlantic/Canary:20190920T203000
SEQUENCE:0
TRANSP:OPAQUE
END:VEVENT
END:VCALENDAR