BEGIN:VCALENDAR
VERSION:2.0
PRODID:-//jEvents 2.0 for Joomla//EN
CALSCALE:GREGORIAN
METHOD:PUBLISH
BEGIN:VTIMEZONE
TZID:Atlantic/Canary
BEGIN:STANDARD
DTSTART:20181028T010000
RDATE:20190331T020000
TZOFFSETFROM:+0100
TZOFFSETTO:+0000
TZNAME:Atlantic/Canary WET
END:STANDARD
BEGIN:STANDARD
DTSTART:20191027T010000
RDATE:20200329T020000
TZOFFSETFROM:+0100
TZOFFSETTO:+0000
TZNAME:Atlantic/Canary WET
END:STANDARD
BEGIN:STANDARD
DTSTART:20201025T010000
RDATE:20210328T020000
TZOFFSETFROM:+0100
TZOFFSETTO:+0000
TZNAME:Atlantic/Canary WET
END:STANDARD
BEGIN:STANDARD
DTSTART:20211031T010000
RDATE:20220327T020000
TZOFFSETFROM:+0100
TZOFFSETTO:+0000
TZNAME:Atlantic/Canary WET
END:STANDARD
BEGIN:STANDARD
DTSTART:20221030T010000
RDATE:20230326T020000
TZOFFSETFROM:+0100
TZOFFSETTO:+0000
TZNAME:Atlantic/Canary WET
END:STANDARD
BEGIN:STANDARD
DTSTART:20231029T010000
RDATE:20240331T020000
TZOFFSETFROM:+0100
TZOFFSETTO:+0000
TZNAME:Atlantic/Canary WET
END:STANDARD
BEGIN:DAYLIGHT
DTSTART:20181002T190000
RDATE:20181028T010000
TZOFFSETFROM:+0000
TZOFFSETTO:+0100
TZNAME:Atlantic/Canary WEST
END:DAYLIGHT
BEGIN:DAYLIGHT
DTSTART:20190331T020000
RDATE:20191027T010000
TZOFFSETFROM:+0000
TZOFFSETTO:+0100
TZNAME:Atlantic/Canary WEST
END:DAYLIGHT
BEGIN:DAYLIGHT
DTSTART:20200329T020000
RDATE:20201025T010000
TZOFFSETFROM:+0000
TZOFFSETTO:+0100
TZNAME:Atlantic/Canary WEST
END:DAYLIGHT
BEGIN:DAYLIGHT
DTSTART:20210328T020000
RDATE:20211031T010000
TZOFFSETFROM:+0000
TZOFFSETTO:+0100
TZNAME:Atlantic/Canary WEST
END:DAYLIGHT
BEGIN:DAYLIGHT
DTSTART:20220327T020000
RDATE:20221030T010000
TZOFFSETFROM:+0000
TZOFFSETTO:+0100
TZNAME:Atlantic/Canary WEST
END:DAYLIGHT
BEGIN:DAYLIGHT
DTSTART:20230326T020000
RDATE:20231029T010000
TZOFFSETFROM:+0000
TZOFFSETTO:+0100
TZNAME:Atlantic/Canary WEST
END:DAYLIGHT
END:VTIMEZONE
BEGIN:VEVENT
UID:9f1d1bc06578280bb8a1ee433e753d7e
CATEGORIES:Library Services, Meetings / Conferences
CREATED:20191008T120149
SUMMARY:Presentation of the book "El águila de San Juan"
LOCATION:Biblioteca Pública del Estado
DESCRIPTION;ENCODING=QUOTED-PRINTABLE:\n\nPRESENTACI&Oacute;N LITERARIA (Literary Presentation)\n\n\nPresentation
  of the novel by&nbsp;D. Francisco Estupi&ntilde;&aacute;n Bethencourt,&nbs
 p;titled&nbsp;El &aacute;guila de San Juan.\n\n\nThose present will be&nbsp
 ;Anghel Morales Garc&iacute;a,&nbsp;editor of the publications &acute;Edici
 ones Aguere&acute; &amp; &acute;Ediciones Idea&acute; and&nbsp;Dr.&nbsp;Fra
 ncisco Juan Quevedo Garc&iacute;a.\n\n\nTime &amp; Place: Sala de Actos (Co
 nference Room), at&nbsp;19.00&nbsp;hours.\n\n\n&nbsp;+ &nbsp;Info:&nbsp;Bib
 lioteca P&uacute;blica del Estado de Las Palmas\n
DTSTAMP:20260424T045229Z
DTSTART;TZID=Atlantic/Canary:20191003T190000
SEQUENCE:0
TRANSP:OPAQUE
END:VEVENT
END:VCALENDAR