BEGIN:VCALENDAR
VERSION:2.0
PRODID:-//jEvents 2.0 for Joomla//EN
CALSCALE:GREGORIAN
METHOD:PUBLISH
BEGIN:VTIMEZONE
TZID:Atlantic/Canary
BEGIN:STANDARD
DTSTART:20181028T010000
RDATE:20190331T020000
TZOFFSETFROM:+0100
TZOFFSETTO:+0000
TZNAME:Atlantic/Canary WET
END:STANDARD
BEGIN:STANDARD
DTSTART:20191027T010000
RDATE:20200329T020000
TZOFFSETFROM:+0100
TZOFFSETTO:+0000
TZNAME:Atlantic/Canary WET
END:STANDARD
BEGIN:STANDARD
DTSTART:20201025T010000
RDATE:20210328T020000
TZOFFSETFROM:+0100
TZOFFSETTO:+0000
TZNAME:Atlantic/Canary WET
END:STANDARD
BEGIN:STANDARD
DTSTART:20211031T010000
RDATE:20220327T020000
TZOFFSETFROM:+0100
TZOFFSETTO:+0000
TZNAME:Atlantic/Canary WET
END:STANDARD
BEGIN:STANDARD
DTSTART:20221030T010000
RDATE:20230326T020000
TZOFFSETFROM:+0100
TZOFFSETTO:+0000
TZNAME:Atlantic/Canary WET
END:STANDARD
BEGIN:STANDARD
DTSTART:20231029T010000
RDATE:20240331T020000
TZOFFSETFROM:+0100
TZOFFSETTO:+0000
TZNAME:Atlantic/Canary WET
END:STANDARD
BEGIN:DAYLIGHT
DTSTART:20181017T000000
RDATE:20181028T010000
TZOFFSETFROM:+0000
TZOFFSETTO:+0100
TZNAME:Atlantic/Canary WEST
END:DAYLIGHT
BEGIN:DAYLIGHT
DTSTART:20190331T020000
RDATE:20191027T010000
TZOFFSETFROM:+0000
TZOFFSETTO:+0100
TZNAME:Atlantic/Canary WEST
END:DAYLIGHT
BEGIN:DAYLIGHT
DTSTART:20200329T020000
RDATE:20201025T010000
TZOFFSETFROM:+0000
TZOFFSETTO:+0100
TZNAME:Atlantic/Canary WEST
END:DAYLIGHT
BEGIN:DAYLIGHT
DTSTART:20210328T020000
RDATE:20211031T010000
TZOFFSETFROM:+0000
TZOFFSETTO:+0100
TZNAME:Atlantic/Canary WEST
END:DAYLIGHT
BEGIN:DAYLIGHT
DTSTART:20220327T020000
RDATE:20221030T010000
TZOFFSETFROM:+0000
TZOFFSETTO:+0100
TZNAME:Atlantic/Canary WEST
END:DAYLIGHT
BEGIN:DAYLIGHT
DTSTART:20230326T020000
RDATE:20231029T010000
TZOFFSETFROM:+0000
TZOFFSETTO:+0100
TZNAME:Atlantic/Canary WEST
END:DAYLIGHT
END:VTIMEZONE
BEGIN:VEVENT
UID:2d514d394b0a98e14f812a98cc4e404b
CATEGORIES:Music
CREATED:20191016T111908
SUMMARY:Tropical Fest 2019
LOCATION:Parque de Santa Catalina
DESCRIPTION;ENCODING=QUOTED-PRINTABLE:<p>The duo&nbsp;<strong>Rufus T-Firefly</strong>&nbsp;and the band led by m
 usician &amp; producer Ricky Falkner,&nbsp;<strong>Egon Soda</strong>, top 
 the billing at the fifth edition of &acute;Tropical Fest&acute;.&nbsp;</p><
 p>Ten concerts will be staged at the rear of Santa Catalina park<strong>&nb
 sp;from Friday 18 to Sunday 20 October</strong>, and will also feature&nbsp
 ;<strong>Los Estanques</strong>, for the first time in the Canaries, the&nb
 sp;<strong>Serial Killerz</strong>,&nbsp;<strong>Dj La Maldita</strong>, tw
 o&nbsp;<strong>bands paying tribute&nbsp;</strong>to&nbsp;Queen and Jamiroq
 uai, respectively, local bands,&nbsp;<strong>Los Lola&nbsp;</strong>&amp;<s
 trong>&nbsp;Salvapantallas</strong>&nbsp;and the Cubans&nbsp;<strong>Aseres
 </strong>.</p><p><strong>+ Info:&nbsp;</strong><a href="http://lpacultura.c
 om/es/noticias/31-varios/1210-rufus-t-firefly-y-egon-soda-encabezan-el-cart
 el-del-5-tropical-fest"><strong>LPA Cultura</strong></a></p>
DTSTAMP:20260424T045516Z
DTSTART;TZID=Atlantic/Canary;VALUE=DATE:20191018
DTEND;TZID=Atlantic/Canary;VALUE=DATE:20191021
SEQUENCE:0
TRANSP:OPAQUE
END:VEVENT
END:VCALENDAR