BEGIN:VCALENDAR
VERSION:2.0
PRODID:-//jEvents 2.0 for Joomla//EN
CALSCALE:GREGORIAN
METHOD:PUBLISH
BEGIN:VTIMEZONE
TZID:Atlantic/Canary
BEGIN:STANDARD
DTSTART:20181028T010000
RDATE:20190331T020000
TZOFFSETFROM:+0100
TZOFFSETTO:+0000
TZNAME:Atlantic/Canary WET
END:STANDARD
BEGIN:STANDARD
DTSTART:20191027T010000
RDATE:20200329T020000
TZOFFSETFROM:+0100
TZOFFSETTO:+0000
TZNAME:Atlantic/Canary WET
END:STANDARD
BEGIN:STANDARD
DTSTART:20201025T010000
RDATE:20210328T020000
TZOFFSETFROM:+0100
TZOFFSETTO:+0000
TZNAME:Atlantic/Canary WET
END:STANDARD
BEGIN:STANDARD
DTSTART:20211031T010000
RDATE:20220327T020000
TZOFFSETFROM:+0100
TZOFFSETTO:+0000
TZNAME:Atlantic/Canary WET
END:STANDARD
BEGIN:STANDARD
DTSTART:20221030T010000
RDATE:20230326T020000
TZOFFSETFROM:+0100
TZOFFSETTO:+0000
TZNAME:Atlantic/Canary WET
END:STANDARD
BEGIN:STANDARD
DTSTART:20231029T010000
RDATE:20240331T020000
TZOFFSETFROM:+0100
TZOFFSETTO:+0000
TZNAME:Atlantic/Canary WET
END:STANDARD
BEGIN:DAYLIGHT
DTSTART:20181018T210000
RDATE:20181028T010000
TZOFFSETFROM:+0000
TZOFFSETTO:+0100
TZNAME:Atlantic/Canary WEST
END:DAYLIGHT
BEGIN:DAYLIGHT
DTSTART:20190331T020000
RDATE:20191027T010000
TZOFFSETFROM:+0000
TZOFFSETTO:+0100
TZNAME:Atlantic/Canary WEST
END:DAYLIGHT
BEGIN:DAYLIGHT
DTSTART:20200329T020000
RDATE:20201025T010000
TZOFFSETFROM:+0000
TZOFFSETTO:+0100
TZNAME:Atlantic/Canary WEST
END:DAYLIGHT
BEGIN:DAYLIGHT
DTSTART:20210328T020000
RDATE:20211031T010000
TZOFFSETFROM:+0000
TZOFFSETTO:+0100
TZNAME:Atlantic/Canary WEST
END:DAYLIGHT
BEGIN:DAYLIGHT
DTSTART:20220327T020000
RDATE:20221030T010000
TZOFFSETFROM:+0000
TZOFFSETTO:+0100
TZNAME:Atlantic/Canary WEST
END:DAYLIGHT
BEGIN:DAYLIGHT
DTSTART:20230326T020000
RDATE:20231029T010000
TZOFFSETFROM:+0000
TZOFFSETTO:+0100
TZNAME:Atlantic/Canary WEST
END:DAYLIGHT
END:VTIMEZONE
BEGIN:VEVENT
UID:215928e0a28af3f80d227960320e2cfc
CATEGORIES:Music
CREATED:20191016T120239
SUMMARY:Musicando • Concert by Troveros de Asieta
LOCATION:Parque Doramas
DESCRIPTION;ENCODING=QUOTED-PRINTABLE:<p>Troveros de Asieta returns to &acute;Musicando&acute; to present their l
 atest disc titled &ldquo;<strong><em>Querida Cuba&rdquo;</em></strong>.</p>
 <p>It is the end result of a live recording of three concerts performed by&
 nbsp;Francis Concepci&oacute;n, Pedro Brito, Fran Mart&iacute;n&nbsp;<em>&l
 dquo;Ciani&rdquo;</em>, Jos&eacute; Humberto Mart&iacute;n, Oscar Herrera, 
 Carlos Perdomo, Julio Gonz&aacute;lez, David Platero &amp; Alberto Mart&iac
 ute;n, members of the group Troveros de Asieta, and guest artists for the p
 urpose of celebrating 25 years of the formation of the group.</p><p>Free en
 trance until full to capacity.</p><p><strong>+ Info:&nbsp;</strong><a href=
 "http://lpacultura.com/es/noticias/31-varios/1209-troveros-de-asieta-regres
 a-a-musicando-para-presentar-querida-cuba"><strong>LPA Cultura</strong></a>
 </p>
DTSTAMP:20260424T045517Z
DTSTART;TZID=Atlantic/Canary:20191019T210000
SEQUENCE:0
TRANSP:OPAQUE
END:VEVENT
END:VCALENDAR