BEGIN:VCALENDAR
VERSION:2.0
PRODID:-//jEvents 2.0 for Joomla//EN
CALSCALE:GREGORIAN
METHOD:PUBLISH
BEGIN:VTIMEZONE
TZID:Atlantic/Canary
BEGIN:STANDARD
DTSTART:20181029T200000
RDATE:20190331T020000
TZOFFSETFROM:+0100
TZOFFSETTO:+0000
TZNAME:Atlantic/Canary WET
END:STANDARD
BEGIN:STANDARD
DTSTART:20191027T010000
RDATE:20200329T020000
TZOFFSETFROM:+0100
TZOFFSETTO:+0000
TZNAME:Atlantic/Canary WET
END:STANDARD
BEGIN:STANDARD
DTSTART:20201025T010000
RDATE:20210328T020000
TZOFFSETFROM:+0100
TZOFFSETTO:+0000
TZNAME:Atlantic/Canary WET
END:STANDARD
BEGIN:STANDARD
DTSTART:20211031T010000
RDATE:20220327T020000
TZOFFSETFROM:+0100
TZOFFSETTO:+0000
TZNAME:Atlantic/Canary WET
END:STANDARD
BEGIN:STANDARD
DTSTART:20221030T010000
RDATE:20230326T020000
TZOFFSETFROM:+0100
TZOFFSETTO:+0000
TZNAME:Atlantic/Canary WET
END:STANDARD
BEGIN:STANDARD
DTSTART:20231029T010000
RDATE:20240331T020000
TZOFFSETFROM:+0100
TZOFFSETTO:+0000
TZNAME:Atlantic/Canary WET
END:STANDARD
BEGIN:DAYLIGHT
DTSTART:20190331T020000
RDATE:20191027T010000
TZOFFSETFROM:+0000
TZOFFSETTO:+0100
TZNAME:Atlantic/Canary WEST
END:DAYLIGHT
BEGIN:DAYLIGHT
DTSTART:20200329T020000
RDATE:20201025T010000
TZOFFSETFROM:+0000
TZOFFSETTO:+0100
TZNAME:Atlantic/Canary WEST
END:DAYLIGHT
BEGIN:DAYLIGHT
DTSTART:20210328T020000
RDATE:20211031T010000
TZOFFSETFROM:+0000
TZOFFSETTO:+0100
TZNAME:Atlantic/Canary WEST
END:DAYLIGHT
BEGIN:DAYLIGHT
DTSTART:20220327T020000
RDATE:20221030T010000
TZOFFSETFROM:+0000
TZOFFSETTO:+0100
TZNAME:Atlantic/Canary WEST
END:DAYLIGHT
BEGIN:DAYLIGHT
DTSTART:20230326T020000
RDATE:20231029T010000
TZOFFSETFROM:+0000
TZOFFSETTO:+0100
TZNAME:Atlantic/Canary WEST
END:DAYLIGHT
END:VTIMEZONE
BEGIN:VEVENT
UID:35eba7a313df888c32c3400172b04127
CATEGORIES:Music
CREATED:20191030T101430
SUMMARY:Concert by the Gran Canaria Philharmonic Orchestra (OFGC)
LOCATION:Auditorio Alfredo Kraus
DESCRIPTION;ENCODING=QUOTED-PRINTABLE:<p>The &lsquo;OFGC&acute;will present a rather extraordinary beneficiary co
 ncert on 30 October. It will be conducted by Karel Mark Chichon and will fe
 ature star artists which include the mezzosoprano Nancy Fabiola Herrera, gu
 itarrist Ca&ntilde;izares, violonist Sergej Krylov, pianist Iv&aacute;n Mar
 t&iacute;n &amp; soprano Isabel Rey, and they will be joined by the Adult &
 amp; Children&rsquo;s Choral groups of the OFGC. The audience will be treat
 ed to a varied &amp; popular programme which will feature pieces by Verdi, 
 Bizet, Beethoven, Sarasate, Offenbach, Massenet, Abreu, Bret&oacute;n, Rodr
 igo, Luna, Chap&iacute; and traditional Canarian music.</p><p><strong>+ Inf
 o:&nbsp;</strong><a href="https://auditorio-alfredokraus.com/evento/concier
 to-por-gran-canaria/1278"><strong>Auditorio Alfredo Kraus</strong></a></p>
DTSTAMP:20260424T045517Z
DTSTART;TZID=Atlantic/Canary:20191030T200000
SEQUENCE:0
TRANSP:OPAQUE
END:VEVENT
END:VCALENDAR