BEGIN:VCALENDAR
VERSION:2.0
PRODID:-//jEvents 2.0 for Joomla//EN
CALSCALE:GREGORIAN
METHOD:PUBLISH
BEGIN:VTIMEZONE
TZID:Atlantic/Canary
BEGIN:STANDARD
DTSTART:20181031T200000
RDATE:20190331T020000
TZOFFSETFROM:+0100
TZOFFSETTO:+0000
TZNAME:Atlantic/Canary WET
END:STANDARD
BEGIN:STANDARD
DTSTART:20191027T010000
RDATE:20200329T020000
TZOFFSETFROM:+0100
TZOFFSETTO:+0000
TZNAME:Atlantic/Canary WET
END:STANDARD
BEGIN:STANDARD
DTSTART:20201025T010000
RDATE:20210328T020000
TZOFFSETFROM:+0100
TZOFFSETTO:+0000
TZNAME:Atlantic/Canary WET
END:STANDARD
BEGIN:STANDARD
DTSTART:20211031T010000
RDATE:20220327T020000
TZOFFSETFROM:+0100
TZOFFSETTO:+0000
TZNAME:Atlantic/Canary WET
END:STANDARD
BEGIN:STANDARD
DTSTART:20221030T010000
RDATE:20230326T020000
TZOFFSETFROM:+0100
TZOFFSETTO:+0000
TZNAME:Atlantic/Canary WET
END:STANDARD
BEGIN:STANDARD
DTSTART:20231029T010000
RDATE:20240331T020000
TZOFFSETFROM:+0100
TZOFFSETTO:+0000
TZNAME:Atlantic/Canary WET
END:STANDARD
BEGIN:DAYLIGHT
DTSTART:20190331T020000
RDATE:20191027T010000
TZOFFSETFROM:+0000
TZOFFSETTO:+0100
TZNAME:Atlantic/Canary WEST
END:DAYLIGHT
BEGIN:DAYLIGHT
DTSTART:20200329T020000
RDATE:20201025T010000
TZOFFSETFROM:+0000
TZOFFSETTO:+0100
TZNAME:Atlantic/Canary WEST
END:DAYLIGHT
BEGIN:DAYLIGHT
DTSTART:20210328T020000
RDATE:20211031T010000
TZOFFSETFROM:+0000
TZOFFSETTO:+0100
TZNAME:Atlantic/Canary WEST
END:DAYLIGHT
BEGIN:DAYLIGHT
DTSTART:20220327T020000
RDATE:20221030T010000
TZOFFSETFROM:+0000
TZOFFSETTO:+0100
TZNAME:Atlantic/Canary WEST
END:DAYLIGHT
BEGIN:DAYLIGHT
DTSTART:20230326T020000
RDATE:20231029T010000
TZOFFSETFROM:+0000
TZOFFSETTO:+0100
TZNAME:Atlantic/Canary WEST
END:DAYLIGHT
END:VTIMEZONE
BEGIN:VEVENT
UID:e94da914a269a6c89d43010e6582aeda
CATEGORIES:Performing Arts /  Dance
CREATED:20191101T101620
SUMMARY:El Galán Fantasma
LOCATION:Teatro Pérez Galdós
DESCRIPTION;ENCODING=QUOTED-PRINTABLE:<p>Intrigue, love &amp; comedy by Calder&oacute;n de la Barca.&nbsp;A produ
 ction by 2RC Teatro.</p><p>In this work Calder&oacute;n wanted to utilize &
 amp; take advantage of the intrigue &amp; amorous play that the figure of t
 he gal&aacute;n fantasma (phantom suitor) provided. The outcome, which ends
  with the exposure of the bogus phantom - a product of the imagination of s
 ome characters -, corroborates &amp; verifies the rational stance taken by 
 Calder&oacute;n rather than the superstitions in keeping with that time per
 iod.&nbsp;</p><p><strong>+ Info:&nbsp;<a href="https://teatroperezgaldos.es
 /evento/el-galan-fantasma/1213" target="_blank" rel="noopener noreferrer">T
 eatro P&eacute;rez Gald&oacute;s</a></strong></p>
DTSTAMP:20260424T071926Z
DTSTART;TZID=Atlantic/Canary:20191101T200000
SEQUENCE:0
TRANSP:OPAQUE
END:VEVENT
END:VCALENDAR