BEGIN:VCALENDAR
VERSION:2.0
PRODID:-//jEvents 2.0 for Joomla//EN
CALSCALE:GREGORIAN
METHOD:PUBLISH
BEGIN:VTIMEZONE
TZID:Atlantic/Canary
BEGIN:STANDARD
DTSTART:20181105T190000
RDATE:20190331T020000
TZOFFSETFROM:+0100
TZOFFSETTO:+0000
TZNAME:Atlantic/Canary WET
END:STANDARD
BEGIN:STANDARD
DTSTART:20191027T010000
RDATE:20200329T020000
TZOFFSETFROM:+0100
TZOFFSETTO:+0000
TZNAME:Atlantic/Canary WET
END:STANDARD
BEGIN:STANDARD
DTSTART:20201025T010000
RDATE:20210328T020000
TZOFFSETFROM:+0100
TZOFFSETTO:+0000
TZNAME:Atlantic/Canary WET
END:STANDARD
BEGIN:STANDARD
DTSTART:20211031T010000
RDATE:20220327T020000
TZOFFSETFROM:+0100
TZOFFSETTO:+0000
TZNAME:Atlantic/Canary WET
END:STANDARD
BEGIN:STANDARD
DTSTART:20221030T010000
RDATE:20230326T020000
TZOFFSETFROM:+0100
TZOFFSETTO:+0000
TZNAME:Atlantic/Canary WET
END:STANDARD
BEGIN:STANDARD
DTSTART:20231029T010000
RDATE:20240331T020000
TZOFFSETFROM:+0100
TZOFFSETTO:+0000
TZNAME:Atlantic/Canary WET
END:STANDARD
BEGIN:DAYLIGHT
DTSTART:20190331T020000
RDATE:20191027T010000
TZOFFSETFROM:+0000
TZOFFSETTO:+0100
TZNAME:Atlantic/Canary WEST
END:DAYLIGHT
BEGIN:DAYLIGHT
DTSTART:20200329T020000
RDATE:20201025T010000
TZOFFSETFROM:+0000
TZOFFSETTO:+0100
TZNAME:Atlantic/Canary WEST
END:DAYLIGHT
BEGIN:DAYLIGHT
DTSTART:20210328T020000
RDATE:20211031T010000
TZOFFSETFROM:+0000
TZOFFSETTO:+0100
TZNAME:Atlantic/Canary WEST
END:DAYLIGHT
BEGIN:DAYLIGHT
DTSTART:20220327T020000
RDATE:20221030T010000
TZOFFSETFROM:+0000
TZOFFSETTO:+0100
TZNAME:Atlantic/Canary WEST
END:DAYLIGHT
BEGIN:DAYLIGHT
DTSTART:20230326T020000
RDATE:20231029T010000
TZOFFSETFROM:+0000
TZOFFSETTO:+0100
TZNAME:Atlantic/Canary WEST
END:DAYLIGHT
END:VTIMEZONE
BEGIN:VEVENT
UID:61ac0ca1327b78d84f48153317ce9635
CATEGORIES:Audiovisual / Cinema
CREATED:20191106T013213
SUMMARY:Projection of the film "Concepción Arenal" | Cycle "Ellas mueven el mundo"
LOCATION:Casa Museo Pérez Galdós
DESCRIPTION;ENCODING=QUOTED-PRINTABLE:<p>This film centres on the social aspect of the woman who reformed the pen
 itentiary system and probably was the first female activist of the modern w
 orld in Spain. A profile of Concepci&oacute;n Arenal who paid visits to wom
 en&acute;s prisons. Her struggle focusses on changing the concept that exis
 ted regarding delinquents and what modern jails should be doing.&nbsp;</p><
 p>Free entrance until full to capacity</p><p>Collaborator: Asociaci&oacute;
 n de Cine V&eacute;rtigo.</p><p><strong>+ Info:&nbsp;</strong><a href="http
 ://www.casamuseoperezgaldos.com/"><strong>Casa-Museo P&eacute;rez Gald&oacu
 te;s</strong></a></p>
DTSTAMP:20260424T063213Z
DTSTART;TZID=Atlantic/Canary:20191106T190000
SEQUENCE:0
TRANSP:OPAQUE
END:VEVENT
END:VCALENDAR