BEGIN:VCALENDAR
VERSION:2.0
PRODID:-//jEvents 2.0 for Joomla//EN
CALSCALE:GREGORIAN
METHOD:PUBLISH
BEGIN:VTIMEZONE
TZID:Atlantic/Canary
BEGIN:STANDARD
DTSTART:20181120T170000
RDATE:20190331T020000
TZOFFSETFROM:+0100
TZOFFSETTO:+0000
TZNAME:Atlantic/Canary WET
END:STANDARD
BEGIN:STANDARD
DTSTART:20191027T010000
RDATE:20200329T020000
TZOFFSETFROM:+0100
TZOFFSETTO:+0000
TZNAME:Atlantic/Canary WET
END:STANDARD
BEGIN:STANDARD
DTSTART:20201025T010000
RDATE:20210328T020000
TZOFFSETFROM:+0100
TZOFFSETTO:+0000
TZNAME:Atlantic/Canary WET
END:STANDARD
BEGIN:STANDARD
DTSTART:20211031T010000
RDATE:20220327T020000
TZOFFSETFROM:+0100
TZOFFSETTO:+0000
TZNAME:Atlantic/Canary WET
END:STANDARD
BEGIN:STANDARD
DTSTART:20221030T010000
RDATE:20230326T020000
TZOFFSETFROM:+0100
TZOFFSETTO:+0000
TZNAME:Atlantic/Canary WET
END:STANDARD
BEGIN:STANDARD
DTSTART:20231029T010000
RDATE:20240331T020000
TZOFFSETFROM:+0100
TZOFFSETTO:+0000
TZNAME:Atlantic/Canary WET
END:STANDARD
BEGIN:DAYLIGHT
DTSTART:20190331T020000
RDATE:20191027T010000
TZOFFSETFROM:+0000
TZOFFSETTO:+0100
TZNAME:Atlantic/Canary WEST
END:DAYLIGHT
BEGIN:DAYLIGHT
DTSTART:20200329T020000
RDATE:20201025T010000
TZOFFSETFROM:+0000
TZOFFSETTO:+0100
TZNAME:Atlantic/Canary WEST
END:DAYLIGHT
BEGIN:DAYLIGHT
DTSTART:20210328T020000
RDATE:20211031T010000
TZOFFSETFROM:+0000
TZOFFSETTO:+0100
TZNAME:Atlantic/Canary WEST
END:DAYLIGHT
BEGIN:DAYLIGHT
DTSTART:20220327T020000
RDATE:20221030T010000
TZOFFSETFROM:+0000
TZOFFSETTO:+0100
TZNAME:Atlantic/Canary WEST
END:DAYLIGHT
BEGIN:DAYLIGHT
DTSTART:20230326T020000
RDATE:20231029T010000
TZOFFSETFROM:+0000
TZOFFSETTO:+0100
TZNAME:Atlantic/Canary WEST
END:DAYLIGHT
END:VTIMEZONE
BEGIN:VEVENT
UID:ca31a531254ac70d6f59160db7e05780
CATEGORIES:Meetings / Conferences
CREATED:20191108T102652
SUMMARY:Masterclass by Andrés Vázquez Archdale, Técnico de sonido (Sound technician)
LOCATION:Teatro Guiniguada
DESCRIPTION;ENCODING=QUOTED-PRINTABLE:\n\nAndr&eacute;s V&aacute;zquez Archdale is a reputable sound &amp; music 
 technician who has been combining both activities over the course of his ca
 reer, until finally focussing on recording. His interest &amp; love of musi
 c, together with his classical training in solfeo, violin &amp; piano, has 
 led him to participate in a number of sound track compositions towards the 
 end of the &acute;80s and during the &acute;90s.&nbsp;\n\n\nAndr&eacute;s V
 &aacute;zquez will give a&nbsp;Master Class, free of charge and open to the
  public, about recording and the utilization of various kinds of software, 
 and also how to obtain maximum performance from your equipment.&nbsp;\n\n\n
 + Info:&nbsp;Teatro Guiniguada\n
DTSTAMP:20260424T071716Z
DTSTART;TZID=Atlantic/Canary:20191121T170000
DTEND;TZID=Atlantic/Canary:20191121T190000
SEQUENCE:0
TRANSP:OPAQUE
END:VEVENT
END:VCALENDAR