BEGIN:VCALENDAR
VERSION:2.0
PRODID:-//jEvents 2.0 for Joomla//EN
CALSCALE:GREGORIAN
METHOD:PUBLISH
BEGIN:VTIMEZONE
TZID:Atlantic/Canary
BEGIN:STANDARD
DTSTART:20181123T123000
RDATE:20190331T020000
TZOFFSETFROM:+0100
TZOFFSETTO:+0000
TZNAME:Atlantic/Canary WET
END:STANDARD
BEGIN:STANDARD
DTSTART:20191027T010000
RDATE:20200329T020000
TZOFFSETFROM:+0100
TZOFFSETTO:+0000
TZNAME:Atlantic/Canary WET
END:STANDARD
BEGIN:STANDARD
DTSTART:20201025T010000
RDATE:20210328T020000
TZOFFSETFROM:+0100
TZOFFSETTO:+0000
TZNAME:Atlantic/Canary WET
END:STANDARD
BEGIN:STANDARD
DTSTART:20211031T010000
RDATE:20220327T020000
TZOFFSETFROM:+0100
TZOFFSETTO:+0000
TZNAME:Atlantic/Canary WET
END:STANDARD
BEGIN:STANDARD
DTSTART:20221030T010000
RDATE:20230326T020000
TZOFFSETFROM:+0100
TZOFFSETTO:+0000
TZNAME:Atlantic/Canary WET
END:STANDARD
BEGIN:STANDARD
DTSTART:20231029T010000
RDATE:20240331T020000
TZOFFSETFROM:+0100
TZOFFSETTO:+0000
TZNAME:Atlantic/Canary WET
END:STANDARD
BEGIN:DAYLIGHT
DTSTART:20190331T020000
RDATE:20191027T010000
TZOFFSETFROM:+0000
TZOFFSETTO:+0100
TZNAME:Atlantic/Canary WEST
END:DAYLIGHT
BEGIN:DAYLIGHT
DTSTART:20200329T020000
RDATE:20201025T010000
TZOFFSETFROM:+0000
TZOFFSETTO:+0100
TZNAME:Atlantic/Canary WEST
END:DAYLIGHT
BEGIN:DAYLIGHT
DTSTART:20210328T020000
RDATE:20211031T010000
TZOFFSETFROM:+0000
TZOFFSETTO:+0100
TZNAME:Atlantic/Canary WEST
END:DAYLIGHT
BEGIN:DAYLIGHT
DTSTART:20220327T020000
RDATE:20221030T010000
TZOFFSETFROM:+0000
TZOFFSETTO:+0100
TZNAME:Atlantic/Canary WEST
END:DAYLIGHT
BEGIN:DAYLIGHT
DTSTART:20230326T020000
RDATE:20231029T010000
TZOFFSETFROM:+0000
TZOFFSETTO:+0100
TZNAME:Atlantic/Canary WEST
END:DAYLIGHT
END:VTIMEZONE
BEGIN:VEVENT
UID:7e484923e3f71e4a2bb42b12488f5879
CATEGORIES:Performing Arts /  Dance
CREATED:20191108T104238
SUMMARY:“Las Estaciones, Invierno” (The Seasons, Winter)
LOCATION:Teatro Guiniguada
DESCRIPTION;ENCODING=QUOTED-PRINTABLE:\n\n&ldquo;Las Estaciones, Invierno&rdquo; is a show that is dressed in whi
 te with the arrival of the cold weather. The whole audience is at home, in 
 a cozy &amp; warm atmosphere, which leads to shadow-play, dim lighting and 
 the singing of lullabies while contemplating the moon and the stars.&nbsp;I
 t is one of four theatrical proposals that the company dedicates to each se
 ason of the year, the other titles being: &ldquo;Las Estaciones, Primavera 
 (Spring)&rdquo; &ldquo;Las Estaciones, Verano (Summer) &amp; &ldquo;Las Est
 aciones, (Autumn / Fall)&rdquo;.\n\n\nEach mini-show follows the same patte
 rn: tales, poetry &amp; live music with babies up to 3 years very much in m
 ind, and it is all carried out by Isabel Bol&iacute;var &amp; Laura Escuela
 , oral narrators from the island of Tenerife, specialists in early childhoo
 d education.&nbsp;\n\n\n+ Info:&nbsp;Teatro Guiniguada\n
DTSTAMP:20260424T071717Z
DTSTART;TZID=Atlantic/Canary:20191124T123000
SEQUENCE:0
TRANSP:OPAQUE
END:VEVENT
END:VCALENDAR