BEGIN:VCALENDAR
VERSION:2.0
PRODID:-//jEvents 2.0 for Joomla//EN
CALSCALE:GREGORIAN
METHOD:PUBLISH
BEGIN:VTIMEZONE
TZID:Atlantic/Canary
BEGIN:STANDARD
DTSTART:20181213T210000
RDATE:20190331T020000
TZOFFSETFROM:+0100
TZOFFSETTO:+0000
TZNAME:Atlantic/Canary WET
END:STANDARD
BEGIN:STANDARD
DTSTART:20191027T010000
RDATE:20200329T020000
TZOFFSETFROM:+0100
TZOFFSETTO:+0000
TZNAME:Atlantic/Canary WET
END:STANDARD
BEGIN:STANDARD
DTSTART:20201025T010000
RDATE:20210328T020000
TZOFFSETFROM:+0100
TZOFFSETTO:+0000
TZNAME:Atlantic/Canary WET
END:STANDARD
BEGIN:STANDARD
DTSTART:20211031T010000
RDATE:20220327T020000
TZOFFSETFROM:+0100
TZOFFSETTO:+0000
TZNAME:Atlantic/Canary WET
END:STANDARD
BEGIN:STANDARD
DTSTART:20221030T010000
RDATE:20230326T020000
TZOFFSETFROM:+0100
TZOFFSETTO:+0000
TZNAME:Atlantic/Canary WET
END:STANDARD
BEGIN:STANDARD
DTSTART:20231029T010000
RDATE:20240331T020000
TZOFFSETFROM:+0100
TZOFFSETTO:+0000
TZNAME:Atlantic/Canary WET
END:STANDARD
BEGIN:DAYLIGHT
DTSTART:20190331T020000
RDATE:20191027T010000
TZOFFSETFROM:+0000
TZOFFSETTO:+0100
TZNAME:Atlantic/Canary WEST
END:DAYLIGHT
BEGIN:DAYLIGHT
DTSTART:20200329T020000
RDATE:20201025T010000
TZOFFSETFROM:+0000
TZOFFSETTO:+0100
TZNAME:Atlantic/Canary WEST
END:DAYLIGHT
BEGIN:DAYLIGHT
DTSTART:20210328T020000
RDATE:20211031T010000
TZOFFSETFROM:+0000
TZOFFSETTO:+0100
TZNAME:Atlantic/Canary WEST
END:DAYLIGHT
BEGIN:DAYLIGHT
DTSTART:20220327T020000
RDATE:20221030T010000
TZOFFSETFROM:+0000
TZOFFSETTO:+0100
TZNAME:Atlantic/Canary WEST
END:DAYLIGHT
BEGIN:DAYLIGHT
DTSTART:20230326T020000
RDATE:20231029T010000
TZOFFSETFROM:+0000
TZOFFSETTO:+0100
TZNAME:Atlantic/Canary WEST
END:DAYLIGHT
END:VTIMEZONE
BEGIN:VEVENT
UID:cb50446f23995c4163eba5f1183563c9
CATEGORIES:Music
CREATED:20191214T103443
SUMMARY:Concert by Iván Quintana | Musicando
LOCATION:Parque Doramas
DESCRIPTION;ENCODING=QUOTED-PRINTABLE:<p><strong>Musicando</strong>&nbsp;features the debut performance of Iv&aac
 ute;n Quintana&rsquo;s first work as a soloist, titled &laquo;Trashumancia&
 raquo;.</p><p>Joining him on stage, under the musical direction of Feluco T
 ejera, also on guitar are Javier Ram&iacute;rez Santana &amp; Jorge Enrique
  Soroa Bethancourt, both on percussion; Derque Mart&iacute;n Cruz on the ti
 mple &amp; guitar; David Ram&iacute;rez Santana on bass; Raquel Mart&iacute
 ;n-Tadeo on the flute and vocals and Luz Mila Valer&oacute;n on vocals.</p>
 <p><strong>+ Info:&nbsp;</strong><a href="https://www.facebook.com/LpaCultu
 ra/"><strong>LPA Cultura</strong></a></p>
DTSTAMP:20260424T082015Z
DTSTART;TZID=Atlantic/Canary:20191214T210000
SEQUENCE:0
TRANSP:OPAQUE
END:VEVENT
END:VCALENDAR