BEGIN:VCALENDAR
VERSION:2.0
PRODID:-//jEvents 2.0 for Joomla//EN
CALSCALE:GREGORIAN
METHOD:PUBLISH
BEGIN:VTIMEZONE
TZID:Atlantic/Canary
BEGIN:STANDARD
DTSTART:20181219T200000
RDATE:20190331T020000
TZOFFSETFROM:+0100
TZOFFSETTO:+0000
TZNAME:Atlantic/Canary WET
END:STANDARD
BEGIN:STANDARD
DTSTART:20191027T010000
RDATE:20200329T020000
TZOFFSETFROM:+0100
TZOFFSETTO:+0000
TZNAME:Atlantic/Canary WET
END:STANDARD
BEGIN:STANDARD
DTSTART:20201025T010000
RDATE:20210328T020000
TZOFFSETFROM:+0100
TZOFFSETTO:+0000
TZNAME:Atlantic/Canary WET
END:STANDARD
BEGIN:STANDARD
DTSTART:20211031T010000
RDATE:20220327T020000
TZOFFSETFROM:+0100
TZOFFSETTO:+0000
TZNAME:Atlantic/Canary WET
END:STANDARD
BEGIN:STANDARD
DTSTART:20221030T010000
RDATE:20230326T020000
TZOFFSETFROM:+0100
TZOFFSETTO:+0000
TZNAME:Atlantic/Canary WET
END:STANDARD
BEGIN:STANDARD
DTSTART:20231029T010000
RDATE:20240331T020000
TZOFFSETFROM:+0100
TZOFFSETTO:+0000
TZNAME:Atlantic/Canary WET
END:STANDARD
BEGIN:DAYLIGHT
DTSTART:20190331T020000
RDATE:20191027T010000
TZOFFSETFROM:+0000
TZOFFSETTO:+0100
TZNAME:Atlantic/Canary WEST
END:DAYLIGHT
BEGIN:DAYLIGHT
DTSTART:20200329T020000
RDATE:20201025T010000
TZOFFSETFROM:+0000
TZOFFSETTO:+0100
TZNAME:Atlantic/Canary WEST
END:DAYLIGHT
BEGIN:DAYLIGHT
DTSTART:20210328T020000
RDATE:20211031T010000
TZOFFSETFROM:+0000
TZOFFSETTO:+0100
TZNAME:Atlantic/Canary WEST
END:DAYLIGHT
BEGIN:DAYLIGHT
DTSTART:20220327T020000
RDATE:20221030T010000
TZOFFSETFROM:+0000
TZOFFSETTO:+0100
TZNAME:Atlantic/Canary WEST
END:DAYLIGHT
BEGIN:DAYLIGHT
DTSTART:20230326T020000
RDATE:20231029T010000
TZOFFSETFROM:+0000
TZOFFSETTO:+0100
TZNAME:Atlantic/Canary WEST
END:DAYLIGHT
END:VTIMEZONE
BEGIN:VEVENT
UID:9b78dd6d8061b5b890803001f71aa55e
CATEGORIES:Music
CREATED:20191216T130214
SUMMARY:Christmas Concert OFGC 2019 for the benefit of ‘Iniciativas Humanas’ (Projects related to Humanity )
LOCATION:Auditorio Alfredo Kraus
DESCRIPTION;ENCODING=QUOTED-PRINTABLE:\n\nMusic is once again at the core of Christmas celebrations featuring a p
 rogramme where the proceeds will be destined on this occasion to go towards
  the project named &ldquo;Acompa&ntilde;amiento a mayores Gran Canaria&rdqu
 o; pertaining to &lsquo;Iniciativas Humanas&rsquo;.&nbsp;\n\n\nFor this Chr
 istmas Concert, the Gran Canaria Philharmonic Orchestra has prepared a pres
 entation featuring Canarian talented musicians, thus giving them the unique
  opportunity to perform the evening&rsquo;s repertoire with the ensemble.\n
 \n\n+ Info:&nbsp;Auditorio Alfredo Kraus\n
DTSTAMP:20260424T080707Z
DTSTART;TZID=Atlantic/Canary:20191220T200000
SEQUENCE:0
TRANSP:OPAQUE
END:VEVENT
END:VCALENDAR