BEGIN:VCALENDAR
VERSION:2.0
PRODID:-//jEvents 2.0 for Joomla//EN
CALSCALE:GREGORIAN
METHOD:PUBLISH
BEGIN:VTIMEZONE
TZID:Atlantic/Canary
BEGIN:STANDARD
DTSTART:20190110T210000
RDATE:20190331T020000
TZOFFSETFROM:+0100
TZOFFSETTO:+0000
TZNAME:Atlantic/Canary WET
END:STANDARD
BEGIN:STANDARD
DTSTART:20191027T010000
RDATE:20200329T020000
TZOFFSETFROM:+0100
TZOFFSETTO:+0000
TZNAME:Atlantic/Canary WET
END:STANDARD
BEGIN:STANDARD
DTSTART:20201025T010000
RDATE:20210328T020000
TZOFFSETFROM:+0100
TZOFFSETTO:+0000
TZNAME:Atlantic/Canary WET
END:STANDARD
BEGIN:STANDARD
DTSTART:20211031T010000
RDATE:20220327T020000
TZOFFSETFROM:+0100
TZOFFSETTO:+0000
TZNAME:Atlantic/Canary WET
END:STANDARD
BEGIN:STANDARD
DTSTART:20221030T010000
RDATE:20230326T020000
TZOFFSETFROM:+0100
TZOFFSETTO:+0000
TZNAME:Atlantic/Canary WET
END:STANDARD
BEGIN:STANDARD
DTSTART:20231029T010000
RDATE:20240331T020000
TZOFFSETFROM:+0100
TZOFFSETTO:+0000
TZNAME:Atlantic/Canary WET
END:STANDARD
BEGIN:DAYLIGHT
DTSTART:20190331T020000
RDATE:20191027T010000
TZOFFSETFROM:+0000
TZOFFSETTO:+0100
TZNAME:Atlantic/Canary WEST
END:DAYLIGHT
BEGIN:DAYLIGHT
DTSTART:20200329T020000
RDATE:20201025T010000
TZOFFSETFROM:+0000
TZOFFSETTO:+0100
TZNAME:Atlantic/Canary WEST
END:DAYLIGHT
BEGIN:DAYLIGHT
DTSTART:20210328T020000
RDATE:20211031T010000
TZOFFSETFROM:+0000
TZOFFSETTO:+0100
TZNAME:Atlantic/Canary WEST
END:DAYLIGHT
BEGIN:DAYLIGHT
DTSTART:20220327T020000
RDATE:20221030T010000
TZOFFSETFROM:+0000
TZOFFSETTO:+0100
TZNAME:Atlantic/Canary WEST
END:DAYLIGHT
BEGIN:DAYLIGHT
DTSTART:20230326T020000
RDATE:20231029T010000
TZOFFSETFROM:+0000
TZOFFSETTO:+0100
TZNAME:Atlantic/Canary WEST
END:DAYLIGHT
END:VTIMEZONE
BEGIN:VEVENT
UID:a4408786de047918bedd405a9c96389f
CATEGORIES:Music
CREATED:20200110T150756
SUMMARY:Tana Santana Sextet | Rincón del Jazz (Jazz Corner)
LOCATION:Auditorio Alfredo Kraus
DESCRIPTION;ENCODING=QUOTED-PRINTABLE:<p>The bassist Tana Santana&nbsp;will inaugurate the &lsquo;Rinc&oacute;n d
 el Jazz&rsquo; season.</p><p>The musician from Gran Canaria will present hi
 s most personal project, and will be accompanied by Chago Miranda (guitar),
  Xerach Pe&ntilde;ate (drums), Jos&eacute; Alberto Medina (piano), Jos&eacu
 te; Vera (tenor sax) &amp; Roberto Nieva (alto sax).</p><p><strong>+ Info:&
 nbsp;<a href="https://auditorio-alfredokraus.com/evento/tana-santana-sextet
 /1322">Auditorio Alfredo Kraus</a></strong></p>
DTSTAMP:20260424T103232Z
DTSTART;TZID=Atlantic/Canary:20200111T210000
SEQUENCE:0
TRANSP:OPAQUE
END:VEVENT
END:VCALENDAR