BEGIN:VCALENDAR
VERSION:2.0
PRODID:-//jEvents 2.0 for Joomla//EN
CALSCALE:GREGORIAN
METHOD:PUBLISH
BEGIN:VTIMEZONE
TZID:Atlantic/Canary
BEGIN:STANDARD
DTSTART:20190127T203000
RDATE:20190331T020000
TZOFFSETFROM:+0100
TZOFFSETTO:+0000
TZNAME:Atlantic/Canary WET
END:STANDARD
BEGIN:STANDARD
DTSTART:20191027T010000
RDATE:20200329T020000
TZOFFSETFROM:+0100
TZOFFSETTO:+0000
TZNAME:Atlantic/Canary WET
END:STANDARD
BEGIN:STANDARD
DTSTART:20201025T010000
RDATE:20210328T020000
TZOFFSETFROM:+0100
TZOFFSETTO:+0000
TZNAME:Atlantic/Canary WET
END:STANDARD
BEGIN:STANDARD
DTSTART:20211031T010000
RDATE:20220327T020000
TZOFFSETFROM:+0100
TZOFFSETTO:+0000
TZNAME:Atlantic/Canary WET
END:STANDARD
BEGIN:STANDARD
DTSTART:20221030T010000
RDATE:20230326T020000
TZOFFSETFROM:+0100
TZOFFSETTO:+0000
TZNAME:Atlantic/Canary WET
END:STANDARD
BEGIN:STANDARD
DTSTART:20231029T010000
RDATE:20240331T020000
TZOFFSETFROM:+0100
TZOFFSETTO:+0000
TZNAME:Atlantic/Canary WET
END:STANDARD
BEGIN:DAYLIGHT
DTSTART:20190331T020000
RDATE:20191027T010000
TZOFFSETFROM:+0000
TZOFFSETTO:+0100
TZNAME:Atlantic/Canary WEST
END:DAYLIGHT
BEGIN:DAYLIGHT
DTSTART:20200329T020000
RDATE:20201025T010000
TZOFFSETFROM:+0000
TZOFFSETTO:+0100
TZNAME:Atlantic/Canary WEST
END:DAYLIGHT
BEGIN:DAYLIGHT
DTSTART:20210328T020000
RDATE:20211031T010000
TZOFFSETFROM:+0000
TZOFFSETTO:+0100
TZNAME:Atlantic/Canary WEST
END:DAYLIGHT
BEGIN:DAYLIGHT
DTSTART:20220327T020000
RDATE:20221030T010000
TZOFFSETFROM:+0000
TZOFFSETTO:+0100
TZNAME:Atlantic/Canary WEST
END:DAYLIGHT
BEGIN:DAYLIGHT
DTSTART:20230326T020000
RDATE:20231029T010000
TZOFFSETFROM:+0000
TZOFFSETTO:+0100
TZNAME:Atlantic/Canary WEST
END:DAYLIGHT
END:VTIMEZONE
BEGIN:VEVENT
UID:7efa02a1a92f4bc313f886b69eac9d32
CATEGORIES:Meetings / Conferences
CREATED:20200123T111925
SUMMARY:Martes de la risa (Tuesday with laughter): "La casa encantada: domótica con humor" (“The enchanted House:home automation with humour”)
LOCATION:Paraninfo de la ULPGC
DESCRIPTION;ENCODING=QUOTED-PRINTABLE:<p>Domus (domicile), casa (house), becomes &lsquo;domot&rsquo; and &lsquo;d
 om&oacute;tica&rsquo; (home automation) is the field or discipline in organ
 ising the home. Ah! and all with Anglosaxon terms &amp; wording. Will we en
 d up being &ldquo;anglosaxonised?&rdquo;</p><p><strong>+ Info:&nbsp;</stron
 g><a href="https://www.ulpgc.es/evento-cultura/aula-del-humor-martes-risa-c
 asa-encantada-domotica-humor?width=60%25&amp;height=60%25&amp;inline=true#c
 olorbox-inline-820675210"><strong>ULPGC</strong></a></p>
DTSTAMP:20260424T103838Z
DTSTART;TZID=Atlantic/Canary:20200128T203000
SEQUENCE:0
TRANSP:OPAQUE
END:VEVENT
END:VCALENDAR