BEGIN:VCALENDAR
VERSION:2.0
PRODID:-//jEvents 2.0 for Joomla//EN
CALSCALE:GREGORIAN
METHOD:PUBLISH
BEGIN:VTIMEZONE
TZID:Atlantic/Canary
BEGIN:STANDARD
DTSTART:20190203T170000
RDATE:20190331T020000
TZOFFSETFROM:+0100
TZOFFSETTO:+0000
TZNAME:Atlantic/Canary WET
END:STANDARD
BEGIN:STANDARD
DTSTART:20191027T010000
RDATE:20200329T020000
TZOFFSETFROM:+0100
TZOFFSETTO:+0000
TZNAME:Atlantic/Canary WET
END:STANDARD
BEGIN:STANDARD
DTSTART:20201025T010000
RDATE:20210328T020000
TZOFFSETFROM:+0100
TZOFFSETTO:+0000
TZNAME:Atlantic/Canary WET
END:STANDARD
BEGIN:STANDARD
DTSTART:20211031T010000
RDATE:20220327T020000
TZOFFSETFROM:+0100
TZOFFSETTO:+0000
TZNAME:Atlantic/Canary WET
END:STANDARD
BEGIN:STANDARD
DTSTART:20221030T010000
RDATE:20230326T020000
TZOFFSETFROM:+0100
TZOFFSETTO:+0000
TZNAME:Atlantic/Canary WET
END:STANDARD
BEGIN:STANDARD
DTSTART:20231029T010000
RDATE:20240331T020000
TZOFFSETFROM:+0100
TZOFFSETTO:+0000
TZNAME:Atlantic/Canary WET
END:STANDARD
BEGIN:DAYLIGHT
DTSTART:20190331T020000
RDATE:20191027T010000
TZOFFSETFROM:+0000
TZOFFSETTO:+0100
TZNAME:Atlantic/Canary WEST
END:DAYLIGHT
BEGIN:DAYLIGHT
DTSTART:20200329T020000
RDATE:20201025T010000
TZOFFSETFROM:+0000
TZOFFSETTO:+0100
TZNAME:Atlantic/Canary WEST
END:DAYLIGHT
BEGIN:DAYLIGHT
DTSTART:20210328T020000
RDATE:20211031T010000
TZOFFSETFROM:+0000
TZOFFSETTO:+0100
TZNAME:Atlantic/Canary WEST
END:DAYLIGHT
BEGIN:DAYLIGHT
DTSTART:20220327T020000
RDATE:20221030T010000
TZOFFSETFROM:+0000
TZOFFSETTO:+0100
TZNAME:Atlantic/Canary WEST
END:DAYLIGHT
BEGIN:DAYLIGHT
DTSTART:20230326T020000
RDATE:20231029T010000
TZOFFSETFROM:+0000
TZOFFSETTO:+0100
TZNAME:Atlantic/Canary WEST
END:DAYLIGHT
END:VTIMEZONE
BEGIN:VEVENT
UID:9f6a0b48134243f07fb913b1dd5b4764
CATEGORIES:Audiovisual / Cinema
CREATED:19700101T000000
SUMMARY:Tuesday Cinema
LOCATION:Biblioteca Pública del Estado\nCalle Muelle Las Palmas, s/n\nLas Palmas de 
 Gran Canaria\nLas Palmas\n35003\nEspaña\n928 211 540\nhttps://www.bibliotec
 aspublicas.es/laspalmas
DESCRIPTION;ENCODING=QUOTED-PRINTABLE:\n\nThe cycle - Ciclo de Cine&nbsp;for the month of&nbsp;February 2020&nbsp
 ;will be held on&nbsp;Tuesdays at 17:00 hours.\n\n\nFree entrance until ful
 l to capacity.\n\n - Tuesday 4:El alienista&nbsp;(The Alienist)(2018), with
  Luke Evans, Daniel Br&uuml;hl &amp; Dakota Fanning\n - Tuesday 11:El hijo&
 nbsp;(The Son)(2019), with Elizabeth Banks, Jackson Dunn &amp; David Denman
 \n - Tuesday 18:El s&oacute;tano de Ma: Ma cuidar&aacute; de ti (Ma)&nbsp;(
 2019), with Octavia Spencer, Diana Silvers &amp; Juliette Lewis\n\nPlace &a
 mp; Time: Sala de Actos (Function Hall), at&nbsp;17:00 hours. \n\n\n+ Info:
 &nbsp;Biblioteca P&uacute;blica del Estado de Las Palmas\n
DTSTAMP:20260424T103608Z
DTSTART;TZID=Atlantic/Canary:20200204T170000
SEQUENCE:0
RRULE:FREQ=WEEKLY;UNTIL=20200219T000000Z;INTERVAL=1;BYDAY=TU
TRANSP:OPAQUE
END:VEVENT
END:VCALENDAR