BEGIN:VCALENDAR
VERSION:2.0
PRODID:-//jEvents 2.0 for Joomla//EN
CALSCALE:GREGORIAN
METHOD:PUBLISH
BEGIN:VTIMEZONE
TZID:Atlantic/Canary
BEGIN:STANDARD
DTSTART:20190218T190000
RDATE:20190331T020000
TZOFFSETFROM:+0100
TZOFFSETTO:+0000
TZNAME:Atlantic/Canary WET
END:STANDARD
BEGIN:STANDARD
DTSTART:20191027T010000
RDATE:20200329T020000
TZOFFSETFROM:+0100
TZOFFSETTO:+0000
TZNAME:Atlantic/Canary WET
END:STANDARD
BEGIN:STANDARD
DTSTART:20201025T010000
RDATE:20210328T020000
TZOFFSETFROM:+0100
TZOFFSETTO:+0000
TZNAME:Atlantic/Canary WET
END:STANDARD
BEGIN:STANDARD
DTSTART:20211031T010000
RDATE:20220327T020000
TZOFFSETFROM:+0100
TZOFFSETTO:+0000
TZNAME:Atlantic/Canary WET
END:STANDARD
BEGIN:STANDARD
DTSTART:20221030T010000
RDATE:20230326T020000
TZOFFSETFROM:+0100
TZOFFSETTO:+0000
TZNAME:Atlantic/Canary WET
END:STANDARD
BEGIN:STANDARD
DTSTART:20231029T010000
RDATE:20240331T020000
TZOFFSETFROM:+0100
TZOFFSETTO:+0000
TZNAME:Atlantic/Canary WET
END:STANDARD
BEGIN:DAYLIGHT
DTSTART:20190331T020000
RDATE:20191027T010000
TZOFFSETFROM:+0000
TZOFFSETTO:+0100
TZNAME:Atlantic/Canary WEST
END:DAYLIGHT
BEGIN:DAYLIGHT
DTSTART:20200329T020000
RDATE:20201025T010000
TZOFFSETFROM:+0000
TZOFFSETTO:+0100
TZNAME:Atlantic/Canary WEST
END:DAYLIGHT
BEGIN:DAYLIGHT
DTSTART:20210328T020000
RDATE:20211031T010000
TZOFFSETFROM:+0000
TZOFFSETTO:+0100
TZNAME:Atlantic/Canary WEST
END:DAYLIGHT
BEGIN:DAYLIGHT
DTSTART:20220327T020000
RDATE:20221030T010000
TZOFFSETFROM:+0000
TZOFFSETTO:+0100
TZNAME:Atlantic/Canary WEST
END:DAYLIGHT
BEGIN:DAYLIGHT
DTSTART:20230326T020000
RDATE:20231029T010000
TZOFFSETFROM:+0000
TZOFFSETTO:+0100
TZNAME:Atlantic/Canary WEST
END:DAYLIGHT
END:VTIMEZONE
BEGIN:VEVENT
UID:12f6ced578e9138487683c38065fba0b
CATEGORIES:Audiovisual / Cinema
CREATED:20200210T120128
SUMMARY:Projection of the film "Vampyr"
LOCATION:Salón de Actos del edificio de Humanidades
DESCRIPTION;ENCODING=QUOTED-PRINTABLE:<p>The main aim of Dreyer when it came to delving deep into relating the st
 ory of<em>&nbsp;Vampyr</em>&nbsp;is to show in a certain way, that horror a
 ppears because of what is produced in the mind of the individual, more so t
 han the events that are taking place around him.</p><p><strong>Synopsis:</s
 trong></p><p>A young drifter, Allan Gray, takes lodging in a mysterious sec
 luded inn. There, he begins to have creepy visions, the most horrifying of 
 them being the discovery of an unconscious woman who had been attacked by a
  vampire in the form of a witch.</p><p><strong>+ Info:&nbsp;</strong><a hre
 f="http://www.auladecine.ulpgc.es/"><strong>Aula de Cine ULPGC</strong></a>
 </p>
DTSTAMP:20260424T103231Z
DTSTART;TZID=Atlantic/Canary:20200219T190000
SEQUENCE:0
TRANSP:OPAQUE
END:VEVENT
END:VCALENDAR