BEGIN:VCALENDAR
VERSION:2.0
PRODID:-//jEvents 2.0 for Joomla//EN
CALSCALE:GREGORIAN
METHOD:PUBLISH
BEGIN:VTIMEZONE
TZID:Atlantic/Canary
BEGIN:STANDARD
DTSTART:20190212T000000
RDATE:20190331T020000
TZOFFSETFROM:+0100
TZOFFSETTO:+0000
TZNAME:Atlantic/Canary WET
END:STANDARD
BEGIN:STANDARD
DTSTART:20191027T010000
RDATE:20200329T020000
TZOFFSETFROM:+0100
TZOFFSETTO:+0000
TZNAME:Atlantic/Canary WET
END:STANDARD
BEGIN:STANDARD
DTSTART:20201025T010000
RDATE:20210328T020000
TZOFFSETFROM:+0100
TZOFFSETTO:+0000
TZNAME:Atlantic/Canary WET
END:STANDARD
BEGIN:STANDARD
DTSTART:20211031T010000
RDATE:20220327T020000
TZOFFSETFROM:+0100
TZOFFSETTO:+0000
TZNAME:Atlantic/Canary WET
END:STANDARD
BEGIN:STANDARD
DTSTART:20221030T010000
RDATE:20230326T020000
TZOFFSETFROM:+0100
TZOFFSETTO:+0000
TZNAME:Atlantic/Canary WET
END:STANDARD
BEGIN:STANDARD
DTSTART:20231029T010000
RDATE:20240331T020000
TZOFFSETFROM:+0100
TZOFFSETTO:+0000
TZNAME:Atlantic/Canary WET
END:STANDARD
BEGIN:DAYLIGHT
DTSTART:20190331T020000
RDATE:20191027T010000
TZOFFSETFROM:+0000
TZOFFSETTO:+0100
TZNAME:Atlantic/Canary WEST
END:DAYLIGHT
BEGIN:DAYLIGHT
DTSTART:20200329T020000
RDATE:20201025T010000
TZOFFSETFROM:+0000
TZOFFSETTO:+0100
TZNAME:Atlantic/Canary WEST
END:DAYLIGHT
BEGIN:DAYLIGHT
DTSTART:20210328T020000
RDATE:20211031T010000
TZOFFSETFROM:+0000
TZOFFSETTO:+0100
TZNAME:Atlantic/Canary WEST
END:DAYLIGHT
BEGIN:DAYLIGHT
DTSTART:20220327T020000
RDATE:20221030T010000
TZOFFSETFROM:+0000
TZOFFSETTO:+0100
TZNAME:Atlantic/Canary WEST
END:DAYLIGHT
BEGIN:DAYLIGHT
DTSTART:20230326T020000
RDATE:20231029T010000
TZOFFSETFROM:+0000
TZOFFSETTO:+0100
TZNAME:Atlantic/Canary WEST
END:DAYLIGHT
END:VTIMEZONE
BEGIN:VEVENT
UID:ccb1a60d1c1afaa9756353572921c76d
CATEGORIES:Exhibitions / Museums
CREATED:20200213T085900
SUMMARY:Exhibition "El canon rebelde (The wayward canon)", by Mark Aerial Waller
LOCATION:CAAM - San Antonio Abad
DESCRIPTION;ENCODING=QUOTED-PRINTABLE:\n\nMark Aerial Waller's work transits between video, photography and insta
 llation across the narrative languages of film, television and video art. H
 is work integrates cross-references on film, music, art, astronomy, history
 , science and literature with elements of pop culture that coexist in our m
 emory.\n\n\nThis exhibition presents a selection of works that activate the
  legacy of the avant-garde as a space for the breakdown and expansion of ar
 tistic conventions. Recovering science fiction as a sheltering cloak to ima
 gine utopia confronting the dominant trend that leads us towards a dystopia
 n future of neoliberalism, climate change and post-truth.&nbsp;\n\n\n+ Info
 :&nbsp;CAAM\n
DTSTAMP:20260420T112155Z
DTSTART;TZID=Atlantic/Canary;VALUE=DATE:20200213
DTEND;TZID=Atlantic/Canary;VALUE=DATE:20200525
SEQUENCE:0
TRANSP:OPAQUE
END:VEVENT
END:VCALENDAR