BEGIN:VCALENDAR
VERSION:2.0
PRODID:-//jEvents 2.0 for Joomla//EN
CALSCALE:GREGORIAN
METHOD:PUBLISH
BEGIN:VTIMEZONE
TZID:Atlantic/Canary
BEGIN:STANDARD
DTSTART:20190218T093000
RDATE:20190331T020000
TZOFFSETFROM:+0100
TZOFFSETTO:+0000
TZNAME:Atlantic/Canary WET
END:STANDARD
BEGIN:STANDARD
DTSTART:20191027T010000
RDATE:20200329T020000
TZOFFSETFROM:+0100
TZOFFSETTO:+0000
TZNAME:Atlantic/Canary WET
END:STANDARD
BEGIN:STANDARD
DTSTART:20201025T010000
RDATE:20210328T020000
TZOFFSETFROM:+0100
TZOFFSETTO:+0000
TZNAME:Atlantic/Canary WET
END:STANDARD
BEGIN:STANDARD
DTSTART:20211031T010000
RDATE:20220327T020000
TZOFFSETFROM:+0100
TZOFFSETTO:+0000
TZNAME:Atlantic/Canary WET
END:STANDARD
BEGIN:STANDARD
DTSTART:20221030T010000
RDATE:20230326T020000
TZOFFSETFROM:+0100
TZOFFSETTO:+0000
TZNAME:Atlantic/Canary WET
END:STANDARD
BEGIN:STANDARD
DTSTART:20231029T010000
RDATE:20240331T020000
TZOFFSETFROM:+0100
TZOFFSETTO:+0000
TZNAME:Atlantic/Canary WET
END:STANDARD
BEGIN:DAYLIGHT
DTSTART:20190331T020000
RDATE:20191027T010000
TZOFFSETFROM:+0000
TZOFFSETTO:+0100
TZNAME:Atlantic/Canary WEST
END:DAYLIGHT
BEGIN:DAYLIGHT
DTSTART:20200329T020000
RDATE:20201025T010000
TZOFFSETFROM:+0000
TZOFFSETTO:+0100
TZNAME:Atlantic/Canary WEST
END:DAYLIGHT
BEGIN:DAYLIGHT
DTSTART:20210328T020000
RDATE:20211031T010000
TZOFFSETFROM:+0000
TZOFFSETTO:+0100
TZNAME:Atlantic/Canary WEST
END:DAYLIGHT
BEGIN:DAYLIGHT
DTSTART:20220327T020000
RDATE:20221030T010000
TZOFFSETFROM:+0000
TZOFFSETTO:+0100
TZNAME:Atlantic/Canary WEST
END:DAYLIGHT
BEGIN:DAYLIGHT
DTSTART:20230326T020000
RDATE:20231029T010000
TZOFFSETFROM:+0000
TZOFFSETTO:+0100
TZNAME:Atlantic/Canary WEST
END:DAYLIGHT
END:VTIMEZONE
BEGIN:VEVENT
UID:6c71bbd27605c2f6beeaffc86664a2f5
CATEGORIES:Meetings / Conferences
CREATED:20200217T113510
SUMMARY:Breakfast Presentation of the debating group ‘Editatona Gran Canaria’
LOCATION:Casa de Colón
DESCRIPTION;ENCODING=QUOTED-PRINTABLE:<p>Topic for debate: Visibility of women in a professional environment</p><
 p>Participating members:&nbsp;Elena Acosta, Director of the Casa de Col&oac
 ute;n;&nbsp;Milagros Rico, Vicerrectora de Calidad (Vice-rector of Quality)
  at the university - ULPGC;&nbsp;Pino Caballero, Teacher at the ULL;&nbsp;S
 ara Mateos, Director of the Foundation DISA.&nbsp;</p><p>Moderators:&nbsp;&
 Aacute;ngeles Arencibia, with intervention by&nbsp;Patricia Horrillo.</p><p
 ><strong>+ Info:&nbsp;<a href="https://www.editatonagrancanaria.com/?fbclid
 =IwAR0JC_c8nWh3wZ2JsvFcAJJnIzsRNz7w3si2564TIruFcnXQQI-yrme8U-0">Editatona G
 ran Canaria</a></strong></p>
DTSTAMP:20260424T120426Z
DTSTART;TZID=Atlantic/Canary:20200219T093000
DTEND;TZID=Atlantic/Canary:20200219T110000
SEQUENCE:0
TRANSP:OPAQUE
END:VEVENT
END:VCALENDAR