BEGIN:VCALENDAR
VERSION:2.0
PRODID:-//jEvents 2.0 for Joomla//EN
CALSCALE:GREGORIAN
METHOD:PUBLISH
BEGIN:VTIMEZONE
TZID:Atlantic/Canary
BEGIN:STANDARD
DTSTART:20190210T000000
RDATE:20190331T020000
TZOFFSETFROM:+0100
TZOFFSETTO:+0000
TZNAME:Atlantic/Canary WET
END:STANDARD
BEGIN:STANDARD
DTSTART:20191027T010000
RDATE:20200329T020000
TZOFFSETFROM:+0100
TZOFFSETTO:+0000
TZNAME:Atlantic/Canary WET
END:STANDARD
BEGIN:STANDARD
DTSTART:20201025T010000
RDATE:20210328T020000
TZOFFSETFROM:+0100
TZOFFSETTO:+0000
TZNAME:Atlantic/Canary WET
END:STANDARD
BEGIN:STANDARD
DTSTART:20211031T010000
RDATE:20220327T020000
TZOFFSETFROM:+0100
TZOFFSETTO:+0000
TZNAME:Atlantic/Canary WET
END:STANDARD
BEGIN:STANDARD
DTSTART:20221030T010000
RDATE:20230326T020000
TZOFFSETFROM:+0100
TZOFFSETTO:+0000
TZNAME:Atlantic/Canary WET
END:STANDARD
BEGIN:STANDARD
DTSTART:20231029T010000
RDATE:20240331T020000
TZOFFSETFROM:+0100
TZOFFSETTO:+0000
TZNAME:Atlantic/Canary WET
END:STANDARD
BEGIN:DAYLIGHT
DTSTART:20190331T020000
RDATE:20191027T010000
TZOFFSETFROM:+0000
TZOFFSETTO:+0100
TZNAME:Atlantic/Canary WEST
END:DAYLIGHT
BEGIN:DAYLIGHT
DTSTART:20200329T020000
RDATE:20201025T010000
TZOFFSETFROM:+0000
TZOFFSETTO:+0100
TZNAME:Atlantic/Canary WEST
END:DAYLIGHT
BEGIN:DAYLIGHT
DTSTART:20210328T020000
RDATE:20211031T010000
TZOFFSETFROM:+0000
TZOFFSETTO:+0100
TZNAME:Atlantic/Canary WEST
END:DAYLIGHT
BEGIN:DAYLIGHT
DTSTART:20220327T020000
RDATE:20221030T010000
TZOFFSETFROM:+0000
TZOFFSETTO:+0100
TZNAME:Atlantic/Canary WEST
END:DAYLIGHT
BEGIN:DAYLIGHT
DTSTART:20230326T020000
RDATE:20231029T010000
TZOFFSETFROM:+0000
TZOFFSETTO:+0100
TZNAME:Atlantic/Canary WEST
END:DAYLIGHT
END:VTIMEZONE
BEGIN:VEVENT
UID:8421613c2111049c6701e43659a5190b
CATEGORIES:Exhibitions / Museums
CREATED:20200302T141228
SUMMARY:Exhibition "Mujeres Nobel de Ciencias"(Women Science Nobel Winners)
LOCATION:Casa de Colón
DESCRIPTION;ENCODING=QUOTED-PRINTABLE:\n\nThe exhibition "Mujeres Nobel" is an exhibitive project, divided into t
 hree sections, which may be visited simulatneously at three venues pertaini
 ng to the Cabildo (Island Council) of Gran Canaria:\n\n\nCasa de Col&oacute
 ;n - Women Nobel Prize for Science\n\n\nCasa-Museo P&eacute;rez Gald&oacute
 ;s - Women Nobel Prize for Literature\n\n\nCasa-Museo Le&oacute;n y Castill
 o &ndash; Women Nobel Prize for Peace\n\n\nThe exhibition pays tribute to t
 he life &amp; professional career of a series of women who have won the pre
 stigious Nobel Prizes for Physics, Chemistry, Medicine &amp; Physiology, Pe
 ace and Literature, who are and have undoubtedly been model examples in the
 ir respective fields, and thus contributing in a significant way to the pro
 gress &amp; development of mankind.\n\n\n+ Info:&nbsp;Casa de Col&oacute;n\
 n
DTSTAMP:20260424T091238Z
DTSTART;TZID=Atlantic/Canary;VALUE=DATE:20200211
DTEND;TZID=Atlantic/Canary;VALUE=DATE:20200330
SEQUENCE:0
TRANSP:OPAQUE
END:VEVENT
END:VCALENDAR