BEGIN:VCALENDAR
VERSION:2.0
PRODID:-//jEvents 2.0 for Joomla//EN
CALSCALE:GREGORIAN
METHOD:PUBLISH
BEGIN:VTIMEZONE
TZID:Atlantic/Canary
BEGIN:STANDARD
DTSTART:20190210T000000
RDATE:20190331T020000
TZOFFSETFROM:+0100
TZOFFSETTO:+0000
TZNAME:Atlantic/Canary WET
END:STANDARD
BEGIN:STANDARD
DTSTART:20191027T010000
RDATE:20200329T020000
TZOFFSETFROM:+0100
TZOFFSETTO:+0000
TZNAME:Atlantic/Canary WET
END:STANDARD
BEGIN:STANDARD
DTSTART:20201025T010000
RDATE:20210328T020000
TZOFFSETFROM:+0100
TZOFFSETTO:+0000
TZNAME:Atlantic/Canary WET
END:STANDARD
BEGIN:STANDARD
DTSTART:20211031T010000
RDATE:20220327T020000
TZOFFSETFROM:+0100
TZOFFSETTO:+0000
TZNAME:Atlantic/Canary WET
END:STANDARD
BEGIN:STANDARD
DTSTART:20221030T010000
RDATE:20230326T020000
TZOFFSETFROM:+0100
TZOFFSETTO:+0000
TZNAME:Atlantic/Canary WET
END:STANDARD
BEGIN:STANDARD
DTSTART:20231029T010000
RDATE:20240331T020000
TZOFFSETFROM:+0100
TZOFFSETTO:+0000
TZNAME:Atlantic/Canary WET
END:STANDARD
BEGIN:DAYLIGHT
DTSTART:20190331T020000
RDATE:20191027T010000
TZOFFSETFROM:+0000
TZOFFSETTO:+0100
TZNAME:Atlantic/Canary WEST
END:DAYLIGHT
BEGIN:DAYLIGHT
DTSTART:20200329T020000
RDATE:20201025T010000
TZOFFSETFROM:+0000
TZOFFSETTO:+0100
TZNAME:Atlantic/Canary WEST
END:DAYLIGHT
BEGIN:DAYLIGHT
DTSTART:20210328T020000
RDATE:20211031T010000
TZOFFSETFROM:+0000
TZOFFSETTO:+0100
TZNAME:Atlantic/Canary WEST
END:DAYLIGHT
BEGIN:DAYLIGHT
DTSTART:20220327T020000
RDATE:20221030T010000
TZOFFSETFROM:+0000
TZOFFSETTO:+0100
TZNAME:Atlantic/Canary WEST
END:DAYLIGHT
BEGIN:DAYLIGHT
DTSTART:20230326T020000
RDATE:20231029T010000
TZOFFSETFROM:+0000
TZOFFSETTO:+0100
TZNAME:Atlantic/Canary WEST
END:DAYLIGHT
END:VTIMEZONE
BEGIN:VEVENT
UID:6b5d6931357fd9d1347cca3a43e3c5f1
CATEGORIES:Exhibitions / Museums
CREATED:20200302T141845
SUMMARY:Exhibition "Mujeres Nobel de Literatura"(Women Literature Nobel Winners)
LOCATION:Casa Museo Pérez Galdós
DESCRIPTION;ENCODING=QUOTED-PRINTABLE:<p>The exhibition "Mujeres Nobel" is an exhibitive project, divided into th
 ree sections, which may be visited simulatneously at three venues pertainin
 g to the Cabildo (Island Council) of Gran Canaria:</p><p>Casa de Col&oacute
 ;n - Women Nobel Prize for Science</p><p>Casa-Museo P&eacute;rez Gald&oacut
 e;s - Women Nobel Prize for Literature</p><p>Casa-Museo Le&oacute;n y Casti
 llo &ndash; Women Nobel Prize for Peace</p><p>The exhibition pays tribute t
 o the life &amp; professional career of a series of women who have won the 
 prestigious Nobel Prizes for Physics, Chemistry, Medicine &amp; Physiology,
  Peace and Literature, who are and have undoubtedly been model examples in 
 their respective fields, and thus contributing in a significant way to the 
 progress &amp; development of mankind.</p><p><strong>+ Info:&nbsp;</strong>
 <a href="http://www.casadecolon.com/"><strong>Casa de Col&oacute;n</strong>
 </a></p>
DTSTAMP:20260424T090445Z
DTSTART;TZID=Atlantic/Canary;VALUE=DATE:20200211
DTEND;TZID=Atlantic/Canary;VALUE=DATE:20200330
SEQUENCE:0
TRANSP:OPAQUE
END:VEVENT
END:VCALENDAR