BEGIN:VCALENDAR
VERSION:2.0
PRODID:-//jEvents 2.0 for Joomla//EN
CALSCALE:GREGORIAN
METHOD:PUBLISH
BEGIN:VTIMEZONE
TZID:Atlantic/Canary
BEGIN:STANDARD
DTSTART:20201111T193000
RDATE:20210328T020000
TZOFFSETFROM:+0100
TZOFFSETTO:+0000
TZNAME:Atlantic/Canary WET
END:STANDARD
BEGIN:STANDARD
DTSTART:20211031T010000
RDATE:20220327T020000
TZOFFSETFROM:+0100
TZOFFSETTO:+0000
TZNAME:Atlantic/Canary WET
END:STANDARD
BEGIN:STANDARD
DTSTART:20221030T010000
RDATE:20230326T020000
TZOFFSETFROM:+0100
TZOFFSETTO:+0000
TZNAME:Atlantic/Canary WET
END:STANDARD
BEGIN:STANDARD
DTSTART:20231029T010000
RDATE:20240331T020000
TZOFFSETFROM:+0100
TZOFFSETTO:+0000
TZNAME:Atlantic/Canary WET
END:STANDARD
BEGIN:DAYLIGHT
DTSTART:20210328T020000
RDATE:20211031T010000
TZOFFSETFROM:+0000
TZOFFSETTO:+0100
TZNAME:Atlantic/Canary WEST
END:DAYLIGHT
BEGIN:DAYLIGHT
DTSTART:20220327T020000
RDATE:20221030T010000
TZOFFSETFROM:+0000
TZOFFSETTO:+0100
TZNAME:Atlantic/Canary WEST
END:DAYLIGHT
BEGIN:DAYLIGHT
DTSTART:20230326T020000
RDATE:20231029T010000
TZOFFSETFROM:+0000
TZOFFSETTO:+0100
TZNAME:Atlantic/Canary WEST
END:DAYLIGHT
END:VTIMEZONE
BEGIN:VEVENT
UID:6f9205b420271ccd8d403c12eb878f6d
CATEGORIES:Music
CREATED:20211015T140006
SUMMARY:A Hundred Years of ‘Piazzola’ | Autumn Jazz 2021
LOCATION:Sala Insular de Teatro
DESCRIPTION;ENCODING=QUOTED-PRINTABLE:<p>A musical conversation where Mariel Mart&iacute;nez &amp; Fabi&aacute;n 
 Carbone perform the work by the great composer Astor Piazzolla in the year 
 of his centenary.</p><p>An exquisite concert full of subtle nuances and wit
 h the full force of the tango.</p><p><strong>+ Info:&nbsp;</strong><a href=
 "https://www.mgticket.com/faaee/salainsular/public/janto/"><strong>Sala Ins
 ular de Teatro (SIT)</strong></a></p>
DTSTAMP:20260425T225746Z
DTSTART;TZID=Atlantic/Canary:20211112T193000
SEQUENCE:0
TRANSP:OPAQUE
END:VEVENT
END:VCALENDAR