BEGIN:VCALENDAR
VERSION:2.0
PRODID:-//jEvents 2.0 for Joomla//EN
CALSCALE:GREGORIAN
METHOD:PUBLISH
BEGIN:VTIMEZONE
TZID:Atlantic/Canary
BEGIN:STANDARD
DTSTART:20201101T190000
RDATE:20210328T020000
TZOFFSETFROM:+0100
TZOFFSETTO:+0000
TZNAME:Atlantic/Canary WET
END:STANDARD
BEGIN:STANDARD
DTSTART:20211031T010000
RDATE:20220327T020000
TZOFFSETFROM:+0100
TZOFFSETTO:+0000
TZNAME:Atlantic/Canary WET
END:STANDARD
BEGIN:STANDARD
DTSTART:20221030T010000
RDATE:20230326T020000
TZOFFSETFROM:+0100
TZOFFSETTO:+0000
TZNAME:Atlantic/Canary WET
END:STANDARD
BEGIN:STANDARD
DTSTART:20231029T010000
RDATE:20240331T020000
TZOFFSETFROM:+0100
TZOFFSETTO:+0000
TZNAME:Atlantic/Canary WET
END:STANDARD
BEGIN:DAYLIGHT
DTSTART:20210328T020000
RDATE:20211031T010000
TZOFFSETFROM:+0000
TZOFFSETTO:+0100
TZNAME:Atlantic/Canary WEST
END:DAYLIGHT
BEGIN:DAYLIGHT
DTSTART:20220327T020000
RDATE:20221030T010000
TZOFFSETFROM:+0000
TZOFFSETTO:+0100
TZNAME:Atlantic/Canary WEST
END:DAYLIGHT
BEGIN:DAYLIGHT
DTSTART:20230326T020000
RDATE:20231029T010000
TZOFFSETFROM:+0000
TZOFFSETTO:+0100
TZNAME:Atlantic/Canary WEST
END:DAYLIGHT
END:VTIMEZONE
BEGIN:VEVENT
UID:16ec52a3e1df4931af70a9348ce28f82
CATEGORIES:Music, Exhibitions / Museums
CREATED:20211031T184410
SUMMARY:Concert “Islas Mar Música”. ‘Litany, Poetry & Music’
LOCATION:Casa Museo Pérez Galdós
DESCRIPTION;ENCODING=QUOTED-PRINTABLE:<p><em>&ldquo;Islas, Mar, M&uacute;sica&rdquo;</em>&nbsp;is a project based
  on 12 concerts, the common thread being the museum-house &lsquo;Casa-Museo
 &rsquo; on the island of Gran Canaria.&nbsp;The musical content will be for
  the most part made up of early music and interpreted by specialists in the
  repertoire.</p><p>On this occasion you will be treated to&nbsp;<strong>Lit
 any, Poetry &amp; Music,</strong> with <strong>Acerina Cruz (Poet) </strong
 >&amp;<strong> Vicent Bru I Soler (Clave).</strong></p><p><strong>Limited a
 udience capacity. Free entrance.&nbsp;</strong></p><p><strong>+ Info y prog
 rama:&nbsp;</strong><a href="http://www.casamuseoperezgaldos.com/"><strong>
 Casa-Museo P&eacute;rez Gald&oacute;s</strong></a></p>
DTSTAMP:20260425T224316Z
DTSTART;TZID=Atlantic/Canary:20211102T190000
SEQUENCE:0
TRANSP:OPAQUE
END:VEVENT
END:VCALENDAR