BEGIN:VCALENDAR
VERSION:2.0
PRODID:-//jEvents 2.0 for Joomla//EN
CALSCALE:GREGORIAN
METHOD:PUBLISH
BEGIN:VTIMEZONE
TZID:Atlantic/Canary
BEGIN:STANDARD
DTSTART:20201117T200000
RDATE:20210328T020000
TZOFFSETFROM:+0100
TZOFFSETTO:+0000
TZNAME:Atlantic/Canary WET
END:STANDARD
BEGIN:STANDARD
DTSTART:20211031T010000
RDATE:20220327T020000
TZOFFSETFROM:+0100
TZOFFSETTO:+0000
TZNAME:Atlantic/Canary WET
END:STANDARD
BEGIN:STANDARD
DTSTART:20221030T010000
RDATE:20230326T020000
TZOFFSETFROM:+0100
TZOFFSETTO:+0000
TZNAME:Atlantic/Canary WET
END:STANDARD
BEGIN:STANDARD
DTSTART:20231029T010000
RDATE:20240331T020000
TZOFFSETFROM:+0100
TZOFFSETTO:+0000
TZNAME:Atlantic/Canary WET
END:STANDARD
BEGIN:DAYLIGHT
DTSTART:20210328T020000
RDATE:20211031T010000
TZOFFSETFROM:+0000
TZOFFSETTO:+0100
TZNAME:Atlantic/Canary WEST
END:DAYLIGHT
BEGIN:DAYLIGHT
DTSTART:20220327T020000
RDATE:20221030T010000
TZOFFSETFROM:+0000
TZOFFSETTO:+0100
TZNAME:Atlantic/Canary WEST
END:DAYLIGHT
BEGIN:DAYLIGHT
DTSTART:20230326T020000
RDATE:20231029T010000
TZOFFSETFROM:+0000
TZOFFSETTO:+0100
TZNAME:Atlantic/Canary WEST
END:DAYLIGHT
END:VTIMEZONE
BEGIN:VEVENT
UID:590afd90e20ee65f9c2236e80316f02e
CATEGORIES:Music
CREATED:20211031T214157
SUMMARY:Concert 6 | Season 2021/22 Gran Canaria Philharmonic Orchestra ‘OFGC’
LOCATION:Auditorio Alfredo Kraus
DESCRIPTION;ENCODING=QUOTED-PRINTABLE:\n\nFollowing the success of its premiere, la &lsquo;OFGC&rsquo; features a
 gain the cantata &lsquo;Monta&ntilde;as Sagradas de Gran Canaria&rsquo; by 
 Ernesto Mateo with verses by Jos&eacute; Antonio Luj&aacute;n, conducted on
  this occasion by the young Maestro David Gonz&aacute;lez, one of the great
  promises of orchestral conducting on the islands.\n\n\nFunctions:\n\n\nThu
 rsday 18 &amp; Friday 19 November 2021, at 20:00 hours\n\n\n+ Info:&nbsp;Au
 ditorio Alfredo Kraus\n
DTSTAMP:20260425T224133Z
DTSTART;TZID=Atlantic/Canary:20211118T200000
DTEND;TZID=Atlantic/Canary:20211119T200000
SEQUENCE:0
TRANSP:OPAQUE
END:VEVENT
END:VCALENDAR