BEGIN:VCALENDAR
VERSION:2.0
PRODID:-//jEvents 2.0 for Joomla//EN
CALSCALE:GREGORIAN
METHOD:PUBLISH
BEGIN:VTIMEZONE
TZID:Atlantic/Canary
BEGIN:STANDARD
DTSTART:20201101T190000
RDATE:20210328T020000
TZOFFSETFROM:+0100
TZOFFSETTO:+0000
TZNAME:Atlantic/Canary WET
END:STANDARD
BEGIN:STANDARD
DTSTART:20211031T010000
RDATE:20220327T020000
TZOFFSETFROM:+0100
TZOFFSETTO:+0000
TZNAME:Atlantic/Canary WET
END:STANDARD
BEGIN:STANDARD
DTSTART:20221030T010000
RDATE:20230326T020000
TZOFFSETFROM:+0100
TZOFFSETTO:+0000
TZNAME:Atlantic/Canary WET
END:STANDARD
BEGIN:STANDARD
DTSTART:20231029T010000
RDATE:20240331T020000
TZOFFSETFROM:+0100
TZOFFSETTO:+0000
TZNAME:Atlantic/Canary WET
END:STANDARD
BEGIN:DAYLIGHT
DTSTART:20210328T020000
RDATE:20211031T010000
TZOFFSETFROM:+0000
TZOFFSETTO:+0100
TZNAME:Atlantic/Canary WEST
END:DAYLIGHT
BEGIN:DAYLIGHT
DTSTART:20220327T020000
RDATE:20221030T010000
TZOFFSETFROM:+0000
TZOFFSETTO:+0100
TZNAME:Atlantic/Canary WEST
END:DAYLIGHT
BEGIN:DAYLIGHT
DTSTART:20230326T020000
RDATE:20231029T010000
TZOFFSETFROM:+0000
TZOFFSETTO:+0100
TZNAME:Atlantic/Canary WEST
END:DAYLIGHT
END:VTIMEZONE
BEGIN:VEVENT
UID:96a031b8ecc5ea831b0109cb1b48ecaa
CATEGORIES:Audiovisual / Cinema
CREATED:20211101T093204
SUMMARY:“El teléfono del viento”(Voices in the Wind) | ‘Tour D’A 2021’ | ‘Filmoteca Canaria’
LOCATION:Teatro Guiniguada
DESCRIPTION;ENCODING=QUOTED-PRINTABLE:<p><strong>&lsquo;Tour D&rsquo;A 2021&rsquo;</strong>&nbsp;travels to the C
 anary Islands in November &amp; December with a programme specially selecte
 d by the festival &amp;&nbsp;&lsquo;<strong>Filmoteca Canaria&rsquo;</stron
 g>&nbsp;to bring to the fore the creativity, personality &amp; artistic fre
 edom of the directors, and as well as to celebrate cinephilia.</p><p><stron
 g>&ldquo;El tel&eacute;fono del viento&rdquo; (Voices in the Wind) (2020)</
 strong></p><p><strong>Synopsis:</strong>&nbsp;17 year-old Haru, sets out on
  a long journey through Japan to search for answers in a city where, in the
  year 2011, the devastating tsunami swept away her brother &amp; parents.</
 p><p><strong>+ Info:&nbsp;</strong><a href="https://www3.gobiernodecanarias
 .org/cultura/ocio/teatroguiniguada/"><strong>Teatro Guiniguada</strong></a>
 <a href="https://www3.gobiernodecanarias.org/cultura/teatroguiniguada/event
 os/filmoteca-canaria-winter-flies/"><strong><br /> </strong></a></p>
DTSTAMP:20260425T224317Z
DTSTART;TZID=Atlantic/Canary:20211102T190000
SEQUENCE:0
TRANSP:OPAQUE
END:VEVENT
END:VCALENDAR