BEGIN:VCALENDAR
VERSION:2.0
PRODID:-//jEvents 2.0 for Joomla//EN
CALSCALE:GREGORIAN
METHOD:PUBLISH
BEGIN:VTIMEZONE
TZID:Atlantic/Canary
BEGIN:STANDARD
DTSTART:20201129T190000
RDATE:20210328T020000
TZOFFSETFROM:+0100
TZOFFSETTO:+0000
TZNAME:Atlantic/Canary WET
END:STANDARD
BEGIN:STANDARD
DTSTART:20211031T010000
RDATE:20220327T020000
TZOFFSETFROM:+0100
TZOFFSETTO:+0000
TZNAME:Atlantic/Canary WET
END:STANDARD
BEGIN:STANDARD
DTSTART:20221030T010000
RDATE:20230326T020000
TZOFFSETFROM:+0100
TZOFFSETTO:+0000
TZNAME:Atlantic/Canary WET
END:STANDARD
BEGIN:STANDARD
DTSTART:20231029T010000
RDATE:20240331T020000
TZOFFSETFROM:+0100
TZOFFSETTO:+0000
TZNAME:Atlantic/Canary WET
END:STANDARD
BEGIN:DAYLIGHT
DTSTART:20210328T020000
RDATE:20211031T010000
TZOFFSETFROM:+0000
TZOFFSETTO:+0100
TZNAME:Atlantic/Canary WEST
END:DAYLIGHT
BEGIN:DAYLIGHT
DTSTART:20220327T020000
RDATE:20221030T010000
TZOFFSETFROM:+0000
TZOFFSETTO:+0100
TZNAME:Atlantic/Canary WEST
END:DAYLIGHT
BEGIN:DAYLIGHT
DTSTART:20230326T020000
RDATE:20231029T010000
TZOFFSETFROM:+0000
TZOFFSETTO:+0100
TZNAME:Atlantic/Canary WEST
END:DAYLIGHT
END:VTIMEZONE
BEGIN:VEVENT
UID:db1233fea1949ea2ff3e22b92c0628d8
CATEGORIES:Audiovisual / Cinema
CREATED:20211101T103112
SUMMARY:“Nunca volverá a nevar” (Never Gonna Snow Again) | ‘Tour D’A 2021’ | ‘Filmoteca Canaria’
LOCATION:Teatro Guiniguada
DESCRIPTION;ENCODING=QUOTED-PRINTABLE:<p><strong>&lsquo;Tour D&rsquo;A 2021&rsquo;</strong>&nbsp;travels to the C
 anary Islands in November &amp; December with a programme specially selecte
 d by the festival &amp;&nbsp;&lsquo;<strong>Filmoteca Canaria&rsquo;</stron
 g>&nbsp;to bring to the fore the creativity, personality &amp; artistic fre
 edom of the directors, and as well as to celebrate cinephilia.</p><p><stron
 g>&ldquo;Nunca volver&aacute; a nevar&rdquo; (Never Gonna Snow Again) &nbsp
 ;(2020)</strong></p><p><strong>Synopsis:</strong>&nbsp;A hypnotic fable &am
 p; with surreal touches in which the arrival of an attractive immigrant fro
 m the east to a wealthy neighborhood in Warsaw causes a sensation due to hi
 s almost miraculous skills as a masseur. In his hands, however, a unique gi
 ft is hidden; a healing power that penetrates the lonely souls of his clien
 ts and that makes them an object of desire.</p><p><strong>+ Info:&nbsp;<a h
 ref="https://www3.gobiernodecanarias.org/cultura/ocio/teatroguiniguada/">Te
 atro Guiniguada</a></strong><a href="https://www3.gobiernodecanarias.org/cu
 ltura/teatroguiniguada/eventos/filmoteca-canaria-winter-flies/"><strong><br
  /> </strong></a></p>
DTSTAMP:20260425T224309Z
DTSTART;TZID=Atlantic/Canary:20211130T190000
SEQUENCE:0
TRANSP:OPAQUE
END:VEVENT
END:VCALENDAR