BEGIN:VCALENDAR
VERSION:2.0
PRODID:-//jEvents 2.0 for Joomla//EN
CALSCALE:GREGORIAN
METHOD:PUBLISH
BEGIN:VTIMEZONE
TZID:Atlantic/Canary
BEGIN:STANDARD
DTSTART:20201122T200000
RDATE:20210328T020000
TZOFFSETFROM:+0100
TZOFFSETTO:+0000
TZNAME:Atlantic/Canary WET
END:STANDARD
BEGIN:STANDARD
DTSTART:20211031T010000
RDATE:20220327T020000
TZOFFSETFROM:+0100
TZOFFSETTO:+0000
TZNAME:Atlantic/Canary WET
END:STANDARD
BEGIN:STANDARD
DTSTART:20221030T010000
RDATE:20230326T020000
TZOFFSETFROM:+0100
TZOFFSETTO:+0000
TZNAME:Atlantic/Canary WET
END:STANDARD
BEGIN:STANDARD
DTSTART:20231029T010000
RDATE:20240331T020000
TZOFFSETFROM:+0100
TZOFFSETTO:+0000
TZNAME:Atlantic/Canary WET
END:STANDARD
BEGIN:DAYLIGHT
DTSTART:20210328T020000
RDATE:20211031T010000
TZOFFSETFROM:+0000
TZOFFSETTO:+0100
TZNAME:Atlantic/Canary WEST
END:DAYLIGHT
BEGIN:DAYLIGHT
DTSTART:20220327T020000
RDATE:20221030T010000
TZOFFSETFROM:+0000
TZOFFSETTO:+0100
TZNAME:Atlantic/Canary WEST
END:DAYLIGHT
BEGIN:DAYLIGHT
DTSTART:20230326T020000
RDATE:20231029T010000
TZOFFSETFROM:+0000
TZOFFSETTO:+0100
TZNAME:Atlantic/Canary WEST
END:DAYLIGHT
END:VTIMEZONE
BEGIN:VEVENT
UID:7c4ec8be142eda97a2073f5236aea946
CATEGORIES:Performing Arts /  Dance, Meetings / Conferences
CREATED:20211103T143911
SUMMARY:Encounter with Rafael Álvarez “EL BRUJO"
LOCATION:Centro Cultural de la Caja de Canarias (CICCA)
DESCRIPTION;ENCODING=QUOTED-PRINTABLE:<p>Within the Canary Islands International Performing Arts Festival, CAE, a
 nd as a complimentary activity for the second year, we present the &lsquo;E
 ncuentro (encounter) CAE&rsquo; with the Maestro Rafael &Aacute;lvarez &ldq
 uo;EL BRUJO", in which the actor &amp; theatrical director will interact fr
 om the stage with the attending audience, contributing a small part of his 
 extensive professional experience in the theatre.</p><p><strong>+ Info:&nbs
 p;</strong><a href="https://www.fundacionlacajadecanarias.es/agenda-cultura
 l/"><strong>CICCA</strong></a></p>
DTSTAMP:20260425T224310Z
DTSTART;TZID=Atlantic/Canary:20211123T200000
SEQUENCE:0
TRANSP:OPAQUE
END:VEVENT
END:VCALENDAR