BEGIN:VCALENDAR
VERSION:2.0
PRODID:-//jEvents 2.0 for Joomla//EN
CALSCALE:GREGORIAN
METHOD:PUBLISH
BEGIN:VTIMEZONE
TZID:Atlantic/Canary
BEGIN:STANDARD
DTSTART:20190206T200000
RDATE:20190331T020000
TZOFFSETFROM:+0100
TZOFFSETTO:+0000
TZNAME:Atlantic/Canary WET
END:STANDARD
BEGIN:STANDARD
DTSTART:20191027T010000
RDATE:20200329T020000
TZOFFSETFROM:+0100
TZOFFSETTO:+0000
TZNAME:Atlantic/Canary WET
END:STANDARD
BEGIN:STANDARD
DTSTART:20201025T010000
RDATE:20210328T020000
TZOFFSETFROM:+0100
TZOFFSETTO:+0000
TZNAME:Atlantic/Canary WET
END:STANDARD
BEGIN:STANDARD
DTSTART:20211031T010000
RDATE:20220327T020000
TZOFFSETFROM:+0100
TZOFFSETTO:+0000
TZNAME:Atlantic/Canary WET
END:STANDARD
BEGIN:STANDARD
DTSTART:20221030T010000
RDATE:20230326T020000
TZOFFSETFROM:+0100
TZOFFSETTO:+0000
TZNAME:Atlantic/Canary WET
END:STANDARD
BEGIN:STANDARD
DTSTART:20231029T010000
RDATE:20240331T020000
TZOFFSETFROM:+0100
TZOFFSETTO:+0000
TZNAME:Atlantic/Canary WET
END:STANDARD
BEGIN:DAYLIGHT
DTSTART:20190331T020000
RDATE:20191027T010000
TZOFFSETFROM:+0000
TZOFFSETTO:+0100
TZNAME:Atlantic/Canary WEST
END:DAYLIGHT
BEGIN:DAYLIGHT
DTSTART:20200329T020000
RDATE:20201025T010000
TZOFFSETFROM:+0000
TZOFFSETTO:+0100
TZNAME:Atlantic/Canary WEST
END:DAYLIGHT
BEGIN:DAYLIGHT
DTSTART:20210328T020000
RDATE:20211031T010000
TZOFFSETFROM:+0000
TZOFFSETTO:+0100
TZNAME:Atlantic/Canary WEST
END:DAYLIGHT
BEGIN:DAYLIGHT
DTSTART:20220327T020000
RDATE:20221030T010000
TZOFFSETFROM:+0000
TZOFFSETTO:+0100
TZNAME:Atlantic/Canary WEST
END:DAYLIGHT
BEGIN:DAYLIGHT
DTSTART:20230326T020000
RDATE:20231029T010000
TZOFFSETFROM:+0000
TZOFFSETTO:+0100
TZNAME:Atlantic/Canary WEST
END:DAYLIGHT
END:VTIMEZONE
BEGIN:VEVENT
UID:a60c54a5115dfbe0107259ce5625ab16
CATEGORIES:Música
CREATED:20200130T143315
SUMMARY:FIMC 2020 | En paralelo | Ensemble Cimadevilla: Piazzolla
LOCATION:Ciudad de Las Palmas de Gran Canaria
DESCRIPTION;ENCODING=QUOTED-PRINTABLE:<p>Esta formaci&oacute;n cl&aacute;sica de quinteto de cuerdas, complementa
 da con bandone&oacute;n y percusi&oacute;n, interpretar&aacute; el aspecto 
 camer&iacute;stico de la m&uacute;sica del compositor argentino&nbsp;<stron
 g>Astor Piazzolla</strong>&nbsp;(1921-1992), en un programa que permitir&aa
 cute; apreciar la complejidad contrapunt&iacute;stica y arm&oacute;nica de 
 estos instrumentos, y que hace hincapi&eacute; en la relaci&oacute;n entre 
 el jazz y la m&uacute;sica cl&aacute;sica, sin descuidar aspectos r&iacute;
 tmicos y din&aacute;micos que caracterizan al tango.</p><p><strong>Lugar:</
 strong> Hotel Santa Catalina</p><p><strong>+ Info:&nbsp;<a href="http://www
 .gobiernodecanarias.org/cultura/36festivaldecanarias/es/enparalelo/Musica/"
  target="_blank" rel="noopener noreferrer">Festival Internacional de M&uacu
 te;sica de Canarias</a></strong></p>
DTSTAMP:20260423T101237Z
DTSTART;TZID=Atlantic/Canary:20200207T200000
SEQUENCE:0
TRANSP:OPAQUE
END:VEVENT
END:VCALENDAR