BEGIN:VCALENDAR
VERSION:2.0
PRODID:-//jEvents 2.0 for Joomla//EN
CALSCALE:GREGORIAN
METHOD:PUBLISH
BEGIN:VTIMEZONE
TZID:Atlantic/Canary
BEGIN:STANDARD
DTSTART:20210321T190000
RDATE:20210328T020000
TZOFFSETFROM:+0100
TZOFFSETTO:+0000
TZNAME:Atlantic/Canary WET
END:STANDARD
BEGIN:STANDARD
DTSTART:20211031T010000
RDATE:20220327T020000
TZOFFSETFROM:+0100
TZOFFSETTO:+0000
TZNAME:Atlantic/Canary WET
END:STANDARD
BEGIN:STANDARD
DTSTART:20221030T010000
RDATE:20230326T020000
TZOFFSETFROM:+0100
TZOFFSETTO:+0000
TZNAME:Atlantic/Canary WET
END:STANDARD
BEGIN:STANDARD
DTSTART:20231029T010000
RDATE:20240331T020000
TZOFFSETFROM:+0100
TZOFFSETTO:+0000
TZNAME:Atlantic/Canary WET
END:STANDARD
BEGIN:DAYLIGHT
DTSTART:20210328T020000
RDATE:20211031T010000
TZOFFSETFROM:+0000
TZOFFSETTO:+0100
TZNAME:Atlantic/Canary WEST
END:DAYLIGHT
BEGIN:DAYLIGHT
DTSTART:20220327T020000
RDATE:20221030T010000
TZOFFSETFROM:+0000
TZOFFSETTO:+0100
TZNAME:Atlantic/Canary WEST
END:DAYLIGHT
BEGIN:DAYLIGHT
DTSTART:20230326T020000
RDATE:20231029T010000
TZOFFSETFROM:+0000
TZOFFSETTO:+0100
TZNAME:Atlantic/Canary WEST
END:DAYLIGHT
END:VTIMEZONE
BEGIN:VEVENT
UID:664cd01866aae765930c9b2fb92438f3
CATEGORIES:Audiovisuales / Cine
CREATED:20220303T140842
SUMMARY:El Documental del Mes: CURVY CREW | Filmoteca Canaria
LOCATION:Teatro Guiniguada
DESCRIPTION;ENCODING=QUOTED-PRINTABLE:<p>La primera vez que Christa subi&oacute; el Kilimanjaro fue lo m&aacute;s
  dif&iacute;cil que hab&iacute;a hecho jam&aacute;s: no encajaba, se sent&i
 acute;a demasiado lenta, demasiado gorda. Entonces no consigui&oacute; lleg
 ar a la cima. A&ntilde;os despu&eacute;s decidi&oacute; terminar lo que hab
 &iacute;a empezado; esta vez, con un grupo de 20 mujeres de talla grande de
 cididas a conquistar la cima africana.&nbsp;</p><p>Este es un documental qu
 e rompe con los estereotipos y pone ante el espejo la presi&oacute;n social
  y el reto de la autoaceptaci&oacute;n que sufren las personas con un cuerp
 o no normativo a trav&eacute;s de entrevistas &iacute;ntimas.</p><p><strong
 >Aforo limitado</strong></p><p><strong>+ Info: <a href="hhttps://www3.gobie
 rnodecanarias.org/cultura/ocio/teatroguiniguada/eventos/filmoteca-canaria-e
 n-el-umbral/" target="_blank" rel="noopener noreferrer">Teatro Guiniguada</
 a></strong></p>
DTSTAMP:20260424T140844Z
DTSTART;TZID=Atlantic/Canary:20220322T190000
SEQUENCE:0
TRANSP:OPAQUE
END:VEVENT
END:VCALENDAR