BEGIN:VCALENDAR
VERSION:2.0
PRODID:-//jEvents 2.0 for Joomla//EN
CALSCALE:GREGORIAN
METHOD:PUBLISH
BEGIN:VTIMEZONE
TZID:Atlantic/Canary
BEGIN:STANDARD
DTSTART:20211031T010000
RDATE:20220327T020000
TZOFFSETFROM:+0100
TZOFFSETTO:+0000
TZNAME:Atlantic/Canary WET
END:STANDARD
BEGIN:STANDARD
DTSTART:20221030T010000
RDATE:20230326T020000
TZOFFSETFROM:+0100
TZOFFSETTO:+0000
TZNAME:Atlantic/Canary WET
END:STANDARD
BEGIN:STANDARD
DTSTART:20231029T010000
RDATE:20240331T020000
TZOFFSETFROM:+0100
TZOFFSETTO:+0000
TZNAME:Atlantic/Canary WET
END:STANDARD
BEGIN:DAYLIGHT
DTSTART:20210902T203000
RDATE:20211031T010000
TZOFFSETFROM:+0000
TZOFFSETTO:+0100
TZNAME:Atlantic/Canary WEST
END:DAYLIGHT
BEGIN:DAYLIGHT
DTSTART:20220327T020000
RDATE:20221030T010000
TZOFFSETFROM:+0000
TZOFFSETTO:+0100
TZNAME:Atlantic/Canary WEST
END:DAYLIGHT
BEGIN:DAYLIGHT
DTSTART:20230326T020000
RDATE:20231029T010000
TZOFFSETFROM:+0000
TZOFFSETTO:+0100
TZNAME:Atlantic/Canary WEST
END:DAYLIGHT
END:VTIMEZONE
BEGIN:VEVENT
UID:b2bd28be4783ba4a74de2c11537a5543
CATEGORIES:Artes escénicas / Danza
CREATED:20220809T121537
SUMMARY:TEMUDAS | Las Bingueras, Las niñas de Cádiz
LOCATION:Edificio Miller
DESCRIPTION;ENCODING=QUOTED-PRINTABLE:<p>Un n&uacute;mero divertido en el que el juego es tan solo una excusa par
 a juntarse</p><p><strong>3 de septiembre, 20:30 horas. Espacio Miller</stro
 ng></p><p>Espect&aacute;culo para todos lo p&uacute;blicos</p><p><strong>+ 
 Info: <a href="http://lpatemudasfest.com/es/">LPA Temudas Fest</a><br /></s
 trong></p>
DTSTAMP:20260423T154504Z
DTSTART;TZID=Atlantic/Canary:20220903T203000
SEQUENCE:0
TRANSP:OPAQUE
END:VEVENT
END:VCALENDAR