BEGIN:VCALENDAR
VERSION:2.0
PRODID:-//jEvents 2.0 for Joomla//EN
CALSCALE:GREGORIAN
METHOD:PUBLISH
BEGIN:VTIMEZONE
TZID:Atlantic/Canary
BEGIN:STANDARD
DTSTART:20211031T010000
RDATE:20220327T020000
TZOFFSETFROM:+0100
TZOFFSETTO:+0000
TZNAME:Atlantic/Canary WET
END:STANDARD
BEGIN:STANDARD
DTSTART:20221030T010000
RDATE:20230326T020000
TZOFFSETFROM:+0100
TZOFFSETTO:+0000
TZNAME:Atlantic/Canary WET
END:STANDARD
BEGIN:STANDARD
DTSTART:20231029T010000
RDATE:20240331T020000
TZOFFSETFROM:+0100
TZOFFSETTO:+0000
TZNAME:Atlantic/Canary WET
END:STANDARD
BEGIN:DAYLIGHT
DTSTART:20211008T200000
RDATE:20211031T010000
TZOFFSETFROM:+0000
TZOFFSETTO:+0100
TZNAME:Atlantic/Canary WEST
END:DAYLIGHT
BEGIN:DAYLIGHT
DTSTART:20220327T020000
RDATE:20221030T010000
TZOFFSETFROM:+0000
TZOFFSETTO:+0100
TZNAME:Atlantic/Canary WEST
END:DAYLIGHT
BEGIN:DAYLIGHT
DTSTART:20230326T020000
RDATE:20231029T010000
TZOFFSETFROM:+0000
TZOFFSETTO:+0100
TZNAME:Atlantic/Canary WEST
END:DAYLIGHT
END:VTIMEZONE
BEGIN:VEVENT
UID:245c3d81b137b4ccfa23b1a178e56413
CATEGORIES:Música
CREATED:20220926T094628
SUMMARY:Fábrica Fest Plus | Jazz Entre Amigos - Sandra Ortega & Jurandir Santana «ALL AROUND THE WORLD»
LOCATION:Fábrica La Isleta
DESCRIPTION;ENCODING=QUOTED-PRINTABLE:<p><strong>&ldquo;All around the world&rdquo;</strong> ha sido la suma de l
 as influencias que han marcado a estos dos artistas en sus trayectorias mus
 icales, dando c&oacute;mo resultado una puesta en escena fresca y alegre.</
 p><p><strong>+ Info:<a href="https://www.fabricaisleta.com/"> F&aacute;bric
 a La Isleta</a></strong></p>
DTSTAMP:20260420T095602Z
DTSTART;TZID=Atlantic/Canary:20221009T200000
SEQUENCE:0
TRANSP:OPAQUE
END:VEVENT
END:VCALENDAR