BEGIN:VCALENDAR
VERSION:2.0
PRODID:-//jEvents 2.0 for Joomla//EN
CALSCALE:GREGORIAN
METHOD:PUBLISH
BEGIN:VTIMEZONE
TZID:Atlantic/Canary
BEGIN:STANDARD
DTSTART:20211031T010000
RDATE:20220327T020000
TZOFFSETFROM:+0100
TZOFFSETTO:+0000
TZNAME:Atlantic/Canary WET
END:STANDARD
BEGIN:STANDARD
DTSTART:20221030T010000
RDATE:20230326T020000
TZOFFSETFROM:+0100
TZOFFSETTO:+0000
TZNAME:Atlantic/Canary WET
END:STANDARD
BEGIN:STANDARD
DTSTART:20231029T010000
RDATE:20240331T020000
TZOFFSETFROM:+0100
TZOFFSETTO:+0000
TZNAME:Atlantic/Canary WET
END:STANDARD
BEGIN:DAYLIGHT
DTSTART:20211012T200000
RDATE:20211031T010000
TZOFFSETFROM:+0000
TZOFFSETTO:+0100
TZNAME:Atlantic/Canary WEST
END:DAYLIGHT
BEGIN:DAYLIGHT
DTSTART:20220327T020000
RDATE:20221030T010000
TZOFFSETFROM:+0000
TZOFFSETTO:+0100
TZNAME:Atlantic/Canary WEST
END:DAYLIGHT
BEGIN:DAYLIGHT
DTSTART:20230326T020000
RDATE:20231029T010000
TZOFFSETFROM:+0000
TZOFFSETTO:+0100
TZNAME:Atlantic/Canary WEST
END:DAYLIGHT
END:VTIMEZONE
BEGIN:VEVENT
UID:644c9e8f3444c46a8ac09af21331156a
CATEGORIES:Música
CREATED:20220926T121803
SUMMARY:El Genio - Toñín Corujo
LOCATION:Teatro Guiniguada
DESCRIPTION;ENCODING=QUOTED-PRINTABLE:\n\nEl genio, un disco producido por la Fundaci&oacute;n C&eacute;sar Manri
 que, contiene once canciones inspiradas en la figura y obra del artista&nbs
 p;C&eacute;sar Manrique. En las melod&iacute;as subyacen rasgos de la m&uac
 ute;sica popular insular que las hace reconocibles al p&uacute;blico aut&oa
 cute;ctono, pero con un tratamiento arm&oacute;nico universal.\n\n\nEsta s&
 oacute;lida formaci&oacute;n consta de cuatro m&uacute;sicos de corte ecl&e
 acute;ctico provenientes de estilos tan variados como la m&uacute;sica popu
 lar, el Jazz, el heavy metal o el funk, que se une para viajar por caminos 
 sonoros poco transitados que despiertan en el p&uacute;blico emociones inte
 nsas e inesperadas.\n\n\n+ Info: Teatro Guiniguada\n\n
DTSTAMP:20260420T094821Z
DTSTART;TZID=Atlantic/Canary:20221013T200000
SEQUENCE:0
TRANSP:OPAQUE
END:VEVENT
END:VCALENDAR