BEGIN:VCALENDAR
VERSION:2.0
PRODID:-//jEvents 2.0 for Joomla//EN
CALSCALE:GREGORIAN
METHOD:PUBLISH
BEGIN:VTIMEZONE
TZID:Atlantic/Canary
BEGIN:STANDARD
DTSTART:20181028T010000
RDATE:20190331T020000
TZOFFSETFROM:+0100
TZOFFSETTO:+0000
TZNAME:Atlantic/Canary WET
END:STANDARD
BEGIN:STANDARD
DTSTART:20191027T010000
RDATE:20200329T020000
TZOFFSETFROM:+0100
TZOFFSETTO:+0000
TZNAME:Atlantic/Canary WET
END:STANDARD
BEGIN:STANDARD
DTSTART:20201025T010000
RDATE:20210328T020000
TZOFFSETFROM:+0100
TZOFFSETTO:+0000
TZNAME:Atlantic/Canary WET
END:STANDARD
BEGIN:STANDARD
DTSTART:20211031T010000
RDATE:20220327T020000
TZOFFSETFROM:+0100
TZOFFSETTO:+0000
TZNAME:Atlantic/Canary WET
END:STANDARD
BEGIN:STANDARD
DTSTART:20221030T010000
RDATE:20230326T020000
TZOFFSETFROM:+0100
TZOFFSETTO:+0000
TZNAME:Atlantic/Canary WET
END:STANDARD
BEGIN:STANDARD
DTSTART:20231029T010000
RDATE:20240331T020000
TZOFFSETFROM:+0100
TZOFFSETTO:+0000
TZNAME:Atlantic/Canary WET
END:STANDARD
BEGIN:DAYLIGHT
DTSTART:20180521T190000
RDATE:20181028T010000
TZOFFSETFROM:+0000
TZOFFSETTO:+0100
TZNAME:Atlantic/Canary WEST
END:DAYLIGHT
BEGIN:DAYLIGHT
DTSTART:20190331T020000
RDATE:20191027T010000
TZOFFSETFROM:+0000
TZOFFSETTO:+0100
TZNAME:Atlantic/Canary WEST
END:DAYLIGHT
BEGIN:DAYLIGHT
DTSTART:20200329T020000
RDATE:20201025T010000
TZOFFSETFROM:+0000
TZOFFSETTO:+0100
TZNAME:Atlantic/Canary WEST
END:DAYLIGHT
BEGIN:DAYLIGHT
DTSTART:20210328T020000
RDATE:20211031T010000
TZOFFSETFROM:+0000
TZOFFSETTO:+0100
TZNAME:Atlantic/Canary WEST
END:DAYLIGHT
BEGIN:DAYLIGHT
DTSTART:20220327T020000
RDATE:20221030T010000
TZOFFSETFROM:+0000
TZOFFSETTO:+0100
TZNAME:Atlantic/Canary WEST
END:DAYLIGHT
BEGIN:DAYLIGHT
DTSTART:20230326T020000
RDATE:20231029T010000
TZOFFSETFROM:+0000
TZOFFSETTO:+0100
TZNAME:Atlantic/Canary WEST
END:DAYLIGHT
END:VTIMEZONE
BEGIN:VEVENT
UID:7e1b1044cc4d4c65d6c6d03bd32317f3
CATEGORIES:Audiovisuales / Cine
CREATED:20190512T112907
SUMMARY:El Documental del Mes: 'Time Trial' 
LOCATION:Teatro Guiniguada
DESCRIPTION;ENCODING=QUOTED-PRINTABLE:<p>&ldquo;Time Trial&rdquo; (carrera a contrarreloj) nos acerca a las &uacu
 te;ltimas carreras del ciclista escoc&eacute;s David Millar retirado en 201
 4.</p><p>David Millar era un reputado ciclista escoc&eacute;s que compr&oac
 ute; su primera bicicleta cuando ten&iacute;a 15 a&ntilde;os y cuando cumpl
 i&oacute; los 18 se fue a vivir a Francia. En 1997, le ofrecieron liderar u
 no de los equipos franceses m&aacute;s importantes, el Cofidis, con el cual
  gan&oacute; 3 etapas del Tour de Francia, 5 de La Vuelta a Espa&ntilde;a y
  1 del Giro de Italia, hasta que recibi&oacute; una suspensi&oacute;n por d
 opaje en 2004.</p><p><strong>+ Info: <a href="http://www.gobiernodecanarias
 .org/cultura/filmotecacanaria/" target="_blank" rel="noopener noreferrer">F
 ilmoteca Canaria</a></strong></p>
DTSTAMP:20260423T203854Z
DTSTART;TZID=Atlantic/Canary:20190522T190000
SEQUENCE:0
TRANSP:OPAQUE
END:VEVENT
END:VCALENDAR