BEGIN:VCALENDAR
VERSION:2.0
PRODID:-//jEvents 2.0 for Joomla//EN
CALSCALE:GREGORIAN
METHOD:PUBLISH
BEGIN:VTIMEZONE
TZID:Atlantic/Canary
BEGIN:STANDARD
DTSTART:20180321T000000
RDATE:20180325T020000
TZOFFSETFROM:+0100
TZOFFSETTO:+0000
TZNAME:Atlantic/Canary WET
END:STANDARD
BEGIN:STANDARD
DTSTART:20181028T010000
RDATE:20190331T020000
TZOFFSETFROM:+0100
TZOFFSETTO:+0000
TZNAME:Atlantic/Canary WET
END:STANDARD
BEGIN:STANDARD
DTSTART:20191027T010000
RDATE:20200329T020000
TZOFFSETFROM:+0100
TZOFFSETTO:+0000
TZNAME:Atlantic/Canary WET
END:STANDARD
BEGIN:STANDARD
DTSTART:20201025T010000
RDATE:20210328T020000
TZOFFSETFROM:+0100
TZOFFSETTO:+0000
TZNAME:Atlantic/Canary WET
END:STANDARD
BEGIN:STANDARD
DTSTART:20211031T010000
RDATE:20220327T020000
TZOFFSETFROM:+0100
TZOFFSETTO:+0000
TZNAME:Atlantic/Canary WET
END:STANDARD
BEGIN:STANDARD
DTSTART:20221030T010000
RDATE:20230326T020000
TZOFFSETFROM:+0100
TZOFFSETTO:+0000
TZNAME:Atlantic/Canary WET
END:STANDARD
BEGIN:STANDARD
DTSTART:20231029T010000
RDATE:20240331T020000
TZOFFSETFROM:+0100
TZOFFSETTO:+0000
TZNAME:Atlantic/Canary WET
END:STANDARD
BEGIN:DAYLIGHT
DTSTART:20180325T020000
RDATE:20181028T010000
TZOFFSETFROM:+0000
TZOFFSETTO:+0100
TZNAME:Atlantic/Canary WEST
END:DAYLIGHT
BEGIN:DAYLIGHT
DTSTART:20190331T020000
RDATE:20191027T010000
TZOFFSETFROM:+0000
TZOFFSETTO:+0100
TZNAME:Atlantic/Canary WEST
END:DAYLIGHT
BEGIN:DAYLIGHT
DTSTART:20200329T020000
RDATE:20201025T010000
TZOFFSETFROM:+0000
TZOFFSETTO:+0100
TZNAME:Atlantic/Canary WEST
END:DAYLIGHT
BEGIN:DAYLIGHT
DTSTART:20210328T020000
RDATE:20211031T010000
TZOFFSETFROM:+0000
TZOFFSETTO:+0100
TZNAME:Atlantic/Canary WEST
END:DAYLIGHT
BEGIN:DAYLIGHT
DTSTART:20220327T020000
RDATE:20221030T010000
TZOFFSETFROM:+0000
TZOFFSETTO:+0100
TZNAME:Atlantic/Canary WEST
END:DAYLIGHT
BEGIN:DAYLIGHT
DTSTART:20230326T020000
RDATE:20231029T010000
TZOFFSETFROM:+0000
TZOFFSETTO:+0100
TZNAME:Atlantic/Canary WEST
END:DAYLIGHT
END:VTIMEZONE
BEGIN:VEVENT
UID:b3fd686e02cc5624ff9992991f4310db
CATEGORIES:Exposiciones / Museos
CREATED:20190523T231341
SUMMARY:'Welcome her', de Yapci Ramos
LOCATION:Casa África
DESCRIPTION;ENCODING=QUOTED-PRINTABLE:<p>La exposici&oacute;n&nbsp;<strong><em>Welcome Her</em></strong>&nbsp;pon
 e de manifiesto el fuerte v&iacute;nculo que Yapci Ramos mantiene con el co
 ntinente africano, pero adem&aacute;s muestra su capacidad de observaci&oac
 ute;n para comprender el territorio, el espacio y la naturaleza, en proceso
 s creativos marcados por la apertura a lo nuevo y la aceptaci&oacute;n y bi
 envenida de lo que acontece de forma inesperada.</p><p>El acceso es gratuit
 o&nbsp;y puede visitarse de lunes a viernes en horario de 9 a 18 h.</p><p>+
  Info: <a href="http://www.casafrica.es/agenda_europa_africa.jsp?DS28.PROID
 =907022" target="_blank" rel="noopener noreferrer">Casa &Aacute;frica</a></
 p>
DTSTAMP:20260423T161456Z
DTSTART;TZID=Atlantic/Canary;VALUE=DATE:20190322
DTEND;TZID=Atlantic/Canary;VALUE=DATE:20190815
SEQUENCE:0
TRANSP:OPAQUE
END:VEVENT
END:VCALENDAR