BEGIN:VCALENDAR
VERSION:2.0
PRODID:-//jEvents 2.0 for Joomla//EN
CALSCALE:GREGORIAN
METHOD:PUBLISH
BEGIN:VTIMEZONE
TZID:Atlantic/Canary
BEGIN:STANDARD
DTSTART:20181028T010000
RDATE:20190331T020000
TZOFFSETFROM:+0100
TZOFFSETTO:+0000
TZNAME:Atlantic/Canary WET
END:STANDARD
BEGIN:STANDARD
DTSTART:20191027T010000
RDATE:20200329T020000
TZOFFSETFROM:+0100
TZOFFSETTO:+0000
TZNAME:Atlantic/Canary WET
END:STANDARD
BEGIN:STANDARD
DTSTART:20201025T010000
RDATE:20210328T020000
TZOFFSETFROM:+0100
TZOFFSETTO:+0000
TZNAME:Atlantic/Canary WET
END:STANDARD
BEGIN:STANDARD
DTSTART:20211031T010000
RDATE:20220327T020000
TZOFFSETFROM:+0100
TZOFFSETTO:+0000
TZNAME:Atlantic/Canary WET
END:STANDARD
BEGIN:STANDARD
DTSTART:20221030T010000
RDATE:20230326T020000
TZOFFSETFROM:+0100
TZOFFSETTO:+0000
TZNAME:Atlantic/Canary WET
END:STANDARD
BEGIN:STANDARD
DTSTART:20231029T010000
RDATE:20240331T020000
TZOFFSETFROM:+0100
TZOFFSETTO:+0000
TZNAME:Atlantic/Canary WET
END:STANDARD
BEGIN:DAYLIGHT
DTSTART:20180705T203000
RDATE:20181028T010000
TZOFFSETFROM:+0000
TZOFFSETTO:+0100
TZNAME:Atlantic/Canary WEST
END:DAYLIGHT
BEGIN:DAYLIGHT
DTSTART:20190331T020000
RDATE:20191027T010000
TZOFFSETFROM:+0000
TZOFFSETTO:+0100
TZNAME:Atlantic/Canary WEST
END:DAYLIGHT
BEGIN:DAYLIGHT
DTSTART:20200329T020000
RDATE:20201025T010000
TZOFFSETFROM:+0000
TZOFFSETTO:+0100
TZNAME:Atlantic/Canary WEST
END:DAYLIGHT
BEGIN:DAYLIGHT
DTSTART:20210328T020000
RDATE:20211031T010000
TZOFFSETFROM:+0000
TZOFFSETTO:+0100
TZNAME:Atlantic/Canary WEST
END:DAYLIGHT
BEGIN:DAYLIGHT
DTSTART:20220327T020000
RDATE:20221030T010000
TZOFFSETFROM:+0000
TZOFFSETTO:+0100
TZNAME:Atlantic/Canary WEST
END:DAYLIGHT
BEGIN:DAYLIGHT
DTSTART:20230326T020000
RDATE:20231029T010000
TZOFFSETFROM:+0000
TZOFFSETTO:+0100
TZNAME:Atlantic/Canary WEST
END:DAYLIGHT
END:VTIMEZONE
BEGIN:VEVENT
UID:618b1f9441f9db3698a3646ade99df2e
CATEGORIES:Música
CREATED:20190706T132651
SUMMARY:CONCIERTO FINAL - IV CONCURSO NACIONAL DE JÓVENES INTÉRPRETES
LOCATION:Auditorio Alfredo Kraus
DESCRIPTION;ENCODING=QUOTED-PRINTABLE:<p><strong>La Banda Sinf&oacute;nica Municipal de las Palmas de Gran Canari
 a</strong>&nbsp;organiza por cuarto a&ntilde;o consecutivo este concurso qu
 e pretende impulsar a los j&oacute;venes talentos de la m&uacute;sica de nu
 estro pa&iacute;s.</p><p>El&nbsp;<strong>concierto final</strong>&nbsp;cons
 ta de una primera parte en donde seis finalistas que han superado las fases
  previas mostrar&aacute;n su talento regal&aacute;ndonos la frescura interp
 retativa y la ilusi&oacute;n que transmiten en sus interpretaciones. En la 
 segunda parte, pre&aacute;mbulo a la decisi&oacute;n del jurado, podremos d
 isfrutar este a&ntilde;o de la magia del que es probablemente el mejor int&
 eacute;rprete de arm&oacute;nica crom&aacute;tica del mundo, Antonio Serran
 o. Conocido por haber introducido este instrumento en el flamenco, este tal
 entoso int&eacute;rprete form&oacute; parte de la banda de Paco de Luc&iacu
 te;a durante 10 a&ntilde;os.&nbsp;Y compartiendo escenario en este gran con
 cierto final del concurso nos acompa&ntilde;ar&aacute; el gran m&uacute;sic
 o Andreas Prittwitz. Clarinetista , flautista y saxofonista, un verdadero v
 irtuoso, habitual en las grandes producciones de Miguel R&iacute;os, V&iacu
 te;ctor Manuel y Ana Bel&eacute;n, Joaquin Sabina y un largo etc&eacute;ter
 a de grandes artistas.</p><p><strong>+ Info:&nbsp;<a href="https://www.audi
 torioteatrolaspalmasgc.es/auditorioalfredokraus/es/evento.php?op=1&amp;n=11
 37" target="_blank" rel="noopener noreferrer">Auditorio Alfredo Kraus</a></
 strong></p>
DTSTAMP:20260423T223638Z
DTSTART;TZID=Atlantic/Canary:20190706T203000
SEQUENCE:0
TRANSP:OPAQUE
END:VEVENT
END:VCALENDAR