BEGIN:VCALENDAR
VERSION:2.0
PRODID:-//jEvents 2.0 for Joomla//EN
CALSCALE:GREGORIAN
METHOD:PUBLISH
BEGIN:VTIMEZONE
TZID:Atlantic/Canary
BEGIN:STANDARD
DTSTART:20181028T010000
RDATE:20190331T020000
TZOFFSETFROM:+0100
TZOFFSETTO:+0000
TZNAME:Atlantic/Canary WET
END:STANDARD
BEGIN:STANDARD
DTSTART:20191027T010000
RDATE:20200329T020000
TZOFFSETFROM:+0100
TZOFFSETTO:+0000
TZNAME:Atlantic/Canary WET
END:STANDARD
BEGIN:STANDARD
DTSTART:20201025T010000
RDATE:20210328T020000
TZOFFSETFROM:+0100
TZOFFSETTO:+0000
TZNAME:Atlantic/Canary WET
END:STANDARD
BEGIN:STANDARD
DTSTART:20211031T010000
RDATE:20220327T020000
TZOFFSETFROM:+0100
TZOFFSETTO:+0000
TZNAME:Atlantic/Canary WET
END:STANDARD
BEGIN:STANDARD
DTSTART:20221030T010000
RDATE:20230326T020000
TZOFFSETFROM:+0100
TZOFFSETTO:+0000
TZNAME:Atlantic/Canary WET
END:STANDARD
BEGIN:STANDARD
DTSTART:20231029T010000
RDATE:20240331T020000
TZOFFSETFROM:+0100
TZOFFSETTO:+0000
TZNAME:Atlantic/Canary WET
END:STANDARD
BEGIN:DAYLIGHT
DTSTART:20180711T203000
RDATE:20181028T010000
TZOFFSETFROM:+0000
TZOFFSETTO:+0100
TZNAME:Atlantic/Canary WEST
END:DAYLIGHT
BEGIN:DAYLIGHT
DTSTART:20190331T020000
RDATE:20191027T010000
TZOFFSETFROM:+0000
TZOFFSETTO:+0100
TZNAME:Atlantic/Canary WEST
END:DAYLIGHT
BEGIN:DAYLIGHT
DTSTART:20200329T020000
RDATE:20201025T010000
TZOFFSETFROM:+0000
TZOFFSETTO:+0100
TZNAME:Atlantic/Canary WEST
END:DAYLIGHT
BEGIN:DAYLIGHT
DTSTART:20210328T020000
RDATE:20211031T010000
TZOFFSETFROM:+0000
TZOFFSETTO:+0100
TZNAME:Atlantic/Canary WEST
END:DAYLIGHT
BEGIN:DAYLIGHT
DTSTART:20220327T020000
RDATE:20221030T010000
TZOFFSETFROM:+0000
TZOFFSETTO:+0100
TZNAME:Atlantic/Canary WEST
END:DAYLIGHT
BEGIN:DAYLIGHT
DTSTART:20230326T020000
RDATE:20231029T010000
TZOFFSETFROM:+0000
TZOFFSETTO:+0100
TZNAME:Atlantic/Canary WEST
END:DAYLIGHT
END:VTIMEZONE
BEGIN:VEVENT
UID:a633116ffe1857a1d71458f2da63e4e1
CATEGORIES:Música
CREATED:20190706T132918
SUMMARY:MARQUIS HILL BLACKTET |  XXVIII Festival Internacional Canarias Jazz & Más Heineken
LOCATION:Auditorio Alfredo Kraus
DESCRIPTION;ENCODING=QUOTED-PRINTABLE:\n\nEn sus inicios&nbsp;Marquis Hill&nbsp;fue considerado como uno de los t
 rompetistas j&oacute;venes m&aacute;s emocionantes de Chicago. Hoy en d&iac
 ute;a este m&uacute;sico, compositor y director de orquesta de renombre int
 ernacional ha logrado romper las barreras que dividen los g&eacute;neros mu
 sicales. Jazz contempor&aacute;neo y cl&aacute;sico, hip-hop, R&amp; B, Chi
 cago house, neo-soul&hellip;, para Hill todos son elementos esenciales de l
 a profunda herencia creativa afroamericana de la que forma parte. &ldquo;To
 do viene del mismo &aacute;rbol&rdquo;, dice. &ldquo;Simplemente floreciero
 n de diferentes ramas&rdquo;.\n\n\nEsa misi&oacute;n de unir estilos, compl
 ementada por el dominio absoluto de Hill sobre su instrumento, es una l&iac
 ute;nea que explica sus muchos logros. Se puede escuchar en su &uacute;ltim
 o &aacute;lbum,&nbsp;Modern Flows Vol. II, con su perfecta combinaci&oacute
 ;n de jazz, ritmos imbuidos de hip-hop y palabras habladas con conciencia s
 ocial. Es parte integral de&nbsp;The Way We Play, su debut en&nbsp;Concord 
 Jazz&nbsp;en 2016, donde Hill y sus m&uacute;sicos reinventan los est&aacut
 e;ndares de jazz utilizando las amplias influencias de su generaci&oacute;n
 . Marca los cuatro discos que Hill lanz&oacute; por su cuenta antes de novi
 embre de 2014, cuando gan&oacute; el concurso&nbsp;Thelonious Monk Institut
 e of Jazz&nbsp;y se convirti&oacute; en figura esencial pr&aacute;cticament
 e de la noche a la ma&ntilde;ana. Y define las fechas reveladoras en vivo d
 el antiguo grupo de trabajo de Hill, Blacktet, que el&nbsp;Chicago Tribune&
 nbsp;defini&oacute; como &ldquo;un conjunto incre&iacute;blemente pulido e 
 inmensamente atractivo&rdquo;.\n\n\nA lo largo de su trayectoria, ha apoyad
 o e invitado a sus conciertos a Marcus Miller, Dee Dee Bridgewater, Boney J
 ames, Kurt Elling, Joe Lovano y su ya colaboradora habitual Makaya McCraven
 . Hoy en d&iacute;a, Hill mantiene un programa de giras sin escalas con Bla
 cktet.\n\n\n+ Info:&nbsp;Auditorio Alfredo Kraus&nbsp;y&nbsp;Festival Inter
 nacional Canarias Jazz &amp; M&aacute;s Heineken\n
DTSTAMP:20260423T224142Z
DTSTART;TZID=Atlantic/Canary:20190712T203000
DTEND;TZID=Atlantic/Canary:20190712T214500
SEQUENCE:0
TRANSP:OPAQUE
END:VEVENT
END:VCALENDAR