BEGIN:VCALENDAR
VERSION:2.0
PRODID:-//jEvents 2.0 for Joomla//EN
CALSCALE:GREGORIAN
METHOD:PUBLISH
BEGIN:VTIMEZONE
TZID:Atlantic/Canary
BEGIN:STANDARD
DTSTART:20181028T010000
RDATE:20190331T020000
TZOFFSETFROM:+0100
TZOFFSETTO:+0000
TZNAME:Atlantic/Canary WET
END:STANDARD
BEGIN:STANDARD
DTSTART:20191027T010000
RDATE:20200329T020000
TZOFFSETFROM:+0100
TZOFFSETTO:+0000
TZNAME:Atlantic/Canary WET
END:STANDARD
BEGIN:STANDARD
DTSTART:20201025T010000
RDATE:20210328T020000
TZOFFSETFROM:+0100
TZOFFSETTO:+0000
TZNAME:Atlantic/Canary WET
END:STANDARD
BEGIN:STANDARD
DTSTART:20211031T010000
RDATE:20220327T020000
TZOFFSETFROM:+0100
TZOFFSETTO:+0000
TZNAME:Atlantic/Canary WET
END:STANDARD
BEGIN:STANDARD
DTSTART:20221030T010000
RDATE:20230326T020000
TZOFFSETFROM:+0100
TZOFFSETTO:+0000
TZNAME:Atlantic/Canary WET
END:STANDARD
BEGIN:STANDARD
DTSTART:20231029T010000
RDATE:20240331T020000
TZOFFSETFROM:+0100
TZOFFSETTO:+0000
TZNAME:Atlantic/Canary WET
END:STANDARD
BEGIN:DAYLIGHT
DTSTART:20180712T220000
RDATE:20181028T010000
TZOFFSETFROM:+0000
TZOFFSETTO:+0100
TZNAME:Atlantic/Canary WEST
END:DAYLIGHT
BEGIN:DAYLIGHT
DTSTART:20190331T020000
RDATE:20191027T010000
TZOFFSETFROM:+0000
TZOFFSETTO:+0100
TZNAME:Atlantic/Canary WEST
END:DAYLIGHT
BEGIN:DAYLIGHT
DTSTART:20200329T020000
RDATE:20201025T010000
TZOFFSETFROM:+0000
TZOFFSETTO:+0100
TZNAME:Atlantic/Canary WEST
END:DAYLIGHT
BEGIN:DAYLIGHT
DTSTART:20210328T020000
RDATE:20211031T010000
TZOFFSETFROM:+0000
TZOFFSETTO:+0100
TZNAME:Atlantic/Canary WEST
END:DAYLIGHT
BEGIN:DAYLIGHT
DTSTART:20220327T020000
RDATE:20221030T010000
TZOFFSETFROM:+0000
TZOFFSETTO:+0100
TZNAME:Atlantic/Canary WEST
END:DAYLIGHT
BEGIN:DAYLIGHT
DTSTART:20230326T020000
RDATE:20231029T010000
TZOFFSETFROM:+0000
TZOFFSETTO:+0100
TZNAME:Atlantic/Canary WEST
END:DAYLIGHT
END:VTIMEZONE
BEGIN:VEVENT
UID:c838d660b3df65223f444c2660dfe141
CATEGORIES:Música
CREATED:20190711T142114
SUMMARY:ORQUESTA FILARMÓNICA DE GRAN CANARIA, «AIRES GITANOS»
LOCATION:Terminal de Contenedores del Muelle de La Luz
DESCRIPTION;ENCODING=QUOTED-PRINTABLE:<p>La Orquesta Filarm&oacute;nica de Gran Canaria y su director art&iacute;
 stico y titular Karel Mark Chichon vuelven al Festival de Teatro, M&uacute;
 sica y Danza con&nbsp;<em><strong>Aires gitanos</strong></em>, un programa 
 que tendr&aacute; como solista a Sergej Krylov, violinista ruso que har&aac
 ute; brillar a su instrumento en algunas de las p&aacute;ginas m&aacute;s e
 mblem&aacute;ticas compuestas por el virtuoso del viol&iacute;n por antonom
 asia, Pablo Sarasate:&nbsp;<em>Aires gitanos</em>&nbsp;y la&nbsp;<em>Fantas
 &iacute;a sobre Carmen</em>, toque espa&ntilde;ol y gitano en una propuesta
  que incluye dos p&aacute;ginas gitanas de Johann Strauss II, las&nbsp;<em>
 Cs&aacute;rd&aacute;s</em>&nbsp;de la opereta&nbsp;<em>El murci&eacute;lago
 </em>&nbsp;y la&nbsp;<em>Obertura de El bar&oacute;n gitano</em>. A ellas s
 e suma la famosa&nbsp;<em>Obertura de Caballer&iacute;a ligera</em>, de Fra
 nz von Supp&eacute;, en homenaje al 200 aniversario de este compositor de o
 rigen austroh&uacute;ngaro tan popular en los teatros vieneses del siglo XI
 X. El concierto concluir&aacute; con la vista puesta en los ritmos de Latin
 oam&eacute;rica a trav&eacute;s de dos piezas que no necesitan presentaci&o
 acute;n, el tango&nbsp;<em>Por una cabeza</em>, de Carlos Gardel, y el&nbsp
 ;<em>Mambo</em>, de P&eacute;rez Prado.</p><p>&nbsp;</p><p><strong>+ Info:&
 nbsp;<a href="http://lpatemudasfest.com/es/programa-2019" target="_blank" r
 el="noopener noreferrer">23er&nbsp;Festival de Teatro, M&uacute;sica y Danz
 a TEMUDAS&nbsp;</a></strong></p><div class="row-fluid">&nbsp;</div>
DTSTAMP:20260424T024701Z
DTSTART;TZID=Atlantic/Canary:20190713T220000
SEQUENCE:0
TRANSP:OPAQUE
END:VEVENT
END:VCALENDAR