BEGIN:VCALENDAR
VERSION:2.0
PRODID:-//jEvents 2.0 for Joomla//EN
CALSCALE:GREGORIAN
METHOD:PUBLISH
BEGIN:VTIMEZONE
TZID:Atlantic/Canary
BEGIN:STANDARD
DTSTART:20181028T010000
RDATE:20190331T020000
TZOFFSETFROM:+0100
TZOFFSETTO:+0000
TZNAME:Atlantic/Canary WET
END:STANDARD
BEGIN:STANDARD
DTSTART:20191027T010000
RDATE:20200329T020000
TZOFFSETFROM:+0100
TZOFFSETTO:+0000
TZNAME:Atlantic/Canary WET
END:STANDARD
BEGIN:STANDARD
DTSTART:20201025T010000
RDATE:20210328T020000
TZOFFSETFROM:+0100
TZOFFSETTO:+0000
TZNAME:Atlantic/Canary WET
END:STANDARD
BEGIN:STANDARD
DTSTART:20211031T010000
RDATE:20220327T020000
TZOFFSETFROM:+0100
TZOFFSETTO:+0000
TZNAME:Atlantic/Canary WET
END:STANDARD
BEGIN:STANDARD
DTSTART:20221030T010000
RDATE:20230326T020000
TZOFFSETFROM:+0100
TZOFFSETTO:+0000
TZNAME:Atlantic/Canary WET
END:STANDARD
BEGIN:STANDARD
DTSTART:20231029T010000
RDATE:20240331T020000
TZOFFSETFROM:+0100
TZOFFSETTO:+0000
TZNAME:Atlantic/Canary WET
END:STANDARD
BEGIN:DAYLIGHT
DTSTART:20180723T203000
RDATE:20181028T010000
TZOFFSETFROM:+0000
TZOFFSETTO:+0100
TZNAME:Atlantic/Canary WEST
END:DAYLIGHT
BEGIN:DAYLIGHT
DTSTART:20190331T020000
RDATE:20191027T010000
TZOFFSETFROM:+0000
TZOFFSETTO:+0100
TZNAME:Atlantic/Canary WEST
END:DAYLIGHT
BEGIN:DAYLIGHT
DTSTART:20200329T020000
RDATE:20201025T010000
TZOFFSETFROM:+0000
TZOFFSETTO:+0100
TZNAME:Atlantic/Canary WEST
END:DAYLIGHT
BEGIN:DAYLIGHT
DTSTART:20210328T020000
RDATE:20211031T010000
TZOFFSETFROM:+0000
TZOFFSETTO:+0100
TZNAME:Atlantic/Canary WEST
END:DAYLIGHT
BEGIN:DAYLIGHT
DTSTART:20220327T020000
RDATE:20221030T010000
TZOFFSETFROM:+0000
TZOFFSETTO:+0100
TZNAME:Atlantic/Canary WEST
END:DAYLIGHT
BEGIN:DAYLIGHT
DTSTART:20230326T020000
RDATE:20231029T010000
TZOFFSETFROM:+0000
TZOFFSETTO:+0100
TZNAME:Atlantic/Canary WEST
END:DAYLIGHT
END:VTIMEZONE
BEGIN:VEVENT
UID:6d39d6a132abb75b4b9e84d719f2da6d
CATEGORIES:Artes escénicas / Danza
CREATED:20190711T143321
SUMMARY:«THE BLACK BLUES BROTHERS»
LOCATION:Plaza de Santa Ana
DESCRIPTION;ENCODING=QUOTED-PRINTABLE:\n\nEl mito eterno del&nbsp;blues, la energ&iacute;a africana y el ritmo de
  los inmortales Blues Brothers se integran en un espect&aacute;culo acrob&a
 acute;tico protagonizado por un grupo de keniatas. A caballo entre el circo
  y la comedia musical, la fuerza del&nbsp;Rithm and Blues&nbsp;marcar&aacut
 e; el trabajo de los acr&oacute;batas y dar&aacute; paso a momentos hilaran
 tes compartidos con el p&uacute;blico.\n\n\nLa propuesta esc&eacute;nica re
 cupera el ambiente nost&aacute;lgico de la Norteam&eacute;rica de las prime
 ras d&eacute;cadas del siglo XX y proyecta ese esp&iacute;ritu en un espect
 &aacute;culo divertido y brillante en la ejecuci&oacute;n de saltos mortale
 s, pir&aacute;mides humanas y figuras de teatro f&iacute;sico extremo.\n\n\
 n+ Info:&nbsp;23er&nbsp;Festival de Teatro, M&uacute;sica y Danza TEMUDAS&n
 bsp;\n
DTSTAMP:20260423T224122Z
DTSTART;TZID=Atlantic/Canary:20190724T203000
SEQUENCE:0
TRANSP:OPAQUE
END:VEVENT
END:VCALENDAR