BEGIN:VCALENDAR
VERSION:2.0
PRODID:-//jEvents 2.0 for Joomla//EN
CALSCALE:GREGORIAN
METHOD:PUBLISH
BEGIN:VTIMEZONE
TZID:Atlantic/Canary
BEGIN:STANDARD
DTSTART:20181028T010000
RDATE:20190331T020000
TZOFFSETFROM:+0100
TZOFFSETTO:+0000
TZNAME:Atlantic/Canary WET
END:STANDARD
BEGIN:STANDARD
DTSTART:20191027T010000
RDATE:20200329T020000
TZOFFSETFROM:+0100
TZOFFSETTO:+0000
TZNAME:Atlantic/Canary WET
END:STANDARD
BEGIN:STANDARD
DTSTART:20201025T010000
RDATE:20210328T020000
TZOFFSETFROM:+0100
TZOFFSETTO:+0000
TZNAME:Atlantic/Canary WET
END:STANDARD
BEGIN:STANDARD
DTSTART:20211031T010000
RDATE:20220327T020000
TZOFFSETFROM:+0100
TZOFFSETTO:+0000
TZNAME:Atlantic/Canary WET
END:STANDARD
BEGIN:STANDARD
DTSTART:20221030T010000
RDATE:20230326T020000
TZOFFSETFROM:+0100
TZOFFSETTO:+0000
TZNAME:Atlantic/Canary WET
END:STANDARD
BEGIN:STANDARD
DTSTART:20231029T010000
RDATE:20240331T020000
TZOFFSETFROM:+0100
TZOFFSETTO:+0000
TZNAME:Atlantic/Canary WET
END:STANDARD
BEGIN:DAYLIGHT
DTSTART:20180725T200000
RDATE:20181028T010000
TZOFFSETFROM:+0000
TZOFFSETTO:+0100
TZNAME:Atlantic/Canary WEST
END:DAYLIGHT
BEGIN:DAYLIGHT
DTSTART:20190331T020000
RDATE:20191027T010000
TZOFFSETFROM:+0000
TZOFFSETTO:+0100
TZNAME:Atlantic/Canary WEST
END:DAYLIGHT
BEGIN:DAYLIGHT
DTSTART:20200329T020000
RDATE:20201025T010000
TZOFFSETFROM:+0000
TZOFFSETTO:+0100
TZNAME:Atlantic/Canary WEST
END:DAYLIGHT
BEGIN:DAYLIGHT
DTSTART:20210328T020000
RDATE:20211031T010000
TZOFFSETFROM:+0000
TZOFFSETTO:+0100
TZNAME:Atlantic/Canary WEST
END:DAYLIGHT
BEGIN:DAYLIGHT
DTSTART:20220327T020000
RDATE:20221030T010000
TZOFFSETFROM:+0000
TZOFFSETTO:+0100
TZNAME:Atlantic/Canary WEST
END:DAYLIGHT
BEGIN:DAYLIGHT
DTSTART:20230326T020000
RDATE:20231029T010000
TZOFFSETFROM:+0000
TZOFFSETTO:+0100
TZNAME:Atlantic/Canary WEST
END:DAYLIGHT
END:VTIMEZONE
BEGIN:VEVENT
UID:e6173277ee16378c05ea365eda311702
CATEGORIES:Música, Exposiciones / Museos
CREATED:20190724T102248
SUMMARY:Músicas Paralelas | Aníba Versoterista
LOCATION:CAAM
DESCRIPTION;ENCODING=QUOTED-PRINTABLE:<p>El CAAM presenta el ciclo de conciertos de &lsquo;M&uacute;sicas Paralel
 as&rsquo; que ha venido organizando desde 2011 en el espacio San Mart&iacut
 e;n Centro de Cultura Contempor&aacute;nea, y que a partir de 2018 se desar
 rolla&nbsp;en este centro de arte con grupos de diversos estilos musicales.
 </p><p>An&iacute;ba Versoterista es rapero, poeta, cantautor y repentista. 
 Cuenta con 18 a&ntilde;os de experiencia en el mundo del rap y ha autoprodu
 cido un total de 18 trabajos discogr&aacute;ficos. Desde el rap, la improvi
 saci&oacute;n y la poes&iacute;a, este autor est&aacute; considerado como u
 na especie de juglar del siglo XXI, con letras que mezclan el humor y la re
 flexi&oacute;n.</p><p>En el concierto del &lsquo;M&uacute;sicas Paralelas&r
 squo; actuar&aacute; acompa&ntilde;ado a la guitarra por el cantautor Rub&e
 acute;n Rodr&iacute;guez y har&aacute; un repaso por las diferentes facetas
  y canciones que integran el repertorio de este artista despu&eacute;s de s
 us 18 a&ntilde;os de trayectoria profesional.&nbsp;</p><p><strong>+ Info: <
 a href="http://www.caam.net/pdfs/eventos/NP_Concierto_ANIBA_CAAM.pdf" targe
 t="_blank" rel="noopener noreferrer">CAAM</a></strong></p>
DTSTAMP:20260423T233028Z
DTSTART;TZID=Atlantic/Canary:20190726T200000
SEQUENCE:0
TRANSP:OPAQUE
END:VEVENT
END:VCALENDAR