BEGIN:VCALENDAR
VERSION:2.0
PRODID:-//jEvents 2.0 for Joomla//EN
CALSCALE:GREGORIAN
METHOD:PUBLISH
BEGIN:VTIMEZONE
TZID:Atlantic/Canary
BEGIN:STANDARD
DTSTART:20181028T010000
RDATE:20190331T020000
TZOFFSETFROM:+0100
TZOFFSETTO:+0000
TZNAME:Atlantic/Canary WET
END:STANDARD
BEGIN:STANDARD
DTSTART:20191027T010000
RDATE:20200329T020000
TZOFFSETFROM:+0100
TZOFFSETTO:+0000
TZNAME:Atlantic/Canary WET
END:STANDARD
BEGIN:STANDARD
DTSTART:20201025T010000
RDATE:20210328T020000
TZOFFSETFROM:+0100
TZOFFSETTO:+0000
TZNAME:Atlantic/Canary WET
END:STANDARD
BEGIN:STANDARD
DTSTART:20211031T010000
RDATE:20220327T020000
TZOFFSETFROM:+0100
TZOFFSETTO:+0000
TZNAME:Atlantic/Canary WET
END:STANDARD
BEGIN:STANDARD
DTSTART:20221030T010000
RDATE:20230326T020000
TZOFFSETFROM:+0100
TZOFFSETTO:+0000
TZNAME:Atlantic/Canary WET
END:STANDARD
BEGIN:STANDARD
DTSTART:20231029T010000
RDATE:20240331T020000
TZOFFSETFROM:+0100
TZOFFSETTO:+0000
TZNAME:Atlantic/Canary WET
END:STANDARD
BEGIN:DAYLIGHT
DTSTART:20180722T000000
RDATE:20181028T010000
TZOFFSETFROM:+0000
TZOFFSETTO:+0100
TZNAME:Atlantic/Canary WEST
END:DAYLIGHT
BEGIN:DAYLIGHT
DTSTART:20190331T020000
RDATE:20191027T010000
TZOFFSETFROM:+0000
TZOFFSETTO:+0100
TZNAME:Atlantic/Canary WEST
END:DAYLIGHT
BEGIN:DAYLIGHT
DTSTART:20200329T020000
RDATE:20201025T010000
TZOFFSETFROM:+0000
TZOFFSETTO:+0100
TZNAME:Atlantic/Canary WEST
END:DAYLIGHT
BEGIN:DAYLIGHT
DTSTART:20210328T020000
RDATE:20211031T010000
TZOFFSETFROM:+0000
TZOFFSETTO:+0100
TZNAME:Atlantic/Canary WEST
END:DAYLIGHT
BEGIN:DAYLIGHT
DTSTART:20220327T020000
RDATE:20221030T010000
TZOFFSETFROM:+0000
TZOFFSETTO:+0100
TZNAME:Atlantic/Canary WEST
END:DAYLIGHT
BEGIN:DAYLIGHT
DTSTART:20230326T020000
RDATE:20231029T010000
TZOFFSETFROM:+0000
TZOFFSETTO:+0100
TZNAME:Atlantic/Canary WEST
END:DAYLIGHT
END:VTIMEZONE
BEGIN:VEVENT
UID:173284572eaa4d7173422e11188b050e
CATEGORIES:Exposiciones / Museos
CREATED:20190805T110914
SUMMARY:Exposición "Valbanera, 100 años en la memoria"
LOCATION:Museo Elder
DESCRIPTION;ENCODING=QUOTED-PRINTABLE:\n\nLa exposici&oacute;n &laquo;Valbanera, 100 a&ntilde;os en la memoria&ra
 quo;, iniciativa puesta en marcha por la Asociaci&oacute;n Cultural Salsipu
 edes, en colaboraci&oacute;n con Accomar, re&uacute;ne, a partir del 23 de 
 julio, en el Museo Elder de la Ciencia y la Tecnolog&iacute;a, documentos i
 n&eacute;ditos, equipajes, testimonios e historias relatadas por los famili
 ares de las v&iacute;ctimas, as&iacute; como la descripci&oacute;n del barc
 o, las condiciones del viaje, la traves&iacute;a y el misterio del naufragi
 o.\n\n\nLa muestra, &ldquo;una colecci&oacute;n de sentimientos&rdquo; seg&
 uacute;n sus comisarios, permanecer&aacute; abierta hasta el 18 de enero de
  2020.\n\n\nAcompa&ntilde;ar&aacute; la exposici&oacute;n un programa de ac
 tos, cuyo comit&eacute; organizador est&aacute; conformado por el Ayuntamie
 nto de Las Palmas de Gran Canaria, Ayuntamiento de Arucas, y el Gobierno de
  Canarias, a trav&eacute;s de la Fundaci&oacute;n Museo Elder.&nbsp;\n\n\n\
 n\n\n+ Info:&nbsp;Museo Elder de la Ciencia y la Tecnolog&iacute;a\n
DTSTAMP:20260423T224527Z
DTSTART;TZID=Atlantic/Canary;VALUE=DATE:20190723
DTEND;TZID=Atlantic/Canary;VALUE=DATE:20200119
SEQUENCE:0
TRANSP:OPAQUE
END:VEVENT
END:VCALENDAR