BEGIN:VCALENDAR
VERSION:2.0
PRODID:-//jEvents 2.0 for Joomla//EN
CALSCALE:GREGORIAN
METHOD:PUBLISH
BEGIN:VTIMEZONE
TZID:Atlantic/Canary
BEGIN:STANDARD
DTSTART:20181028T010000
RDATE:20190331T020000
TZOFFSETFROM:+0100
TZOFFSETTO:+0000
TZNAME:Atlantic/Canary WET
END:STANDARD
BEGIN:STANDARD
DTSTART:20191027T010000
RDATE:20200329T020000
TZOFFSETFROM:+0100
TZOFFSETTO:+0000
TZNAME:Atlantic/Canary WET
END:STANDARD
BEGIN:STANDARD
DTSTART:20201025T010000
RDATE:20210328T020000
TZOFFSETFROM:+0100
TZOFFSETTO:+0000
TZNAME:Atlantic/Canary WET
END:STANDARD
BEGIN:STANDARD
DTSTART:20211031T010000
RDATE:20220327T020000
TZOFFSETFROM:+0100
TZOFFSETTO:+0000
TZNAME:Atlantic/Canary WET
END:STANDARD
BEGIN:STANDARD
DTSTART:20221030T010000
RDATE:20230326T020000
TZOFFSETFROM:+0100
TZOFFSETTO:+0000
TZNAME:Atlantic/Canary WET
END:STANDARD
BEGIN:STANDARD
DTSTART:20231029T010000
RDATE:20240331T020000
TZOFFSETFROM:+0100
TZOFFSETTO:+0000
TZNAME:Atlantic/Canary WET
END:STANDARD
BEGIN:DAYLIGHT
DTSTART:20180808T180000
RDATE:20181028T010000
TZOFFSETFROM:+0000
TZOFFSETTO:+0100
TZNAME:Atlantic/Canary WEST
END:DAYLIGHT
BEGIN:DAYLIGHT
DTSTART:20190331T020000
RDATE:20191027T010000
TZOFFSETFROM:+0000
TZOFFSETTO:+0100
TZNAME:Atlantic/Canary WEST
END:DAYLIGHT
BEGIN:DAYLIGHT
DTSTART:20200329T020000
RDATE:20201025T010000
TZOFFSETFROM:+0000
TZOFFSETTO:+0100
TZNAME:Atlantic/Canary WEST
END:DAYLIGHT
BEGIN:DAYLIGHT
DTSTART:20210328T020000
RDATE:20211031T010000
TZOFFSETFROM:+0000
TZOFFSETTO:+0100
TZNAME:Atlantic/Canary WEST
END:DAYLIGHT
BEGIN:DAYLIGHT
DTSTART:20220327T020000
RDATE:20221030T010000
TZOFFSETFROM:+0000
TZOFFSETTO:+0100
TZNAME:Atlantic/Canary WEST
END:DAYLIGHT
BEGIN:DAYLIGHT
DTSTART:20230326T020000
RDATE:20231029T010000
TZOFFSETFROM:+0000
TZOFFSETTO:+0100
TZNAME:Atlantic/Canary WEST
END:DAYLIGHT
END:VTIMEZONE
BEGIN:VEVENT
UID:7242290d2041467d9a5808bac718e1c2
CATEGORIES:DEFAULT
CREATED:19700101T000000
SUMMARY:Tardes de lectura y manualidades para los más pequeños.
LOCATION:Biblioteca Josefina de La Torre\nPlaza Alcalde Fernando Ortiz Wiot (Plaza d
 e Churruca). Paseo de Las Canteras\nLas Palmas de Gran Canaria\nLas Palmas\
 n35010\nEspaña\n928 276 371\nhttp://www.facebook.com/LpaBibliotecas
DESCRIPTION;ENCODING=QUOTED-PRINTABLE:<p><span class="_5mfr"><span class="_6qdm">?</span></span>La Biblioteca Mun
 icipal Josefina de la Torre programa tardes de lectura y manualidades para 
 los m&aacute;s peque&ntilde;os.</p><p><span class="_5mfr"><span class="_6qd
 m">?</span></span>&nbsp;Ovejitas, cocodrilos, topos, gatos y alguna que otr
 a ratita presumida se colar&aacute;n todos los viernes de agosto, a partir 
 de las 18.00 horas, en la biblioteca del Paseo de Las Canteras.</p><p>Cinco
  sesiones que correr&aacute;n a cargo de las animadoras Leyda Torrent Navar
 ro, Urimare y Fabiola Santana.</p><p><strong>+ Info: <a href="https://www.f
 acebook.com/LpaCultura/" target="_blank" rel="noopener noreferrer">LPA Cult
 ura</a></strong></p>
DTSTAMP:20260424T001517Z
DTSTART;TZID=Atlantic/Canary:20190809T180000
SEQUENCE:0
RRULE:FREQ=WEEKLY;UNTIL=20190810T000000Z;INTERVAL=1;BYDAY=FR
TRANSP:OPAQUE
END:VEVENT
END:VCALENDAR