BEGIN:VCALENDAR
VERSION:2.0
PRODID:-//jEvents 2.0 for Joomla//EN
CALSCALE:GREGORIAN
METHOD:PUBLISH
BEGIN:VTIMEZONE
TZID:Atlantic/Canary
BEGIN:STANDARD
DTSTART:20181028T010000
RDATE:20190331T020000
TZOFFSETFROM:+0100
TZOFFSETTO:+0000
TZNAME:Atlantic/Canary WET
END:STANDARD
BEGIN:STANDARD
DTSTART:20191027T010000
RDATE:20200329T020000
TZOFFSETFROM:+0100
TZOFFSETTO:+0000
TZNAME:Atlantic/Canary WET
END:STANDARD
BEGIN:STANDARD
DTSTART:20201025T010000
RDATE:20210328T020000
TZOFFSETFROM:+0100
TZOFFSETTO:+0000
TZNAME:Atlantic/Canary WET
END:STANDARD
BEGIN:STANDARD
DTSTART:20211031T010000
RDATE:20220327T020000
TZOFFSETFROM:+0100
TZOFFSETTO:+0000
TZNAME:Atlantic/Canary WET
END:STANDARD
BEGIN:STANDARD
DTSTART:20221030T010000
RDATE:20230326T020000
TZOFFSETFROM:+0100
TZOFFSETTO:+0000
TZNAME:Atlantic/Canary WET
END:STANDARD
BEGIN:STANDARD
DTSTART:20231029T010000
RDATE:20240331T020000
TZOFFSETFROM:+0100
TZOFFSETTO:+0000
TZNAME:Atlantic/Canary WET
END:STANDARD
BEGIN:DAYLIGHT
DTSTART:20180902T000000
RDATE:20181028T010000
TZOFFSETFROM:+0000
TZOFFSETTO:+0100
TZNAME:Atlantic/Canary WEST
END:DAYLIGHT
BEGIN:DAYLIGHT
DTSTART:20190331T020000
RDATE:20191027T010000
TZOFFSETFROM:+0000
TZOFFSETTO:+0100
TZNAME:Atlantic/Canary WEST
END:DAYLIGHT
BEGIN:DAYLIGHT
DTSTART:20200329T020000
RDATE:20201025T010000
TZOFFSETFROM:+0000
TZOFFSETTO:+0100
TZNAME:Atlantic/Canary WEST
END:DAYLIGHT
BEGIN:DAYLIGHT
DTSTART:20210328T020000
RDATE:20211031T010000
TZOFFSETFROM:+0000
TZOFFSETTO:+0100
TZNAME:Atlantic/Canary WEST
END:DAYLIGHT
BEGIN:DAYLIGHT
DTSTART:20220327T020000
RDATE:20221030T010000
TZOFFSETFROM:+0000
TZOFFSETTO:+0100
TZNAME:Atlantic/Canary WEST
END:DAYLIGHT
BEGIN:DAYLIGHT
DTSTART:20230326T020000
RDATE:20231029T010000
TZOFFSETFROM:+0000
TZOFFSETTO:+0100
TZNAME:Atlantic/Canary WEST
END:DAYLIGHT
END:VTIMEZONE
BEGIN:VEVENT
UID:9b8926844632ea0fde9e35bdfb790fbf
CATEGORIES:Actividades de Formación 
CREATED:20190903T142828
SUMMARY:Taller de fotografía 'Pensar, sentir, estar en la ciudad'
LOCATION:CAAM
DESCRIPTION;ENCODING=QUOTED-PRINTABLE:\n\nMartes 3 a viernes 6 de septiembre, de 17:00 a 21:00 h.\nTaller de foto
 graf&iacute;a &lsquo;Pensar, sentir, estar en la ciudad. Estrategias fotogr
 &aacute;ficas para simbolizar lo cotidiano&rsquo;\nDirector: Rafael Arocha.
 \n\n\nEl taller, de 15 horas de duraci&oacute;n, tendr&aacute; un car&aacut
 e;cter eminentemente pr&aacute;ctico y participativo.\n\n\nLas primeras dos
  jornadas son sesiones te&oacute;ricas donde tras presentaciones generales 
 y primeras din&aacute;micas sobre el proceso creativo, se desarrollan conce
 ptos fundamentales de la b&uacute;squeda fotogr&aacute;fica.\n\n\nDurante l
 as tres sesiones finales el taller es totalmente pr&aacute;ctico y particip
 ativo. Por un lado se alternan pr&aacute;cticas que dotan al participante d
 e mecanismos de trabajo con los que potenciar la observaci&oacute;n, la per
 spectiva y el punto de vista y, por otro, se trabaja en equipo para constru
 ir un relato fotogr&aacute;fico colectivo.\n\n\nLas personas que deseen par
 ticipar deber&aacute;n contar con nivel medio o alto en conocimientos en fo
 tograf&iacute;a y reunir una serie de requisitos, como tener autonom&iacute
 ;a en el manejo de la c&aacute;mara; disponer de c&aacute;mara fotogr&aacut
 e;fica propia; contar con tiempo para el trabajo fotogr&aacute;fico fuera d
 e las jornadas lectivas y una actitud din&aacute;mica y activa.\n\n\n+ Info
 : CAAM\n
DTSTAMP:20260424T014937Z
DTSTART;TZID=Atlantic/Canary;VALUE=DATE:20190903
DTEND;TZID=Atlantic/Canary;VALUE=DATE:20190907
SEQUENCE:0
TRANSP:OPAQUE
END:VEVENT
END:VCALENDAR