BEGIN:VCALENDAR
VERSION:2.0
PRODID:-//jEvents 2.0 for Joomla//EN
CALSCALE:GREGORIAN
METHOD:PUBLISH
BEGIN:VTIMEZONE
TZID:Atlantic/Canary
BEGIN:STANDARD
DTSTART:20181028T010000
RDATE:20190331T020000
TZOFFSETFROM:+0100
TZOFFSETTO:+0000
TZNAME:Atlantic/Canary WET
END:STANDARD
BEGIN:STANDARD
DTSTART:20191027T010000
RDATE:20200329T020000
TZOFFSETFROM:+0100
TZOFFSETTO:+0000
TZNAME:Atlantic/Canary WET
END:STANDARD
BEGIN:STANDARD
DTSTART:20201025T010000
RDATE:20210328T020000
TZOFFSETFROM:+0100
TZOFFSETTO:+0000
TZNAME:Atlantic/Canary WET
END:STANDARD
BEGIN:STANDARD
DTSTART:20211031T010000
RDATE:20220327T020000
TZOFFSETFROM:+0100
TZOFFSETTO:+0000
TZNAME:Atlantic/Canary WET
END:STANDARD
BEGIN:STANDARD
DTSTART:20221030T010000
RDATE:20230326T020000
TZOFFSETFROM:+0100
TZOFFSETTO:+0000
TZNAME:Atlantic/Canary WET
END:STANDARD
BEGIN:STANDARD
DTSTART:20231029T010000
RDATE:20240331T020000
TZOFFSETFROM:+0100
TZOFFSETTO:+0000
TZNAME:Atlantic/Canary WET
END:STANDARD
BEGIN:DAYLIGHT
DTSTART:20180918T190000
RDATE:20181028T010000
TZOFFSETFROM:+0000
TZOFFSETTO:+0100
TZNAME:Atlantic/Canary WEST
END:DAYLIGHT
BEGIN:DAYLIGHT
DTSTART:20190331T020000
RDATE:20191027T010000
TZOFFSETFROM:+0000
TZOFFSETTO:+0100
TZNAME:Atlantic/Canary WEST
END:DAYLIGHT
BEGIN:DAYLIGHT
DTSTART:20200329T020000
RDATE:20201025T010000
TZOFFSETFROM:+0000
TZOFFSETTO:+0100
TZNAME:Atlantic/Canary WEST
END:DAYLIGHT
BEGIN:DAYLIGHT
DTSTART:20210328T020000
RDATE:20211031T010000
TZOFFSETFROM:+0000
TZOFFSETTO:+0100
TZNAME:Atlantic/Canary WEST
END:DAYLIGHT
BEGIN:DAYLIGHT
DTSTART:20220327T020000
RDATE:20221030T010000
TZOFFSETFROM:+0000
TZOFFSETTO:+0100
TZNAME:Atlantic/Canary WEST
END:DAYLIGHT
BEGIN:DAYLIGHT
DTSTART:20230326T020000
RDATE:20231029T010000
TZOFFSETFROM:+0000
TZOFFSETTO:+0100
TZNAME:Atlantic/Canary WEST
END:DAYLIGHT
END:VTIMEZONE
BEGIN:VEVENT
UID:5899f6d0ea547db99e446200ce06c9a5
CATEGORIES:Encuentros / Conferencias
CREATED:20190903T144903
SUMMARY:DIGITAL GENERATION. Charla 'Feminismo en redes'
LOCATION:CCA Gran Canaria. Centro de cultura audiovisual
DESCRIPTION;ENCODING=QUOTED-PRINTABLE:<p>A trav&eacute;s de charlas y talleres participativos relacionados con&nb
 sp; el&nbsp; mundo audiovisual y con una perspectiva feminista, se&nbsp; an
 aliza la complejidad de nuestro tiempo gracias a una propuesta alternativa 
 e ir&oacute;nica que nos acerca a la a la reflexi&oacute;n contempor&aacute
 ;nea. En la sociedad, el arte y la reflexi&oacute;n en torno a &eacute;l, s
 uele estar estigmatizado y se aleja del consumo habitual por su componente 
 elitista a veces, cargado de mensajes no descifrables por el p&uacute;blico
  general.</p><p>Estos encuentros pretenden acercar el arte relacionada al m
 undo audiovisual al p&uacute;blico general, para crear sinergias y debates 
 que apoyen las iniciativas art&iacute;sticas y profesionales de la comunida
 d creativa.</p><p><strong>19 de septiembre. 19:00 h.</strong><br /><strong>
 Charla &lsquo;Feminismo en redes&rsquo;.</strong><br /><strong>Proyecto Psi
 co Woman: Acercando valores feministas a trav&eacute;s de las TRICS</strong
 >.</p><p><strong>+ Info: <a href="http://www.grancanariadigital.com/" targe
 t="_blank" rel="noopener noreferrer">Gran Canaria Espacio Digital</a></stro
 ng></p>
DTSTAMP:20260424T015111Z
DTSTART;TZID=Atlantic/Canary:20190919T190000
SEQUENCE:0
TRANSP:OPAQUE
END:VEVENT
END:VCALENDAR