BEGIN:VCALENDAR
VERSION:2.0
PRODID:-//jEvents 2.0 for Joomla//EN
CALSCALE:GREGORIAN
METHOD:PUBLISH
BEGIN:VTIMEZONE
TZID:Atlantic/Canary
BEGIN:STANDARD
DTSTART:20181028T010000
RDATE:20190331T020000
TZOFFSETFROM:+0100
TZOFFSETTO:+0000
TZNAME:Atlantic/Canary WET
END:STANDARD
BEGIN:STANDARD
DTSTART:20191027T010000
RDATE:20200329T020000
TZOFFSETFROM:+0100
TZOFFSETTO:+0000
TZNAME:Atlantic/Canary WET
END:STANDARD
BEGIN:STANDARD
DTSTART:20201025T010000
RDATE:20210328T020000
TZOFFSETFROM:+0100
TZOFFSETTO:+0000
TZNAME:Atlantic/Canary WET
END:STANDARD
BEGIN:STANDARD
DTSTART:20211031T010000
RDATE:20220327T020000
TZOFFSETFROM:+0100
TZOFFSETTO:+0000
TZNAME:Atlantic/Canary WET
END:STANDARD
BEGIN:STANDARD
DTSTART:20221030T010000
RDATE:20230326T020000
TZOFFSETFROM:+0100
TZOFFSETTO:+0000
TZNAME:Atlantic/Canary WET
END:STANDARD
BEGIN:STANDARD
DTSTART:20231029T010000
RDATE:20240331T020000
TZOFFSETFROM:+0100
TZOFFSETTO:+0000
TZNAME:Atlantic/Canary WET
END:STANDARD
BEGIN:DAYLIGHT
DTSTART:20180930T190000
RDATE:20181028T010000
TZOFFSETFROM:+0000
TZOFFSETTO:+0100
TZNAME:Atlantic/Canary WEST
END:DAYLIGHT
BEGIN:DAYLIGHT
DTSTART:20190331T020000
RDATE:20191027T010000
TZOFFSETFROM:+0000
TZOFFSETTO:+0100
TZNAME:Atlantic/Canary WEST
END:DAYLIGHT
BEGIN:DAYLIGHT
DTSTART:20200329T020000
RDATE:20201025T010000
TZOFFSETFROM:+0000
TZOFFSETTO:+0100
TZNAME:Atlantic/Canary WEST
END:DAYLIGHT
BEGIN:DAYLIGHT
DTSTART:20210328T020000
RDATE:20211031T010000
TZOFFSETFROM:+0000
TZOFFSETTO:+0100
TZNAME:Atlantic/Canary WEST
END:DAYLIGHT
BEGIN:DAYLIGHT
DTSTART:20220327T020000
RDATE:20221030T010000
TZOFFSETFROM:+0000
TZOFFSETTO:+0100
TZNAME:Atlantic/Canary WEST
END:DAYLIGHT
BEGIN:DAYLIGHT
DTSTART:20230326T020000
RDATE:20231029T010000
TZOFFSETFROM:+0000
TZOFFSETTO:+0100
TZNAME:Atlantic/Canary WEST
END:DAYLIGHT
END:VTIMEZONE
BEGIN:VEVENT
UID:3dd5bfdbf246d61956d426c61f1dbb52
CATEGORIES:Encuentros / Conferencias
CREATED:20190903T145601
SUMMARY:DIGITAL GENERATION. Charla ‘Black mirror cañí. Selfie mi religión!’
LOCATION:CCA Gran Canaria. Centro de cultura audiovisual
DESCRIPTION;ENCODING=QUOTED-PRINTABLE:<p><strong>Charla &lsquo;Black mirror ca&ntilde;&iacute;. Selfie mi religi&
 oacute;n!&rsquo;</strong></p><p>Impartida por Mar&iacute;a Ca&ntilde;as.</p
 ><p>Encuentro experimental inspirador y activador en torno a la videoguerri
 lla, la v&iacute;deo remezcla, y el archivo como patrimonio y dispositivo d
 e creaci&oacute;n cultural colectiva. Un juego en el que re&iacute;r y maqu
 inar a medio camino entre el show audiovisual, la proyecci&oacute;n comenta
 da, la agitaci&oacute;n cultural y la acci&oacute;n pataf&iacute;sica perfo
 rmancera.</p><p>En esta fiesta invitamos a los participantes a disfrutar de
  un recorrido audiovisual en el que agitaremos las im&aacute;genes y sospec
 haremos de ellas, para as&iacute; transformarnos en seres m&aacute;s cr&iac
 ute;ticos y creativos, indagando en los procesos de creaci&oacute;n apropia
 cionista y sumergi&eacute;ndonos en distintos aspectos relacionados con el 
 arte despu&eacute;s de Internet.</p><p>Entrada gratuita. Aforo limitado.</p
 ><p><strong>&nbsp;</strong></p><p><strong>+ Info: <a href="http://www.granc
 anariadigital.com/" target="_blank" rel="noopener noreferrer">Gran Canaria 
 Espacio Digital</a></strong></p>
DTSTAMP:20260424T032252Z
DTSTART;TZID=Atlantic/Canary:20191001T190000
SEQUENCE:0
TRANSP:OPAQUE
END:VEVENT
END:VCALENDAR